Workbook
Name AcroBonus_A_Code: AcroDD!$B$306:$B$344
Name AcroBonus_A_Value: AcroDD!$C$306:$C$344
Name AcroBonus_B_Code: AcroDD!$E$306:$E$344
Name AcroBonus_B_Value: AcroDD!$F$306:$F$344
Name AcroBonus_C_Code: AcroDD!$H$306:$H$344
Name AcroBonus_C_Value: AcroDD!$I$306:$I$344
Name AcroBonus_P_Code: AcroDD!$K$306:$K$344
Name AcroBonus_P_Value: AcroDD!$L$306:$L$344
Name AcroPair_Code: AcroDD!$Q$4:$Q$85
Name AcroPair_Value: AcroDD!$R$4:$R$85
Name Cons_A_Code: AcroDD!$B$4:$B$31
Name Cons_A_Value: AcroDD!$C$4:$C$31
Name Cons_B_Code: AcroDD!$E$4:$E$31
Name Cons_B_Value: AcroDD!$F$4:$F$31
Name Cons_C_Code: AcroDD!$H$4:$H$31
Name Cons_C_Value: AcroDD!$I$4:$I$31
Name Cons_P_Code: AcroDD!$K$4:$K$31
Name Cons_P_Value: AcroDD!$L$4:$L$31
Name Conx_A_Code: AcroDD!$B$38:$B$77
Name Conx_A_Value: AcroDD!$C$38:$C$77
Name Conx_B_Code: AcroDD!$E$38:$E$77
Name Conx_B_Value: AcroDD!$F$38:$F$77
Name Conx_C_Code: AcroDD!$H$38:$H$77
Name Conx_C_Value: AcroDD!$I$38:$I$77
Name Conx_P_Code: AcroDD!$K$38:$K$77
Name Conx_P_Value: AcroDD!$L$38:$L$77
Name Dirx_A_Code: AcroDD!$B$84:$B$101
Name Dirx_A_Value: AcroDD!$C$84:$C$101
Name Dirx_B_Code: AcroDD!$E$84:$E$101
Name Dirx_B_Value: AcroDD!$F$84:$F$101
Name Dirx_C_Code: AcroDD!$H$84:$H$101
Name Dirx_C_Value: AcroDD!$I$84:$I$101
Name Dirx_P_Code: AcroDD!$K$84:$K$101
Name Dirx_P_Value: AcroDD!$L$84:$L$101
Name Hyb_Code: HybridDD!$AK$3:$AK$491
Name Hyb_Family: HybridDD!$A$3:$A$500
Name Hyb_Tech: HybridDD!$AL$3:$AL$491
Name Hyb_Tech_Value: HybridDD!$AM$3:$AM$491
Name Hybrid_ChoHY: 'Coach Card'!$BS$8:$BS$9
Name Hybrid_Mix_Req: HybridDD!$F$3:$F$80
Name Hybrid_Mix_Req_Value: HybridDD!$G$3:$G$80
Name HybridBonus_Code: HybridDD!$D$3:$D$30
Name HybridBonus_Value: HybridDD!$E$3:$E$30
Name HybridDD_Code: HybridDD!$B$3:$B$500
Name HybridDD_Value: HybridDD!$C$3:$C$500
Name Parts_Active: Data!$E$3:$E$11
Name Pos1_A_Code: AcroDD!$C$108:$C$147
Name Pos1_A_Value: AcroDD!$D$108:$D$147
Name Pos1_A_Var: AcroDD!$B$108:$B$147
Name Pos1_B_Code: AcroDD!$G$108:$G$147
Name Pos1_B_Value: AcroDD!$H$108:$H$147
Name Pos1_B_Var: AcroDD!$F$108:$F$147
Name Pos1_C_Code: AcroDD!$K$108:$K$147
Name Pos1_C_Value: AcroDD!$L$108:$L$147
Name Pos1_C_Var: AcroDD!$J$108:$J$147
Name Pos1_P_Code: AcroDD!$O$108:$O$147
Name Pos1_P_Value: AcroDD!$P$108:$P$147
Name Pos1_P_Var: AcroDD!$N$108:$N$147
Name Pos2_A_Code: AcroDD!$C$154:$C$193
Name Pos2_A_Value: AcroDD!$D$154:$D$193

Sheet Instructions
A1: Instructions | K1: Clubs to use on coch card drop down
A3: Coaches instructions | K3: Atlas SF
A4: > Change the logo as you please. Both in the "Coach Card"- and "Print"-sheet. | K4: Göteborg Sim
A5: > Go to the "Coach Card" sheet | K5: Hallsberg Artistic
A6: > Choose if to use "Federation" or "Club" | K6: Järfälla SS
A7: > If "Federation", choose federation name | K7: Jönköpings SS
A8: > If "Club", you can write the name of the club manually on the coach card, or create a drop list of clubs here to the right -->> | K8: Kontsim Amfritrite
A9: > Choose if this CC is for preliminaries, otherwise finals will be default | K9: Kristianstads SLS
A10: > Choose if you use 2026-rules. Otherwise 2027-rules are default. | K10: SK Neptun
A11: > Write the name of the competition | K11: SK Täby Synchro
A12: > Write the name of the Theme for this participant (mandatory for Free Combination!) | K12: Växjö SS
A13: > Choose Age group for this CC | K13: Örebro SA
A14: > Choose Event for this CC
A15: > Write the name of the participant(s)
A17: You will now be able to see how many elements the CC have to have according to WA-rules.
A18: And also how many elements that has been used.
A19: Time for chosen event will also be visable.
A20: > If red - The time limit for the program is incorrect acording to WA-rules.
A21: > Write the end time for the 1st part of the program (Minutes + Secoinds).
A22: > If red - Conflict with WA-rules
A23: > Choose what kind of performance the swimmer will do at this particulary time period.
A24: > If red - Conflict with WA-rules
A26: > Declare what DD(s) this element includes. Only one code per cell. By writing or drop-list.
A27: > If green background - This cell is mandatory for this element
... A47: > If you dont have calculation progran version 2024-20 or later, you have to manually paste (paste as value only!) it yourself (unlock the sheet first).

Sheet Coach Card
G1: COACH CARD
BX2: Base mark | CA2: 12y/Youth safety limits (Team/Combo)
BU3: Acro? | BV3: =IF(COUNTIF(F8,"*Acro*"),"Yes","No") -> No | BX3: 3 | BY3: 0 | CB3: Yo | CM3: 12 | CN3: Active
AO4: v. 9.1 | BU4: Solo? | BV4: =IF(COUNTIF(F8,"*Solo*"),"Yes","No") -> No | BX4: H | BY4: 0.5 | CA4: A | CB4: 2.7 | CM4: 2.5 | CN4: =IF(LEFT($F$7,2)="Yo",CB4,CM4) -> 2.5
K5: =IF(A5="Federation:","Country code:","") | L5: =IFERROR(INDEX(Data!CG1:CG209,MATCH(F5,Data!CF1:CF209,0)),"") | M5: Prelim: | O5: Final: | S5: 2026 rules : | W5: 2027 rules : | X5: X | BU5: Bonus? | BV5: =IF(OR($F$8="Open Team Technical",$F$8="Open Team Free",$F$8="Open Free Combination"),"OK","") | BX5: PA | BY5: 0.1 | CA5: B | CB5: 2.8 | CM5: 2.6 | CN5: =IF(LEFT($F$7,2)="Yo",CB5,CM5) -> 2.6
A6: Competition: | M6: Theme: | BU6: Duet | BV6: =IF(OR(LEFT(F8,10)="Women solo",LEFT(F8,4)="Male"),"",IF(LEFT(F8,10)="Women Duet","D",IF(LEFT(F8,5)="Mixed","D","T"))) -> T | BX6: A | BY6: 0.5 | CA6: C | CB6: 2.8 | CM6: 2.6 | CN6: =IF(LEFT($F$7,2)="Yo",CB6,CM6) -> 2.6
A7: Age group: | G7: =IF(F7<>"","","<-- Choose age group first") -> <-- Choose age group first | K7: =IF(F7<>"","Acrobatic safety limits on (Y/N)?:","") | L7: Y | M7: =IF(OR(LEFT(F7,2)="12",LEFT(F7,2)="Yo"),"X","") | N7: =IF(OR(LEFT(F7,2)="12",LEFT(F7,2)="Yo"),IF(L7="Y","X",""),IF(AND(M8<>"",L8="Y"),"X","")) | BU7: Group 1/2/3/4 | BV7: =IF(OR(LEFT(F7,1)="1",LEFT(F7,1)="Y"),IF(AND($T$5="",LEFT(F7,1)="Y"),3,4),IF(OR(LEFT(F7,1)="J",LEFT(F7,1)="S",LEFT(F7,1)="M"),2,"")) | BX7: B | BY7: 0.5 | CA7: P | CB7: 3 | CM7: 2.8 | CN7: =IF(LEFT($F$7,2)="Yo",CB7,CM7) -> 2.8
A8: Event: | G8: =IF(AND(F8="",F7<>""),"<-- Choose event","") | K8: =IF(F8<>"","Acrobatic safety limits on (Y/N)?:","") | L8: N | M8: =IF(F8<>"",IF(OR(LEFT(F7,2)="12",LEFT(F7,2)="Yo"),"",IF(F7="","",IF(I12>0,"X",""))),"") | BU8: Technical | BV8: =IF(RIGHT(F8,9)="Technical","T",IF(LEFT(F8,1)="F","F",IF(LEFT(F8,1)="A","A",""))) | BX8: C | BY8: 0.5
A9: Name of Competitor(s): | BS9: ChoHY | BU9: =IFERROR(CONCATENATE(F8," / ",F7),"") -> / | BX9: P | BY9: 0.5 | DS9: To many in Team Tech | DT9: =IF(COUNTIF(DQ13:DT13,">1")=0,"No","Yes") -> No
A10: Use EA apnea rule | C10: x | G10: Transition | H10: Technical Required Element | I10: =IF(OR(F8="Women Duet Free",F8="Mixed Duet Free",F8="Women Duet Technical",F8="Mixed Duet Technical"),"Acrobatic - Pair","Acrobatic") -> Acrobatic | J10: Hybrid - Free | K10: Hybrid - Thrust + 2 connections | L10: Hybrid - Solo | M10: Hybrid - Duet | N10: =IF(AND('Coach Card'!$T$5="",RIGHT('Coach Card'!$F$8,11)="Combination"),"Hybrid - Team (must have 4 athl.)","Hybrid - All Team swimmers") -> Hybrid - All Team swimmers | O10: Hybrid - Choreography (DD = 1) | P10: Hybrid - Cadence | Q10: Transition - Surface Connection | DQ10: Acro OK? | DR10: =IF(COUNTIF(DQ13:DT13,0)=0,"Yes","No") -> No | DS10: To many? | DT10: =IF(COUNTIF(DQ13:DT13,">2")=0,"No","Yes") -> No
G11: Trans. | H11: T.R.E. | I11: =IF(OR(F8="Women Duet Free",F8="Mixed Duet Free",F8="Women Duet Technical",F8="Mixed Duet Technical"),"PairAcro","TeamAcro") -> TeamAcro | J11: Hybrid | K11: H.Thrust | L11: H.Solo | M11: H.Duet | N11: H.Team 4 | O11: ChoHy | P11: H.Cadence | Q11: Conn.M | S11: =IF(BV8="T"," Technical Required Element - Check",IF(BV3="Yes",""," Hybrid families minimum - check")) -> Hybrid families minimum - check | Y11: Acrobatic - Check | BU11: Saftey limit | BV11: =IF(OR(BU9="Team Free / 12 and under",BU9="Team Free / Youth 13 - 15"),"Y","N") -> N | DD11: Check | DG11: Check | DQ11: Acro check in Acrobatics and Team Tech | DV11: Check bonus repeat
A12: 1.0000579 | B12: =IFERROR(TIME(0,C14,D14-5),"") | C12: =IFERROR(IF($T$5="",INDEX(Data!F3:F38,MATCH(BU9,Data!G3:G38,0)),INDEX(Data!F53:F88,MATCH(BU9,Data!G53:G88,0))),"") | D12: =IFERROR(TIME(0,C14,D14+5),"") | F12: Elements to use | H12: =IFERROR(IF($T$5="",INDEX(Data!H$3:H$38,MATCH($BU$9,Data!$G$3:$G$38,0)),INDEX(Data!H$53:H$88,MATCH($BU$9,Data!$G$53:$G$88,0))),"") | I12: =IFERROR(IF($T$5="",INDEX(Data!J$3:J$38,MATCH($BU$9,Data!$G$3:$G$38,0)),INDEX(Data!J$53:J$88,MATCH($BU$9,Data!$G$53:$G$88,0))),"") | J12: =IFERROR(IF($T$5="",INDEX(Data!I$3:I$38,MATCH($BU$9,Data!$G$3:$G$38,0)),INDEX(Data!I$53:I$88,MATCH($BU$9,Data!$G$53:$G$88,0))),"") | K12: =IFERROR(IF($T$5="",INDEX(Data!L$3:L$38,MATCH($BU$9,Data!$G$3:$G$38,0)),INDEX(Data!L$53:L$88,MATCH($BU$9,Data!$G$53:$G$88,0))),"") | L12: =IFERROR(IF($T$5="",INDEX(Data!N$3:N$38,MATCH($BU$9,Data!$G$3:$G$38,0)),INDEX(Data!N$53:N$88,MATCH($BU$9,Data!$G$53:$G$88,0))),"") | M12: =IFERROR(IF($T$5="",INDEX(Data!O$3:O$38,MATCH($BU$9,Data!$G$3:$G$38,0)),INDEX(Data!O$53:O$88,MATCH($BU$9,Data!$G$53:$G$88,0))),"") | N12: =IFERROR(IF($T$5="",INDEX(Data!P$3:P$38,MATCH($BU$9,Data!$G$3:$G$38,0)),INDEX(Data!P$53:P$88,MATCH($BU$9,Data!$G$53:$G$88,0))),"") | O12: =IFERROR(IF($T$5="",INDEX(Data!R$3:R$38,MATCH($BU$9,Data!$G$3:$G$38,0)),INDEX(Data!R$53:R$88,MATCH($BU$9,Data!$G$53:$G$88,0))),"") | P12: =IFERROR(IF($T$5="",INDEX(Data!S$3:S$38,MATCH($BU$9,Data!$G$3:$G$38,0)),INDEX(Data!S$53:S$88,MATCH($BU$9,Data!$G$53:$G$88,0))),"") | Q12: =IFERROR(IF($T$5="",INDEX(Data!Q$3:Q$38,MATCH($BU$9,Data!$G$3:$G$38,0)),INDEX(Data!Q$53:Q$88,MATCH($BU$9,Data!$G$53:$G$88,0))),"") | S12: =IF(BV8="T","TRE-1","T") -> T | T12: =IF(BV8="T","TRE-2","S") -> S | U12: =IF(BV8="T","TRE-3","R") -> R | V12: =IF(BV8="T",IF(LEFT(F8,5)="Mixed","","TRE-4"),"F") -> F | W12: =IF(BV8="T",IF(LEFT(F8,5)="Mixed","","TRE-5"),"A") -> A | X12: =IF(AND(BV4="No",BV8<>"T"),"C","") -> C | Y12: A | Z12: B | AA12: C | AB12: P | AW12: Senior | AX12: 0 | BU12: 1 | BV12: =IFERROR(SECOND(BU14-BV14),SECOND(BV14-BU14)) -> #N/A | DD12: {=IFERROR(INDEX($DN$19:$DN$68,MATCH(INDEX($DN$19:$DN$68,(SMALL(IF($DN$19:$DN$68<>"",ROW($DN$19:$DN$68)-ROW($DN$19)+1),1))),$DN$19:$DN$68,0),1),"")} | DE12: =IF(COUNTIF($DD$12:$DD$14,DD12)>1,"X","") -> X | DG12: =DG13 | DH12: =IF(DH13<>"",CONCATENATE("2",DH13),"") | DI12: =DI13 | DJ12: =DJ13 | DK12: =DK13 | DL12: =DL13 | DM12: =DM13 | DN12: =DN13 | DO12: =IF(DO13<>"",CONCATENATE("2",DO13),"") | DQ12: A | DR12: B | DS12: C | DT12: P | DV12: =DV13 | DW12: =DW13 | EI12: To many? | GW12: All families present? | GY12: =IF($F$8="Mixed Duet Technical",IF(COUNTIF(GW14:GY14,""),"No","Yes"),IF(COUNTIF(GW14:HA14,""),"No","Yes")) -> No
B13: =IF(CP17>D12,"Y","") | C13: =IF(OR(CP17<B12,CP17>D12),"Y","") -> Y | F13: Used elements | G13: =COUNTIF($F$19:$F$68,G10) -> 0 | H13: =IF(OR($F$7="",$F$8=""),"",COUNTIF($F$19:$F$68,H10)) | I13: =IF(OR($F$7="",$F$8=""),"",COUNTIF($F$19:$F$68,I10)) | J13: =IF(OR($F$7="",$F$8=""),"",COUNTIF($F$19:$F$68,J10)) | K13: =IF(OR($F$7="",$F$8=""),"",COUNTIF($F$19:$F$68,K10)) | L13: =IF(OR($F$7="",$F$8=""),"",COUNTIF($F$19:$F$68,L10)) | M13: =IF(OR($F$7="",$F$8=""),"",COUNTIF($F$19:$F$68,M10)) | N13: =IF(OR($F$7="",$F$8=""),"",COUNTIF($F$19:$F$68,N10)) | O13: =IF(OR($F$7="",$F$8=""),"",IF(COUNTIF($F$19:$F$68,O10)>1,COUNTIF($F$19:$F$68,O10),COUNTIF($J$19:$J$68,"ChoHy"))) | P13: =IF(OR($F$7="",$F$8=""),"",COUNTIF($F$19:$F$68,P10)) | Q13: =IF(OR($F$7="",$F$8=""),"",COUNTIF($F$19:$F$68,Q10)) | S13: =IF(OR($F$7="",$F$8=""),"",IF($BV$8="T",IF(GW14="X","OK","Not OK"),IF($BV$3="No",IF(GW17>0,"OK","Not OK"),""))) | T13: =IF(OR($F$7="",$F$8=""),"",IF($BV$8="T",IF(GX14="X","OK","Not OK"),IF($BV$3="No",IF(GX17>0,"OK","Not OK"),""))) | U13: =IF(OR($F$7="",$F$8=""),"",IF($BV$8="T",IF(GY14="X","OK","Not OK"),IF($BV$3="No",IF(GY17>0,"OK","Not OK"),""))) | V13: =IF(OR($F$7="",$F$8=""),"",IF($BV$8="T",IF(LEFT(F8,5)="Mixed","",IF(GZ14="X","OK","Not OK")),IF($BV$3="No",IF(GZ17>0,"OK","Not OK"),""))) | W13: =IF(OR($F$7="",$F$8=""),"",IF($BV$8="T",IF(LEFT(F8,5)="Mixed","",IF(HA14="X","OK","Not OK")),IF($BV$3="No",IF(HA17>0,"OK","Not OK"),""))) | X13: =IF(OR($F$7="",$F$8=""),"",IF(AND($BV$3="No",X12<>""),IF(HB17>0,"OK","Not OK"),"")) | Y13: =IF($BV$3="Yes",IF(AND(DQ13>0,DQ13<3),"OK","Not OK"),"") | Z13: =IF($BV$3="Yes",IF(AND(DR13>0,DR13<3),"OK","Not OK"),"") | AA13: =IF($BV$3="Yes",IF(AND(DS13>0,DS13<3),"OK",IF(AND($T$5="",LEFT($F$7,2)="Yo"),"Optional","Not OK")),"") | AB13: =IF($BV$3="Yes",IF(AND(DT13>0,DT13<3),"OK","Not OK"),"") | AN13: Routine total: | AO13: =SUM(AO18:AO68) -> 0 | AW13: Junior | AX13: 0.00028935185 | BV13: =BU14-BV14 -> #N/A | DD13: {=IFERROR(INDEX($DN$19:$DN$68,MATCH(INDEX($DN$19:$DN$68,(SMALL(IF($DN$19:$DN$68<>"",ROW($DN$19:$DN$68)-ROW($DN$19)+1),2))),$DN$19:$DN$68,0),1),"")} | DE13: =IF(COUNTIF($DD$12:$DD$14,DD13)>1,"X","") -> X | DG13: {=IFERROR(INDEX(TeamAcro_A_Pos1,MATCH(TRUE,INDEX((TeamAcro_A_Pos1<>""),),0)),"")} | DH13: {=IFERROR(INDEX(TeamAcro_A_Pos2,MATCH(TRUE,INDEX((TeamAcro_A_Pos2<>""),),0)),"")} | DI13: {=IFERROR(INDEX(TeamAcro_B_Cons,MATCH(TRUE,INDEX((TeamAcro_B_Cons<>""),),0)),"")} | DJ13: {=IFERROR(INDEX(TeamAcro_B_Conx,MATCH(TRUE,INDEX((TeamAcro_B_Conx<>""),),0)),"")} | DK13: {=IFERROR(INDEX(TeamAcro_C_Cons,MATCH(TRUE,INDEX((TeamAcro_C_Cons<>""),),0)),"")} | DL13: {=IFERROR(INDEX(TeamAcro_P_Cons,MATCH(TRUE,INDEX((TeamAcro_P_Cons<>""),),0)),"")} | DM13: {=IFERROR(INDEX(TeamAcro_P_Conx,MATCH(TRUE,INDEX((TeamAcro_P_Conx<>""),),0)),"")} | DN13: {=IFERROR(INDEX(TeamAcro_P_Pos1,MATCH(TRUE,INDEX((TeamAcro_P_Pos1<>""),),0)),"")} | DO13: {=IFERROR(INDEX(TeamAcro_P_Pos2,MATCH(TRUE,INDEX((TeamAcro_P_Pos2<>""),),0)),"")} | DQ13: =COUNTIF($EF$19:$EF$68,"A") -> 0 | DR13: =COUNTIF($EF$19:$EF$68,"B") -> 0 | DS13: =COUNTIF($EF$19:$EF$68,"C") -> 0 | DT13: =COUNTIF($EF$19:$EF$68,"P") -> 0 | DV13: {=IFERROR(INDEX(Team_Acro_P_Chk1,MATCH(TRUE,INDEX((Team_Acro_P_Chk1<>""),),0)),"")} | DW13: {=IFERROR(INDEX(Team_Acro_P_Chk2,MATCH(TRUE,INDEX((Team_Acro_P_Chk2<>""),),0)),"")} | EI13: =IF(COUNTIF(EI19:EI68,"X"),"Yes","") | GW13: TRE-1 | GX13: TRE-2 | GY13: TRE-3 | GZ13: TRE-4 | HA13: TRE-5 | HK13: Construction/Connection check B + P
B14: Total time: | C14: =IFERROR(IF($T$5="",MINUTE(INDEX(Data!$F$3:$F$38,MATCH(BU9,Data!$G$3:$G$38,0))),MINUTE(INDEX(Data!$F$53:$F$88,MATCH(BU9,Data!$G$53:$G$88,0)))),"") | D14: =IFERROR(IF($T$5="",SECOND(INDEX(Data!$F$3:$F$38,MATCH(BU9,Data!$G$3:$G$38,0))),SECOND(INDEX(Data!$F$53:$F$88,MATCH(BU9,Data!$G$53:$G$88,0)))),"") | H14: =IFERROR(IF(H12-H13=0,0,1),0) -> 0 | I14: =IFERROR(IF(I12-I13=0,0,1),0) -> 0 | J14: =IFERROR(IF(J12-J13=0,0,1),0) -> 0 | K14: =IFERROR(IF(K12-K13=0,0,1),0) -> 0 | L14: =IFERROR(IF(L12-L13=0,0,1),0) -> 0 | M14: =IFERROR(IF(M12-M13=0,0,1),0) -> 0 | N14: =IFERROR(IF(N12-N13=0,0,1),0) -> 0 | O14: =IFERROR(IF(O12-O13=0,0,1),0) -> 0 | ... Q14: =IFERROR(IF(Q12-Q13=0,0,1),0) -> 0 | R14: =IF(SUM(H14:Q14)=0,"OK","No") -> OK | AW14: Youth | AX14: 0.00024305556 | BU14: =IF(BV14=INDEX(Data!$F$3:$F$38,MATCH(BU9,Data!$G$3:$G$38,0)),"X",INDEX(Data!$F$3:$F$38,MATCH(BU9,Data!$G$3:$G$38,0))-BU12) -> #N/A | BV14: =INDEX($CP$19:$CP$55,MATCH("x",$E$19:$E$55,0)) -> #N/A | BW14: 0.0024884259 | DD14: {=IFERROR(INDEX($DN$19:$DN$68,MATCH(INDEX($DN$19:$DN$68,(SMALL(IF($DN$19:$DN$68<>"",ROW($DN$19:$DN$68)-ROW($DN$19)+1),3))),$DN$19:$DN$68,0),1),"")} | DE14: =IF(COUNTIF($DD$12:$DD$14,DD14)>1,"X","") -> X | EV14: To many? | GW14: =IF(COUNTIF(TRE_check,RIGHT(GW13,1)),"X","") | GX14: =IF(COUNTIF(TRE_check,RIGHT(GX13,1)),"X","") | GY14: =IF(COUNTIF(TRE_check,RIGHT(GY13,1)),"X","") | GZ14: =IF(COUNTIF(TRE_check,RIGHT(GZ13,1)),"X","") | HA14: =IF(COUNTIF(TRE_check,RIGHT(HA13,1)),"X","")
A15: ELEMENTS IN ORDER OF PERFORMANCE | P15: {=CELL("Address")} -> #N/A | Q15: {=IF(AND(E20<>"PA",LEFT(INDIRECT(CONCATENATE("F",RIGHT(P15,2))),4)="Acro"),"X","")} -> #N/A | AW15: 12 and U | AX15: 0.00024305556 | CO15: =IFERROR(INDEX(Data!T3:T38,MATCH(BU9,Data!G3:G38,0)),"") | CP15: =IFERROR(INDEX(Data!U3:U38,MATCH(BU9,Data!G3:G38,0)),"") | CQ15: 0.0023726852 | DN15: =IF(OR(DD12=DD13,DD12=DD14,DD13=DD14),"Yes","No") -> Yes | DO15: =INDEX($DD$12:$DD$14,MATCH("X",$DE$12:$DE$14,0)) | EI15: {=IFERROR(INDEX(EI20:EI69,MATCH("X",EI20:EI68,0)+1),"")} | FQ15: =IF(OR(COUNTBLANK(FQ19:FQ68)<50,COUNTBLANK(FP19:FP68)<50),"Yes","") | GW15: All families present? | GY15: =IF(COUNTIF(GW17:HB17,0),"No","Yes") -> No
H16: Base Mark or No DD | K16: (Green) = A value has to be inserted | R16: (Gray) = No entry in this cell | X16: (Red) = Something is wrong - check rules | AK16: Color Hybrid families: | AN16: =IF($BV$5="OK","HYBRID BONUS","") | AO16: Total | AW16: APNEA | BI16: Cons_ | BJ16: Conx_ | BK16: Dirx_ | BL16: Pos1_ | BM16: Pos2_ | BN16: RotB_ | BO16: RotP_ | BP16: AcroBonus_ | BQ16: AcroBonus_ | DQ16: Team Acro repeats | FQ16: {=IF($T$5="",_xlfn.LET(_xlpm.t,_xlfn.XLOOKUP(1,ISTEXT(FQ19:FQ58)*(FQ19:FQ58<>""),FQ19:FQ58,""),IFERROR(LEFT(_xlpm.t,FIND("*",_xlpm.t)),_xlpm.t)),"")} | GW16: Amount Hybrid families | HD16: Hyb.Req-check
A17: Time start | C17: Time end | E17: Last (X) | F17: Part | G17: Element number | J17: DECLARED DIFFICULTY | AO17: Sum | AW17: Limit | AX17: =IFERROR(IF(LEFT($F$7,2)="Ju",AX13,IF(LEFT($F$7,2)="Yo",AX14,IF(LEFT($F$7,2)="12",AX15,0))),"") -> 0 | BA17: =COUNTIF(BA19:BA58,"=X") -> 0 | BG17: Correct part? | BI17: Drop down formulas for each DD-cell | CP17: =MAX(CP19:CP68) -> 0 | CQ17: =IF(CP17>D12,"Y","N") -> N | CT17: Acro check | CU17: No choise for this Acro type | DD17: Minimum Declaration Requirements | DK17: Bonus check | DN17: Pair Acro | DQ17: Group A | DS17: Group B | DU17: Group C | DV17: Group P | DZ17: Group A+P | EB17: Group P | EF17: Acrobatic routine | EI17: Hybrid Family | EK17: Hybrid check | FQ17: Hybrid Teqnique | GW17: =SUM(GW19:GW68) -> 0 | GX17: =SUM(GX19:GX68) -> 0 | GY17: =SUM(GY19:GY68) -> 0 | GZ17: =SUM(GZ19:GZ68) -> 0 | HA17: =SUM(HA19:HA68) -> 0 | HB17: =IF(BV4="Yes","",SUM(HB19:HB68)) -> 0 | HG17: 0.00023148148 | HI17: TRE check
A18: Min | B18: Sec | C18: Min | D18: Sec | J18: Cons | K18: Conn | L18: Dir | M18: Pos1 | N18: Pos2 | O18: RotB | P18: RotP | Q18: Bonus1 | R18: Bonus2 | AW18: Element | AX18: Start | AY18: End | AZ18: Time | BA18: EA-violation | BI18: 1 | BJ18: 2 | BK18: 3 | BL18: 4 | BM18: 5 | BN18: 6 | BO18: 7 | BP18: 8 | BQ18: 9 | BR18: 10 | BS18: 11 | BT18: 12 | BU18: 13 | BV18: 14 | BW18: 15 | BX18: 16 | BY18: 17 | BZ18: 18 | CA18: 19 | CB18: 20 | CC18: 21 | CD18: 22 | CE18: 23 | CF18: 24 | CG18: 25 | CH18: 26 | CI18: 27 | CJ18: 28 | CK18: 29 | CL18: 30 | CP18: 0 | CR18: =CQ18/CP17 -> #DIV/0! | CT18: Pos1<>Pos2 | CU18: Cons | CV18: Conx | CW18: Dirx | CX18: Pos1 | CY18: Pos2 | CZ18: RotB | DA18: RotP | DB18: Bon1 | DC18: Bon2 | DD18: Cons | DE18: Conx | DF18: Dirx | DG18: Pos1 | DH18: Pos2 | DI18: RotB | DJ18: RotP | DK18: Bon1 | DL18: Bon2 | DQ18: Pos1 | DR18: Pos2 | DS18: Cons | DT18: Conx | DU18: Cons | DV18: Cons | DW18: Conx | DX18: Pos1 | DY18: Pos2 | DZ18: (Pos1) | EA18: (Pos2) | EB18: Bonus1 | EC18: Bonus2 | ED18: Chk1 | EE18: Chk2 | EF18: Group | EG18: To many | EI18: >5 (>1) | EK18: 1 | EL18: 2 | EM18: 3 | EN18: 4 | EO18: 5 | EP18: 6 | EQ18: 7 | ER18: 8 | ES18: 9 | ET18: 10 | EU18: 11 | EV18: 12 | EW18: 13 | EX18: 14 | EY18: 15 | EZ18: 16 | FA18: 17 | FB18: 18 | FC18: 19 | FD18: 20 | FE18: 21 | FF18: 22 | FG18: 23 | FH18: 24 | FI18: 25 | FJ18: 26 | FK18: 27 | FL18: 28 | FM18: 29 | FN18: 30 | FP18: =IF(T5="",2,3) -> 2 | FQ18: >3 | FR18: 1 | FS18: 2 | FT18: 3 | FU18: 4 | FV18: 5 | FW18: 6 | FX18: 7 | FY18: 8 | FZ18: 9 | GA18: 10 | GB18: 11 | GC18: 12 | GD18: 13 | GE18: 14 | GF18: 15 | GG18: 16 | GH18: 17 | GI18: 18 | GJ18: 19 | GK18: 20 | GL18: 21 | GM18: 22 | GN18: 23 | GO18: 24 | GP18: 25 | GQ18: 26 | GR18: 27 | GS18: 28 | GT18: 29 | GU18: 30 | GW18: T | GX18: S | GY18: R | GZ18: F | HA18: A | HB18: C
A19: =IF(C14="","",0) | B19: =IF(D14="","",0) | G19: =IF(F19<>"",IF(OR(F19="Transition",F19="Transition - Surface Connection"),0,1),"") | H19: =IFERROR(IF(E20="3","",IF(OR(F19="Hybrid - Choreography (DD = 1)",LEFT(F19,5)="Trans"),"No DD",CONCATENATE("BM = ",I20))),"") | AW19: =E20 | AX19: =IF(AY19=0,"",TIME(0,A19,B19)) | AY19: =TIME(0,C19,D19) -> 0 | AZ19: =IFERROR(AY19-AX19,"") | BA19: =IF($AX$17=0,"",IF(AND($C$10<>"",AW19="H",AZ19>$AX$17),"X","")) | BG19: =IFERROR(IF(F19<>"",INDEX(Parts_Active,MATCH(F19,Parts_Active,0)),""),"No") | BI19: =IF($E20="H",IF($F19="Hybrid - Thrust + 2 connections","Hybrid_Mix_Req",IF($F19="Hybrid - Choreography (DD = 1)","Hybrid_ChoHY","HybridDD_Code")),IF($E20=3,"TreDD_Code",IF($E20="PA","AcroPair_Code",IF(LEFT($F19,4)="Acro",CONCATENATE(BI$16,$E20,"_Code"),"Data!$BI$1:$BI$5")))) -> Data!$BI$1:$BI$5 | BJ19: =IF($E20="H",IF($F19="Hybrid - Thrust + 2 connections","Hybrid_Mix_Req",IF($F19="Hybrid - min 4 swimmers (no DD)","Data!$BI$1:$BI$5","HybridDD_Code")),IF($E20=3,"TreDD_Code",IF($E20="PA","AcroPair_Code",IF(LEFT($F19,4)="Acro",CONCATENATE(BJ$16,$E20,"_Code"),"Data!$BI$1:$BI$5")))) -> Data!$BI$1:$BI$5 | BK19: =IF($E20="H",IF($F19="Hybrid - Thrust + 2 connections","Hybrid_Mix_Req",IF($F19="Hybrid - min 4 swimmers (no DD)","Data!$BI$1:$BI$5","HybridDD_Code")),IF($E20=3,"TreDD_Code",IF($E20="PA","AcroPair_Code",IF(LEFT($F19,4)="Acro",CONCATENATE(BK$16,$E20,"_Code"),"Data!$BI$1:$BI$5")))) -> Data!$BI$1:$BI$5 | BL19: =IF($E20="H",IF($F19="Hybrid - Thrust + 2 connections","Hybrid_Mix_Req",IF($F19="Hybrid - min 4 swimmers (no DD)","Data!$BI$1:$BI$5","HybridDD_Code")),IF($E20=3,"TreDD_Code",IF($E20="PA","AcroPair_Code",IF(LEFT($F19,4)="Acro",CONCATENATE(BL$16,$E20,"_Code"),"Data!$BI$1:$BI$5")))) -> Data!$BI$1:$BI$5 | BM19: =IF($E20="H",IF($F19="Hybrid - Thrust + 2 connections","Hybrid_Mix_Req",IF($F19="Hybrid - min 4 swimmers (no DD)","Data!$BI$1:$BI$5","HybridDD_Code")),IF($E20=3,"TreDD_Code",IF($E20="PA","AcroPair_Code",IF(LEFT($F19,4)="Acro",CONCATENATE(BM$16,$E20,"_Code"),"Data!$BI$1:$BI$5")))) -> Data!$BI$1:$BI$5 | BN19: =IF($E20="H",IF($F19="Hybrid - Thrust + 2 connections","Hybrid_Mix_Req",IF($F19="Hybrid - min 4 swimmers (no DD)","Data!$BI$1:$BI$5","HybridDD_Code")),IF($E20=3,"TreDD_Code",IF($E20="PA","AcroPair_Code",IF(LEFT($F19,4)="Acro",CONCATENATE(BN$16,$E20,"_Code"),"Data!$BI$1:$BI$5")))) -> Data!$BI$1:$BI$5 | BO19: =IF($E20="H",IF($F19="Hybrid - Thrust + 2 connections","Hybrid_Mix_Req",IF($F19="Hybrid - min 4 swimmers (no DD)","Data!$BI$1:$BI$5","HybridDD_Code")),IF($E20=3,"TreDD_Code",IF($E20="PA","AcroPair_Code",IF(LEFT($F19,4)="Acro",CONCATENATE(BO$16,$E20,"_Code"),"Data!$BI$1:$BI$5")))) -> Data!$BI$1:$BI$5 | BP19: =IF($E20="H",IF($F19="Hybrid - Thrust + 2 connections","Hybrid_Mix_Req",IF($F19="Hybrid - min 4 swimmers (no DD)","Data!$BI$1:$BI$5","HybridDD_Code")),IF($E20=3,"TreDD_Code",IF($E20="PA","AcroPair_Code",IF(LEFT($F19,4)="Acro",CONCATENATE(BP$16,$E20,"_Code"),"Data!$BI$1:$BI$5")))) -> Data!$BI$1:$BI$5 | BQ19: =IF($E20="H",IF($F19="Hybrid - Thrust + 2 connections","Hybrid_Mix_Req",IF($F19="Hybrid - min 4 swimmers (no DD)","Data!$BI$1:$BI$5","HybridDD_Code")),IF($E20=3,"TreDD_Code",IF($E20="PA","AcroPair_Code",IF(LEFT($F19,4)="Acro",CONCATENATE(BQ$16,$E20,"_Code"),"Data!$BI$1:$BI$5")))) -> Data!$BI$1:$BI$5 | BR19: =IF($E20="H",IF($F19="Hybrid - Thrust + 2 connections","Data!$BI$1:$BI$5","HybridDD_Code"),"Data!$BI$1:$BI$5") -> Data!$BI$1:$BI$5 | BS19: =$BR19 -> Data!$BI$1:$BI$5 | BT19: =$BR19 -> Data!$BI$1:$BI$5 | BU19: =$BR19 -> Data!$BI$1:$BI$5 | BV19: =$BR19 -> Data!$BI$1:$BI$5 | BW19: =$BR19 -> Data!$BI$1:$BI$5 | BX19: =$BR19 -> Data!$BI$1:$BI$5 | BY19: =$BR19 -> Data!$BI$1:$BI$5 | BZ19: =$BR19 -> Data!$BI$1:$BI$5 | ... CL19: =$BR19 -> Data!$BI$1:$BI$5 | CO19: =TIME(0,A19,B19) -> #VALUE! | CP19: =TIME(0,C19,D19) -> 0 | CQ19: =IF(CP19>$D$12,"X","") | CR19: =IF(AND(F19="Hybrid - Thrust + 2 connections",OR(LEFT(J19,1)="T",LEFT(K19,1)="T",LEFT(L19,1)="T",LEFT(PB19,1)="T",LEFT(M19,1)="T",LEFT(N19,1)="T",LEFT(O19,1)="T",LEFT(P19,1)="T",LEFT(Q19,1)="T",LEFT(R19,1)="T",LEFT(S19,1)="T",LEFT(T19,1)="T",LEFT(U19,1)="T",LEFT(V19,1)="T",LEFT(W19,1)="T",LEFT(X19,1)="T",LEFT(AK19,1)="T",LEFT(AL19,1)="T",LEFT(AM19,1)="T")),IF(OR(LEN(J19)=2,LEN(K19)=2,LEN(L19)=2,LEN(M19)=2,LEN(N19)=2,LEN(O19)=2,LEN(P19)=2,LEN(Q19)=2,LEN(R19)=2,LEN(S19)=2,LEN(T19)=2,LEN(U19)=2,LEN(V19)=2,LEN(W19)=2,LEN(X19)=2,LEN(Y19)=2,LEN(Z19)=2,LEN(AK19)=2,LEN(AL19)=2,LEN(AM19)=2),"X",""),"") | CT19: =IF(LEFT(F19,4)="Acro",IF(AND(N19<>"",M19=RIGHT(N19,2)),"X","OK"),"") | CU19: =IFERROR(IF(AND(LEFT($F19,4)="Acro",INDEX(Requ_App,MATCH(BI19,Requ_Code,0))="No"),"X",""),"") | CV19: =IFERROR(IF(AND(LEFT($F19,4)="Acro",INDEX(Requ_App,MATCH(BJ19,Requ_Code,0))="No"),"X",""),"") | CW19: =IFERROR(IF(AND(LEFT($F19,4)="Acro",INDEX(Requ_App,MATCH(BK19,Requ_Code,0))="No"),"X",""),"") | CX19: =IFERROR(IF(AND(LEFT($F19,4)="Acro",INDEX(Requ_App,MATCH(BL19,Requ_Code,0))="No"),"X",""),"") | CY19: =IFERROR(IF(AND(LEFT($F19,4)="Acro",INDEX(Requ_App,MATCH(BM19,Requ_Code,0))="No"),"X",""),"") | CZ19: =IFERROR(IF(AND(LEFT($F19,4)="Acro",INDEX(Requ_App,MATCH(BN19,Requ_Code,0))="No"),"X",""),"") | DA19: =IFERROR(IF(AND(LEFT($F19,4)="Acro",INDEX(Requ_App,MATCH(BO19,Requ_Code,0))="No"),"X",""),"") | DB19: =IFERROR(IF(AND(LEFT($F19,4)="Acro",INDEX(Requ_App,MATCH(BP19,Requ_Code,0))="No"),"X",""),"") | DC19: =IFERROR(IF(AND(LEFT($F19,4)="Acro",INDEX(Requ_App,MATCH(BP19,Requ_Code,0))="No"),"X",""),"") | DD19: =IF(OR($E20="A",$E20="B",$E20="C",$E20="P"),"Z","") | DE19: =IF(OR($E20="B",$E20="P"),"Z","") | DF19: =IF(OR($E20="A",$E20="C"),"Z","") | DG19: =IF(OR($E20="A",$E20="B",$E20="C",$E20="P"),"Z","") | DK19: =IF(AND(E20="A",OR(Q19="Grip",Q19="Conn",Q19="Catch")),"A1",IF(AND(E20="A",OR(Q19="Hula",Q19="RetSq",Q19="RetPa")),"A2",IF(AND(E20="B",OR(Q19="Twirl",Q19="RotF")),"B1",IF(AND(E20="B",OR(Q19="Moon",Q19="Mov",Q19="Hold")),"B2",IF(AND(E20="P",OR(Q19="Porp",Q19="Splch")),"P1",IF(AND(E20="P",OR(Q19="Diva",Q19="Stand")),"P2",IF(AND(E20="P",OR(Q19="Spider",Q19="Climb")),"P3",IF(AND(E20="P",OR(Q19="Fall",Q19="FTurn")),"P4",IF(AND(E20="C",OR(Q19="Ju",Q19="1P>H",Q19="H>1P",Q19="Jump",Q19="Jump>",Q19="On1Foot",Q19="1F>1F",Q19="1F>1F+",Q19="2F>2F")),"C1",IF(AND(E20="C",OR(Q19="Run",Q19="BRun")),"C2",1)))))))))) -> 1 | DL19: =IF(AND(E20="A",OR(R19="Grip",R19="Conn",R19="Catch")),"A1",IF(AND(E20="A",OR(R19="Hula",R19="RetSq",R19="RetPa")),"A2",IF(AND(E20="B",OR(R19="Twirl",R19="RotF")),"B1",IF(AND(E20="B",OR(R19="Moon",R19="Mov",R19="Hold")),"B2",IF(AND(E20="P",OR(R19="Porp",R19="Spich")),"P1",IF(AND(E20="P",OR(R19="Diva",R19="Stand")),"P2",IF(AND(E20="P",OR(R19="Spider",R19="Climb")),"P3",IF(AND(E20="P",OR(R19="Fall",R19="FTurn")),"P4",IF(AND(E20="C",OR(R19="Ju",R19="1P>H",R19="H>1P",R19="Jump",R19="Jump>",R19="On1Foot",R19="1F>1F",R19="1F>1F+",R19="2F>2F")),"C1",IF(AND(E20="C",OR(R19="Run",R19="BRun")),"C2",2)))))))))) -> 2 | DM19: =IF(AND(N19="",OR(Q19<>"",R19<>"")),"X",IF(AND(LEFT(F19,4)="Acro",Q19<>"",OR(Q19=R19,DK19=DL19)),IF(R19="C-Roll","","X"),IF(OR(AND(E20="A",Q19="Catch",R19<>"Dbl"),AND(E20="A",R19="Catch",Q19<>"Dbl")),"X",""))) | DN19: =IF(E20="PA",J19,"") | DO19: 1 | DQ19: =IF(AND($E20="A",COUNTIF($DZ$19:$EA$68,DZ19)>1),DZ19,"") | DR19: =IF(AND($E20="A",COUNTIF($DZ$19:$EA$68,EA19)>1),EA19,"") | DS19: =IF(AND($E20="B",COUNTIF($J$19:$J$68,J19)>1),J19,"") | DT19: =IF(AND($E20="B",COUNTIF($K$19:$K$68,K19)>1),K19,"") | DU19: =IF(AND($E20="C",COUNTIF($J$19:$J$68,J19)>1),J19,"") | DV19: =IF(AND($E20="P",COUNTIF($J$19:$J$68,J19)>1),J19,"") | DW19: =IF(AND($E20="P",COUNTIF($K$19:$K$68,K19)>1),K19,"") | DX19: =IF(AND($E20="P",COUNTIF($DZ$19:$EA$68,DZ19)>1),DZ19,"") | DY19: =IF(AND($E20="P",COUNTIF($DZ$19:$EA$68,EA19)>1),EA19,"") | DZ19: =IFERROR(IF(OR(E20="A",E20="P"),M19,""),"") | EA19: =IFERROR(IF(OR(E20="A",E20="P"),RIGHT(N19,2),""),"") | EB19: =IF(Q19="","",IF(AND($E20="P",COUNTIF($Q$19:$R$68,Q19)>1),Q19,"")) | EC19: =IF(R19="","",IF(AND($E20="P",COUNTIF($Q$19:$R$68,R19)>1),R19,"")) | ED19: =IF(AND(EB19<>"",COUNTIF(TeamAcro_P_Bonus,EB19)>1),EB19,"") | EE19: =IF(AND(EC19<>"",COUNTIF(TeamAcro_P_Bonus,EC19)>1),EC19,"") | EF19: =IF(AND(OR($F$8="Open Team Acrobatic",$F$8="Open Team Technical"),LEFT(F19,4)="Acro"),E20,"") | EG19: =IF(EF19="","",IFERROR(IF($F$8="Open Team Acrobatic",IF(HLOOKUP(EF19,$DQ$12:$DT$13,2,FALSE)>2,"X",""),IF(HLOOKUP(EF19,$DQ$12:$DT$13,2,FALSE)>1,"X","")),"")) | EI19: =IF(OR(AND(F19="Hybrid - Thrust + 2 connections",EI20="T"),AND(E20="H",EI20<>"",EI73="X")),"X","") | EK19: =IFERROR(IF(AND($E20="H",J19<>"",J19<>"ChoHY"),IF(OR(LEFT(J19,1)="T",LEFT(J19,1)="S",LEFT(J19,1)="A",LEFT(J19,1)="F",LEFT(J19,1)="C"),LEFT(J19,1),"R"),EK$18),"") -> 1 | EL19: =IFERROR(IF(AND($E20="H",K19<>""),IF(OR(LEFT(K19,1)="T",LEFT(K19,1)="S",LEFT(K19,1)="A",LEFT(K19,1)="F",LEFT(K19,1)="C"),LEFT(K19,1),"R"),EL$18),"") -> 2 | EM19: =IFERROR(IF(AND($E20="H",L19<>""),IF(OR(LEFT(L19,1)="T",LEFT(L19,1)="S",LEFT(L19,1)="A",LEFT(L19,1)="F",LEFT(L19,1)="C"),LEFT(L19,1),"R"),EM$18),"") -> 3 | EN19: =IFERROR(IF(AND($E20="H",M19<>""),IF(OR(LEFT(M19,1)="T",LEFT(M19,1)="S",LEFT(M19,1)="A",LEFT(M19,1)="F",LEFT(M19,1)="C"),LEFT(M19,1),"R"),EN$18),"") -> 4 | EO19: =IFERROR(IF(AND($E20="H",N19<>""),IF(OR(LEFT(N19,1)="T",LEFT(N19,1)="S",LEFT(N19,1)="A",LEFT(N19,1)="F",LEFT(N19,1)="C"),LEFT(N19,1),"R"),EO$18),"") -> 5 | EP19: =IFERROR(IF(AND($E20="H",O19<>""),IF(OR(LEFT(O19,1)="T",LEFT(O19,1)="S",LEFT(O19,1)="A",LEFT(O19,1)="F",LEFT(O19,1)="C"),LEFT(O19,1),"R"),EP$18),"") -> 6 | EQ19: =IFERROR(IF(AND($E20="H",P19<>""),IF(OR(LEFT(P19,1)="T",LEFT(P19,1)="S",LEFT(P19,1)="A",LEFT(P19,1)="F",LEFT(P19,1)="C"),LEFT(P19,1),"R"),EQ$18),"") -> 7 | ER19: =IFERROR(IF(AND($E20="H",Q19<>""),IF(OR(LEFT(Q19,1)="T",LEFT(Q19,1)="S",LEFT(Q19,1)="A",LEFT(Q19,1)="F",LEFT(Q19,1)="C"),LEFT(Q19,1),"R"),ER$18),"") -> 8 | ES19: =IFERROR(IF(AND($E20="H",R19<>""),IF(OR(LEFT(R19,1)="T",LEFT(R19,1)="S",LEFT(R19,1)="A",LEFT(R19,1)="F",LEFT(R19,1)="C"),LEFT(R19,1),"R"),ES$18),"") -> 9 | ... FN19: =IFERROR(IF(AND($E20="H",AM19<>""),IF(OR(LEFT(AM19,1)="T",LEFT(AM19,1)="S",LEFT(AM19,1)="A",LEFT(AM19,1)="F",LEFT(AM19,1)="C"),LEFT(AM19,1),"R"),FN$18),"") -> 30 | GW19: =COUNTIF($EK19:$FN19,GW$18) -> 0 | GX19: =COUNTIF($EK19:$FN19,GX$18) -> 0 | GY19: =COUNTIF($EK19:$FN19,GY$18) -> 0 | GZ19: =COUNTIF($EK19:$FN19,GZ$18) -> 0 | HA19: =COUNTIF($EK19:$FN19,HA$18) -> 0 | HB19: =COUNTIF($EK19:$FN19,HB$18) -> 0 | HD19: =IF(AND($F19="Hybrid - Thrust + 2 connections",HD20=0,LEFT($J19,1)="C",LEFT($K19,1)="C",LEFT($L19,1)="C"),"X","") | HI19: =IF(E20=3,IF(_xlfn.NUMBERVALUE(LEFT(J19,1))>0,_xlfn.NUMBERVALUE(LEFT(J19,1)),""),"") | HK19: =IF(OR(E20="B",E20="P"),E20,"") | HL19: =IF(AND(J19<>"",HK19<>""),IF(HK19="B",MATCH(J19,AcroDD!$U$3:$AE$3,0),MATCH(J19,AcroDD!$U$30:$AC$30,0)),"") | HM19: =IF(AND(K19<>"",HK19<>""),K19,"") | HN19: =_xlfn.LET(_xlpm.lista,IF(HK19="B",INDEX(AcroDD!$T$4:$AE$23,0,HL19+1),INDEX(AcroDD!$T$31:$AC$50,0,HL19+1)),IF(AND(OR(HK19="B",HK19="P"),HL19<>"",HM19<>""),IF(ISNUMBER(MATCH(HM19,_xlpm.lista,0)),"OK","X"),""))
E20: =IF(F19="Acrobatic - Pair","PA",IF(F19="Acrobatic Airborn","A",IF(F19="Acrobatic Balance","B",IF(F19="Acrobatic Combined","C",IF(F19="Acrobatic Platform","P",IF(F19="Technical Required Element",3,IF(LEFT(F19,4)="Hybr","H",""))))))) | F20: =IF(AND(F19="Hybrid - Thrust + 2 connections",CR19="X"),"Hybrid - Thrust",IF(OR(E20="A",E20="B",E20="C",E20="P"),"Acrobatic","")) | H20: =IF(E20="PA",IF(OR(LEFT(J19,1)="L",LEFT(J19,1)="S"),"A-Pair-Lift",IF(OR(LEFT(J19,1)="W",LEFT(J19,1)="T"),"A-Pair-Throw",IF(LEFT(J19,1)="J","A-Pair-Jump","A-Pair"))),IF(OR(E20="A",E20="B",E20="C",E20="P"),CONCATENATE("Acro-",E20),"")) | I20: =IF(OR(F19="Hybrid - Choreography (DD = 1)",LEFT(F19,5)="Trans"),0,INDEX($BY$3:$BY$9,MATCH(E20,$BX$3:$BX$9,0))) -> #N/A | J20: =IFERROR(IF($H19="No DD",IF(J19="ChoHY",1,0),IF(OR(ISBLANK(J19),J19="N/A"),0,INDEX(INDIRECT(BI20),MATCH(J19,INDIRECT(BI19),0)))),0) -> 0 | K20: =IFERROR(IF($H19="No DD",0,IF(OR(ISBLANK(K19),K19="N/A"),0,INDEX(INDIRECT(BJ20),MATCH(K19,INDIRECT(BJ19),0)))),0) -> 0 | L20: =IFERROR(IF($H19="No DD",0,IF(OR(ISBLANK(L19),L19="N/A"),0,INDEX(INDIRECT(BK20),MATCH(L19,INDIRECT(BK19),0)))),0) -> 0 | M20: =IFERROR(IF($H19="No DD",0,IF(OR(ISBLANK(M19),M19="N/A"),0,INDEX(INDIRECT(BL20),MATCH(M19,INDIRECT(BL19),0)))),0) -> 0 | N20: =IFERROR(IF($H19="No DD",0,IF(OR(ISBLANK(N19),N19="N/A"),0,INDEX(INDIRECT(BM20),MATCH(N19,INDIRECT(BM19),0)))),0) -> 0 | O20: =IFERROR(IF($H19="No DD",0,IF(OR(ISBLANK(O19),O19="N/A"),0,INDEX(INDIRECT(BN20),MATCH(O19,INDIRECT(BN19),0)))),0) -> 0 | P20: =IFERROR(IF($H19="No DD",0,IF(OR(ISBLANK(P19),P19="N/A"),0,INDEX(INDIRECT(BO20),MATCH(P19,INDIRECT(BO19),0)))),0) -> 0 | Q20: =IFERROR(IF($H19="No DD",0,IF(OR(ISBLANK(Q19),Q19="N/A"),0,INDEX(INDIRECT(BP20),MATCH(Q19,INDIRECT(BP19),0)))),0) -> 0 | R20: =IFERROR(IF($H19="No DD",0,IF(OR(ISBLANK(R19),R19="N/A"),0,INDEX(INDIRECT(BQ20),MATCH(R19,INDIRECT(BQ19),0)))),0) -> 0 | ... AM20: =IFERROR(IF($H19="No DD",0,IF(OR(ISBLANK(AM19),AM19="N/A"),0,INDEX(INDIRECT(CL20),MATCH(AM19,INDIRECT(CL19),0)))),0) -> 0 | AN20: =IFERROR(IF(E20="H",INDEX(HybridBonus_Value,MATCH(AN19,HybridBonus_Code,0)),""),"") | AO20: =IFERROR(SUM(I20:AN20),"") | BI20: =IF($E20="H",IF($F19="Hybrid - Thrust + 2 connections","Hybrid_Mix_Req_Value","HybridDD_Value"),IF($E20=3,"TreDD_Value",IF($E20="PA","AcroPair_Value",IF(LEFT($F19,4)="Acro",CONCATENATE(BI$16,$E20,"_Value"),"")))) | BJ20: =IF($E20="H",IF($F19="Hybrid - Thrust + 2 connections","Hybrid_Mix_Req_Value","HybridDD_Value"),IF($E20=3,"TreDD_Value",IF($E20="PA","AcroPair_Value",IF(LEFT($F19,4)="Acro",CONCATENATE(BJ$16,$E20,"_Value"),"")))) | BK20: =IF($E20="H",IF($F19="Hybrid - Thrust + 2 connections","Hybrid_Mix_Req_Value","HybridDD_Value"),IF($E20=3,"TreDD_Value",IF($E20="PA","AcroPair_Value",IF(LEFT($F19,4)="Acro",CONCATENATE(BK$16,$E20,"_Value"),"")))) | BL20: =IF($E20="H",IF($F19="Hybrid - Thrust + 2 connections","Hybrid_Mix_Req_Value","HybridDD_Value"),IF($E20=3,"TreDD_Value",IF($E20="PA","AcroPair_Value",IF(LEFT($F19,4)="Acro",CONCATENATE(BL$16,$E20,"_Value"),"")))) | BM20: =IF($E20="H",IF($F19="Hybrid - Thrust + 2 connections","Hybrid_Mix_Req_Value","HybridDD_Value"),IF($E20=3,"TreDD_Value",IF($E20="PA","AcroPair_Value",IF(LEFT($F19,4)="Acro",CONCATENATE(BM$16,$E20,"_Value"),"")))) | BN20: =IF($E20="H",IF($F19="Hybrid - Thrust + 2 connections","Hybrid_Mix_Req_Value","HybridDD_Value"),IF($E20=3,"TreDD_Value",IF($E20="PA","AcroPair_Value",IF(LEFT($F19,4)="Acro",CONCATENATE(BN$16,$E20,"_Value"),"")))) | BO20: =IF($E20="H",IF($F19="Hybrid - Thrust + 2 connections","Hybrid_Mix_Req_Value","HybridDD_Value"),IF($E20=3,"TreDD_Value",IF($E20="PA","AcroPair_Value",IF(LEFT($F19,4)="Acro",CONCATENATE(BO$16,$E20,"_Value"),"")))) | BP20: =IF($E20="H",IF($F19="Hybrid - Thrust + 2 connections","Hybrid_Mix_Req_Value","HybridDD_Value"),IF($E20=3,"TreDD_Value",IF($E20="PA","AcroPair_Value",IF(LEFT($F19,4)="Acro",CONCATENATE(BP$16,$E20,"_Value"),"")))) | BQ20: =IF($E20="H",IF($F19="Hybrid - Thrust + 2 connections","Hybrid_Mix_Req_Value","HybridDD_Value"),IF($E20=3,"TreDD_Value",IF($E20="PA","AcroPair_Value",IF(LEFT($F19,4)="Acro",CONCATENATE(BQ$16,$E20,"_Value"),"")))) | BR20: =IF($E20="H",IF($F19="Hybrid - Thrust + 2 connections","Data!$BI$1:$BI$5","HybridDD_Value"),"Data!$BI$1:$BI$5") -> Data!$BI$1:$BI$5 | BS20: =IF($E20="H",IF($F19="Hybrid - Thrust + 2 connections","Data!$BI$1:$BI$5","HybridDD_Value"),"Data!$BI$1:$BI$5") -> Data!$BI$1:$BI$5 | BT20: =IF($E20="H",IF($F19="Hybrid - Thrust + 2 connections","Data!$BI$1:$BI$5","HybridDD_Value"),"Data!$BI$1:$BI$5") -> Data!$BI$1:$BI$5 | BU20: =IF($E20="H",IF($F19="Hybrid - Thrust + 2 connections","Data!$BI$1:$BI$5","HybridDD_Value"),"Data!$BI$1:$BI$5") -> Data!$BI$1:$BI$5 | BV20: =IF($E20="H",IF($F19="Hybrid - Thrust + 2 connections","Data!$BI$1:$BI$5","HybridDD_Value"),"Data!$BI$1:$BI$5") -> Data!$BI$1:$BI$5 | BW20: =IF($E20="H",IF($F19="Hybrid - Thrust + 2 connections","Data!$BI$1:$BI$5","HybridDD_Value"),"Data!$BI$1:$BI$5") -> Data!$BI$1:$BI$5 | BX20: =IF($E20="H",IF($F19="Hybrid - Thrust + 2 connections","Data!$BI$1:$BI$5","HybridDD_Value"),"Data!$BI$1:$BI$5") -> Data!$BI$1:$BI$5 | BY20: =IF($E20="H",IF($F19="Hybrid - Thrust + 2 connections","Data!$BI$1:$BI$5","HybridDD_Value"),"Data!$BI$1:$BI$5") -> Data!$BI$1:$BI$5 | ... CL20: =IF($E20="H",IF($F19="Hybrid - Thrust + 2 connections","Data!$BI$1:$BI$5","HybridDD_Value"),"Data!$BI$1:$BI$5") -> Data!$BI$1:$BI$5 | CO20: =IFERROR(IF(AND($BV$6="T",$BV$8="T",LEFT(F19,4)="Acro",AO20>3),"X",IF($N$7="X",IF(AND(E20="C",AO20>$CN$6),"X",IF(AND(E20="A",AO20>$CN$4),"X",IF(AND(E20="B",AO20>$CN$5),"X",IF(AND(E20="P",AO20>$CN$7),"X","")))),"")),"") | DD20: =IF(OR($E21="A",$E21="B",$E21="C",$E21="P"),"Z","") | DE20: =IF(OR($E21="B",$E21="P"),"Z","") | DF20: =IF(OR($E21="A",$E21="C"),"Z","") | DG20: =IF(OR($E21="A",$E21="B",$E21="C",$E21="P"),"Z","") | DO20: 2 | ED20: =IF(AND(EB20<>"",COUNTIF(TeamAcro_P_Bonus,EB20)>1),EB20,"") | EE20: =IF(AND(EC20<>"",COUNTIF(TeamAcro_P_Bonus,EC20)>1),EC20,"") | EI20: {=IFERROR(INDEX(EK20:FN20,MATCH(TRUE,INDEX((EK20:FN20<>""),),0)),"")} | EK20: =IF(F19="Hybrid - Thrust + 2 connections",IF(COUNTIF($EK19:$FN19,EK19)>1,EK19,""),IF(COUNTIF($EK19:$FN19,EK19)>5,EK19,"")) | EL20: =IF(G19="Hybrid - Thrust + 2 connections",IF(COUNTIF($EK19:$FN19,EL19)>1,EL19,""),IF(COUNTIF($EK19:$FN19,EL19)>5,EL19,"")) | EM20: =IF(H19="Hybrid - Thrust + 2 connections",IF(COUNTIF($EK19:$FN19,EM19)>1,EM19,""),IF(COUNTIF($EK19:$FN19,EM19)>5,EM19,"")) | EN20: =IF(I19="Hybrid - Thrust + 2 connections",IF(COUNTIF($EK19:$FN19,EN19)>1,EN19,""),IF(COUNTIF($EK19:$FN19,EN19)>5,EN19,"")) | EO20: =IF(J19="Hybrid - Thrust + 2 connections",IF(COUNTIF($EK19:$FN19,EO19)>1,EO19,""),IF(COUNTIF($EK19:$FN19,EO19)>5,EO19,"")) | EP20: =IF(K19="Hybrid - Thrust + 2 connections",IF(COUNTIF($EK19:$FN19,EP19)>1,EP19,""),IF(COUNTIF($EK19:$FN19,EP19)>5,EP19,"")) | EQ20: =IF(L19="Hybrid - Thrust + 2 connections",IF(COUNTIF($EK19:$FN19,EQ19)>1,EQ19,""),IF(COUNTIF($EK19:$FN19,EQ19)>5,EQ19,"")) | ER20: =IF(M19="Hybrid - Thrust + 2 connections",IF(COUNTIF($EK19:$FN19,ER19)>1,ER19,""),IF(COUNTIF($EK19:$FN19,ER19)>5,ER19,"")) | ... FN20: =IF(AI19="Hybrid - Thrust + 2 connections",IF(COUNTIF($EK19:$FN19,FN19)>1,FN19,""),IF(COUNTIF($EK19:$FN19,FN19)>5,FN19,"")) | FO20: 0 | FP20: {=IF(FQ20<>"",LEFT(FQ20,FIND("*",FQ20)-1),INDEX($FP$75:$FP$172,FO20+1))} | FQ20: {=INDEX($FQ$75:$FQ$172,FO20+1)} | HD20: =IF($F19="Hybrid - Thrust + 2 connections",COUNTBLANK(J19:L19),"")
A21: =IF(AND(E19="",A19<>""),IF(CP19=$CP$18,"",IF(C19<>"",IF(D19=59,MINUTE(CP19)+1,MINUTE(CP19)),"")),"") | B21: =IF(AND(E19="",B19<>""),IF(CP19=$CP$18,"",IF(C19<>"",IF(D19=59,0,SECOND(CP19)+1),"")),"") | G21: =IF(F21<>"",IF(OR(F21="Transition",F21="Transition - Surface Connection"),0,MAX($G$19:G20)+1),"") | H21: =IFERROR(IF(E22="3","",IF(OR(F21="Hybrid - Choreography (DD = 1)",LEFT(F21,5)="Trans"),"No DD",CONCATENATE("BM = ",I22))),"") | AW21: =E22 | AX21: =IF(AY21=0,"",TIME(0,A21,B21)) | AY21: =TIME(0,C21,D21) -> 0 | AZ21: =IFERROR(AY21-AX21,"") | BA21: =IF($AX$17=0,"",IF(AND($C$10<>"",AW21="H",AZ21>$AX$17),"X","")) | BG21: =IFERROR(IF(F21<>"",INDEX(Parts_Active,MATCH(F21,Parts_Active,0)),""),"No") | BI21: =IF($E22="H",IF($F21="Hybrid - Thrust + 2 connections","Hybrid_Mix_Req",IF($F21="Hybrid - Choreography (DD = 1)","Hybrid_ChoHY","HybridDD_Code")),IF($E22=3,"TreDD_Code",IF($E22="PA","AcroPair_Code",IF(LEFT($F21,4)="Acro",CONCATENATE(BI$16,$E22,"_Code"),"Data!$BI$1:$BI$5")))) -> Data!$BI$1:$BI$5 | BJ21: =IF($E22="H",IF($F21="Hybrid - Thrust + 2 connections","Hybrid_Mix_Req",IF($F21="Hybrid - min 4 swimmers (no DD)","Data!$BI$1:$BI$5","HybridDD_Code")),IF($E22=3,"TreDD_Code",IF($E22="PA","AcroPair_Code",IF(LEFT($F21,4)="Acro",CONCATENATE(BJ$16,$E22,"_Code"),"Data!$BI$1:$BI$5")))) -> Data!$BI$1:$BI$5 | BK21: =IF($E22="H",IF($F21="Hybrid - Thrust + 2 connections","Hybrid_Mix_Req",IF($F21="Hybrid - min 4 swimmers (no DD)","Data!$BI$1:$BI$5","HybridDD_Code")),IF($E22=3,"TreDD_Code",IF($E22="PA","AcroPair_Code",IF(LEFT($F21,4)="Acro",CONCATENATE(BK$16,$E22,"_Code"),"Data!$BI$1:$BI$5")))) -> Data!$BI$1:$BI$5 | BL21: =IF($E22="H",IF($F21="Hybrid - Thrust + 2 connections","Hybrid_Mix_Req",IF($F21="Hybrid - min 4 swimmers (no DD)","Data!$BI$1:$BI$5","HybridDD_Code")),IF($E22=3,"TreDD_Code",IF($E22="PA","AcroPair_Code",IF(LEFT($F21,4)="Acro",CONCATENATE(BL$16,$E22,"_Code"),"Data!$BI$1:$BI$5")))) -> Data!$BI$1:$BI$5 | BM21: =IF($E22="H",IF($F21="Hybrid - Thrust + 2 connections","Hybrid_Mix_Req",IF($F21="Hybrid - min 4 swimmers (no DD)","Data!$BI$1:$BI$5","HybridDD_Code")),IF($E22=3,"TreDD_Code",IF($E22="PA","AcroPair_Code",IF(LEFT($F21,4)="Acro",CONCATENATE(BM$16,$E22,"_Code"),"Data!$BI$1:$BI$5")))) -> Data!$BI$1:$BI$5 | BN21: =IF($E22="H",IF($F21="Hybrid - Thrust + 2 connections","Hybrid_Mix_Req",IF($F21="Hybrid - min 4 swimmers (no DD)","Data!$BI$1:$BI$5","HybridDD_Code")),IF($E22=3,"TreDD_Code",IF($E22="PA","AcroPair_Code",IF(LEFT($F21,4)="Acro",CONCATENATE(BN$16,$E22,"_Code"),"Data!$BI$1:$BI$5")))) -> Data!$BI$1:$BI$5 | BO21: =IF($E22="H",IF($F21="Hybrid - Thrust + 2 connections","Hybrid_Mix_Req",IF($F21="Hybrid - min 4 swimmers (no DD)","Data!$BI$1:$BI$5","HybridDD_Code")),IF($E22=3,"TreDD_Code",IF($E22="PA","AcroPair_Code",IF(LEFT($F21,4)="Acro",CONCATENATE(BO$16,$E22,"_Code"),"Data!$BI$1:$BI$5")))) -> Data!$BI$1:$BI$5 | BP21: =IF($E22="H",IF($F21="Hybrid - Thrust + 2 connections","Hybrid_Mix_Req",IF($F21="Hybrid - min 4 swimmers (no DD)","Data!$BI$1:$BI$5","HybridDD_Code")),IF($E22=3,"TreDD_Code",IF($E22="PA","AcroPair_Code",IF(LEFT($F21,4)="Acro",CONCATENATE(BP$16,$E22,"_Code"),"Data!$BI$1:$BI$5")))) -> Data!$BI$1:$BI$5 | BQ21: =IF($E22="H",IF($F21="Hybrid - Thrust + 2 connections","Hybrid_Mix_Req",IF($F21="Hybrid - min 4 swimmers (no DD)","Data!$BI$1:$BI$5","HybridDD_Code")),IF($E22=3,"TreDD_Code",IF($E22="PA","AcroPair_Code",IF(LEFT($F21,4)="Acro",CONCATENATE(BQ$16,$E22,"_Code"),"Data!$BI$1:$BI$5")))) -> Data!$BI$1:$BI$5 | BR21: =IF($E22="H",IF($F21="Hybrid - Thrust + 2 connections","Data!$BI$1:$BI$5","HybridDD_Code"),"Data!$BI$1:$BI$5") -> Data!$BI$1:$BI$5 | BS21: =$BR21 -> Data!$BI$1:$BI$5 | BT21: =$BR21 -> Data!$BI$1:$BI$5 | BU21: =$BR21 -> Data!$BI$1:$BI$5 | BV21: =$BR21 -> Data!$BI$1:$BI$5 | BW21: =$BR21 -> Data!$BI$1:$BI$5 | BX21: =$BR21 -> Data!$BI$1:$BI$5 | BY21: =$BR21 -> Data!$BI$1:$BI$5 | BZ21: =$BR21 -> Data!$BI$1:$BI$5 | ... CL21: =$BR21 -> Data!$BI$1:$BI$5 | CO21: =IFERROR(TIME(0,A21,B21),"") | CP21: =IFERROR(TIME(0,C21,D21),"") -> 0 | CQ21: =IF(CP21>$D$12,"X","") | CR21: =IF(AND(F21="Hybrid - Thrust + 2 connections",OR(LEFT(J21,1)="T",LEFT(K21,1)="T",LEFT(L21,1)="T",LEFT(PB21,1)="T",LEFT(M21,1)="T",LEFT(N21,1)="T",LEFT(O21,1)="T",LEFT(P21,1)="T",LEFT(Q21,1)="T",LEFT(R21,1)="T",LEFT(S21,1)="T",LEFT(T21,1)="T",LEFT(U21,1)="T",LEFT(V21,1)="T",LEFT(W21,1)="T",LEFT(X21,1)="T",LEFT(AK21,1)="T",LEFT(AL21,1)="T",LEFT(AM21,1)="T")),IF(OR(LEN(J21)=2,LEN(K21)=2,LEN(L21)=2,LEN(M21)=2,LEN(N21)=2,LEN(O21)=2,LEN(P21)=2,LEN(Q21)=2,LEN(R21)=2,LEN(S21)=2,LEN(T21)=2,LEN(U21)=2,LEN(V21)=2,LEN(W21)=2,LEN(X21)=2,LEN(Y21)=2,LEN(Z21)=2,LEN(AK21)=2,LEN(AL21)=2,LEN(AM21)=2),"X",""),"") | CT21: =IF(LEFT(F21,4)="Acro",IF(AND(N21<>"",M21=RIGHT(N21,2)),"X","OK"),"") | CU21: =IFERROR(IF(AND(LEFT($F21,4)="Acro",INDEX(Requ_App,MATCH(BI21,Requ_Code,0))="No"),"X",""),"") | CV21: =IFERROR(IF(AND(LEFT($F21,4)="Acro",INDEX(Requ_App,MATCH(BJ21,Requ_Code,0))="No"),"X",""),"") | CW21: =IFERROR(IF(AND(LEFT($F21,4)="Acro",INDEX(Requ_App,MATCH(BK21,Requ_Code,0))="No"),"X",""),"") | CX21: =IFERROR(IF(AND(LEFT($F21,4)="Acro",INDEX(Requ_App,MATCH(BL21,Requ_Code,0))="No"),"X",""),"") | CY21: =IFERROR(IF(AND(LEFT($F21,4)="Acro",INDEX(Requ_App,MATCH(BM21,Requ_Code,0))="No"),"X",""),"") | CZ21: =IFERROR(IF(AND(LEFT($F21,4)="Acro",INDEX(Requ_App,MATCH(BN21,Requ_Code,0))="No"),"X",""),"") | DA21: =IFERROR(IF(AND(LEFT($F21,4)="Acro",INDEX(Requ_App,MATCH(BO21,Requ_Code,0))="No"),"X",""),"") | DB21: =IFERROR(IF(AND(LEFT($F21,4)="Acro",INDEX(Requ_App,MATCH(BP21,Requ_Code,0))="No"),"X",""),"") | DC21: =IFERROR(IF(AND(LEFT($F21,4)="Acro",INDEX(Requ_App,MATCH(BP21,Requ_Code,0))="No"),"X",""),"") | DD21: =IF(OR($E22="A",$E22="B",$E22="C",$E22="P"),"Z","") | DE21: =IF(OR($E22="B",$E22="P"),"Z","") | DF21: =IF(OR($E22="A",$E22="C"),"Z","") | DG21: =IF(OR($E22="A",$E22="B",$E22="C",$E22="P"),"Z","") | DK21: =IF(AND(E22="A",OR(Q21="Grip",Q21="Conn",Q21="Catch")),"A1",IF(AND(E22="A",OR(Q21="Hula",Q21="RetSq",Q21="RetPa")),"A2",IF(AND(E22="B",OR(Q21="Twirl",Q21="RotF")),"B1",IF(AND(E22="B",OR(Q21="Moon",Q21="Mov",Q21="Hold")),"B2",IF(AND(E22="P",OR(Q21="Porp",Q21="Splch")),"P1",IF(AND(E22="P",OR(Q21="Diva",Q21="Stand")),"P2",IF(AND(E22="P",OR(Q21="Spider",Q21="Climb")),"P3",IF(AND(E22="P",OR(Q21="Fall",Q21="FTurn")),"P4",IF(AND(E22="C",OR(Q21="Jump",Q21="Jump>",Q21="On1Foot",Q21="1F>1F")),"C1",IF(AND(E22="C",OR(Q21="Run",Q21="BRun")),"C2",1)))))))))) -> 1 | DL21: =IF(AND(E22="A",OR(R21="Grip",R21="Conn",R21="Catch")),"A1",IF(AND(E22="A",OR(R21="Hula",R21="RetSq",R21="RetPa")),"A2",IF(AND(E22="B",OR(R21="Twirl",R21="RotF")),"B1",IF(AND(E22="B",OR(R21="Moon",R21="Mov",R21="Hold")),"B2",IF(AND(E22="P",OR(R21="Porp",R21="Spich")),"P1",IF(AND(E22="P",OR(R21="Diva",R21="Stand")),"P2",IF(AND(E22="P",OR(R21="Spider",R21="Climb")),"P3",IF(AND(E22="P",OR(R21="Fall",R21="FTurn")),"P4",IF(AND(E22="C",OR(R21="Jump",R21="Jump>",R21="On1Foot",R21="1F>1F")),"C1",IF(AND(E22="C",OR(R21="Run",R21="BRun")),"C2",2)))))))))) -> 2 | DM21: =IF(AND(N21="",OR(Q21<>"",R21<>"")),"X",IF(AND(LEFT(F21,4)="Acro",Q21<>"",OR(Q21=R21,DK21=DL21)),IF(R21="C-Roll","","X"),IF(OR(AND(E22="A",Q21="Catch",R21<>"Dbl"),AND(E22="A",R21="Catch",Q21<>"Dbl")),"X",""))) | DN21: =IF(E22="PA",J21,"") | DO21: 3 | DQ21: =IF(AND($E22="A",COUNTIF($DZ$19:$EA$68,DZ21)>1),DZ21,"") | DR21: =IF(AND($E22="A",COUNTIF($DZ$19:$EA$68,EA21)>1),EA21,"") | DS21: =IF(AND($E22="B",COUNTIF($J$19:$J$68,J21)>1),J21,"") | DT21: =IF(AND($E22="B",COUNTIF($K$19:$K$68,K21)>1),K21,"") | DU21: =IF(AND($E22="C",COUNTIF($J$19:$J$68,J21)>1),J21,"") | DV21: =IF(AND($E22="P",COUNTIF($J$19:$J$68,J21)>1),J21,"") | DW21: =IF(AND($E22="P",COUNTIF($K$19:$K$68,K21)>1),K21,"") | DX21: =IF(AND($E22="P",COUNTIF($DZ$19:$EA$68,DZ21)>1),DZ21,"") | DY21: =IF(AND($E22="P",COUNTIF($DZ$19:$EA$68,EA21)>1),EA21,"") | DZ21: =IFERROR(IF(OR(E22="A",E22="P"),M21,""),"") | EA21: =IFERROR(IF(OR(E22="A",E22="P"),RIGHT(N21,2),""),"") | EB21: =IF(Q21="","",IF(AND($E22="P",COUNTIF($Q$19:$R$68,Q21)>1),Q21,"")) | EC21: =IF(R21="","",IF(AND($E22="P",COUNTIF($Q$19:$R$68,R21)>1),R21,"")) | ED21: =IF(AND(EB21<>"",COUNTIF(TeamAcro_P_Bonus,EB21)>1),EB21,"") | EE21: =IF(AND(EC21<>"",COUNTIF(TeamAcro_P_Bonus,EC21)>1),EC21,"") | EF21: =IF(AND(OR($F$8="Open Team Acrobatic",$F$8="Open Team Technical"),LEFT(F21,4)="Acro"),E22,"") | EG21: =IF(EF21="","",IFERROR(IF($F$8="Open Team Acrobatic",IF(HLOOKUP(EF21,$DQ$12:$DT$13,2,FALSE)>2,"X",""),IF(HLOOKUP(EF21,$DQ$12:$DT$13,2,FALSE)>1,"X","")),"")) | EI21: =IF(OR(AND(F21="Hybrid - Thrust + 2 connections",EI22="T"),AND(E22="H",EI22<>"",EI75="X")),"X","") | EK21: =IFERROR(IF(AND($E22="H",J21<>"",J21<>"ChoHY"),IF(OR(LEFT(J21,1)="T",LEFT(J21,1)="S",LEFT(J21,1)="A",LEFT(J21,1)="F",LEFT(J21,1)="C"),LEFT(J21,1),"R"),EK$18),"") -> 1 | EL21: =IFERROR(IF(AND($E22="H",K21<>""),IF(OR(LEFT(K21,1)="T",LEFT(K21,1)="S",LEFT(K21,1)="A",LEFT(K21,1)="F",LEFT(K21,1)="C"),LEFT(K21,1),"R"),EL$18),"") -> 2 | EM21: =IFERROR(IF(AND($E22="H",L21<>""),IF(OR(LEFT(L21,1)="T",LEFT(L21,1)="S",LEFT(L21,1)="A",LEFT(L21,1)="F",LEFT(L21,1)="C"),LEFT(L21,1),"R"),EM$18),"") -> 3 | EN21: =IFERROR(IF(AND($E22="H",M21<>""),IF(OR(LEFT(M21,1)="T",LEFT(M21,1)="S",LEFT(M21,1)="A",LEFT(M21,1)="F",LEFT(M21,1)="C"),LEFT(M21,1),"R"),EN$18),"") -> 4 | EO21: =IFERROR(IF(AND($E22="H",N21<>""),IF(OR(LEFT(N21,1)="T",LEFT(N21,1)="S",LEFT(N21,1)="A",LEFT(N21,1)="F",LEFT(N21,1)="C"),LEFT(N21,1),"R"),EO$18),"") -> 5 | EP21: =IFERROR(IF(AND($E22="H",O21<>""),IF(OR(LEFT(O21,1)="T",LEFT(O21,1)="S",LEFT(O21,1)="A",LEFT(O21,1)="F",LEFT(O21,1)="C"),LEFT(O21,1),"R"),EP$18),"") -> 6 | EQ21: =IFERROR(IF(AND($E22="H",P21<>""),IF(OR(LEFT(P21,1)="T",LEFT(P21,1)="S",LEFT(P21,1)="A",LEFT(P21,1)="F",LEFT(P21,1)="C"),LEFT(P21,1),"R"),EQ$18),"") -> 7 | ER21: =IFERROR(IF(AND($E22="H",Q21<>""),IF(OR(LEFT(Q21,1)="T",LEFT(Q21,1)="S",LEFT(Q21,1)="A",LEFT(Q21,1)="F",LEFT(Q21,1)="C"),LEFT(Q21,1),"R"),ER$18),"") -> 8 | ES21: =IFERROR(IF(AND($E22="H",R21<>""),IF(OR(LEFT(R21,1)="T",LEFT(R21,1)="S",LEFT(R21,1)="A",LEFT(R21,1)="F",LEFT(R21,1)="C"),LEFT(R21,1),"R"),ES$18),"") -> 9 | ... FN21: =IFERROR(IF(AND($E22="H",AM21<>""),IF(OR(LEFT(AM21,1)="T",LEFT(AM21,1)="S",LEFT(AM21,1)="A",LEFT(AM21,1)="F",LEFT(AM21,1)="C"),LEFT(AM21,1),"R"),FN$18),"") -> 30 | GW21: =COUNTIF($EK21:$FN21,GW$18) -> 0 | GX21: =COUNTIF($EK21:$FN21,GX$18) -> 0 | GY21: =COUNTIF($EK21:$FN21,GY$18) -> 0 | GZ21: =COUNTIF($EK21:$FN21,GZ$18) -> 0 | HA21: =COUNTIF($EK21:$FN21,HA$18) -> 0 | HB21: =COUNTIF($EK21:$FN21,HB$18) -> 0 | HD21: =IF(AND($F21="Hybrid - Thrust + 2 connections",HD22=0,LEFT($J21,1)="C",LEFT($K21,1)="C",LEFT($L21,1)="C"),"X","") | HI21: =IF(E22=3,IF(_xlfn.NUMBERVALUE(LEFT(J21,1))>0,_xlfn.NUMBERVALUE(LEFT(J21,1)),""),"") | HK21: =IF(OR(E22="B",E22="P"),E22,"") | HL21: =IF(AND(J21<>"",HK21<>""),IF(HK21="B",MATCH(J21,AcroDD!$U$3:$AE$3,0),MATCH(J21,AcroDD!$U$30:$AC$30,0)),"") | HM21: =IF(AND(K21<>"",HK21<>""),K21,"") | HN21: =_xlfn.LET(_xlpm.lista,IF(HK21="B",INDEX(AcroDD!$T$4:$AE$23,0,HL21+1),INDEX(AcroDD!$T$31:$AC$50,0,HL21+1)),IF(AND(OR(HK21="B",HK21="P"),HL21<>"",HM21<>""),IF(ISNUMBER(MATCH(HM21,_xlpm.lista,0)),"OK","X"),""))
E22: =IF(F21="Acrobatic - Pair","PA",IF(F21="Acrobatic Airborn","A",IF(F21="Acrobatic Balance","B",IF(F21="Acrobatic Combined","C",IF(F21="Acrobatic Platform","P",IF(F21="Technical Required Element",3,IF(LEFT(F21,4)="Hybr","H",""))))))) | F22: =IF(AND(F21="Hybrid - Thrust + 2 connections",CR21="X"),"Hybrid - Thrust",IF(OR(E22="A",E22="B",E22="C",E22="P"),"Acrobatic","")) | H22: =IF(E22="PA",IF(OR(LEFT(J21,1)="L",LEFT(J21,1)="S"),"A-Pair-Lift",IF(OR(LEFT(J21,1)="W",LEFT(J21,1)="T"),"A-Pair-Throw",IF(LEFT(J21,1)="J","A-Pair-Jump","A-Pair"))),IF(OR(E22="A",E22="B",E22="C",E22="P"),CONCATENATE("Acro-",E22),"")) | I22: =IF(OR(F21="Hybrid - Choreography (DD = 1)",LEFT(F21,5)="Trans"),0,INDEX($BY$3:$BY$9,MATCH(E22,$BX$3:$BX$9,0))) -> #N/A | J22: =IFERROR(IF($H21="No DD",IF(J21="ChoHY",1,0),IF(OR(ISBLANK(J21),J21="N/A"),0,INDEX(INDIRECT(BI22),MATCH(J21,INDIRECT(BI21),0)))),0) -> 0 | K22: =IFERROR(IF($H21="No DD",0,IF(OR(ISBLANK(K21),K21="N/A"),0,INDEX(INDIRECT(BJ22),MATCH(K21,INDIRECT(BJ21),0)))),0) -> 0 | L22: =IFERROR(IF($H21="No DD",0,IF(OR(ISBLANK(L21),L21="N/A"),0,INDEX(INDIRECT(BK22),MATCH(L21,INDIRECT(BK21),0)))),0) -> 0 | M22: =IFERROR(IF($H21="No DD",0,IF(OR(ISBLANK(M21),M21="N/A"),0,INDEX(INDIRECT(BL22),MATCH(M21,INDIRECT(BL21),0)))),0) -> 0 | N22: =IFERROR(IF($H21="No DD",0,IF(OR(ISBLANK(N21),N21="N/A"),0,INDEX(INDIRECT(BM22),MATCH(N21,INDIRECT(BM21),0)))),0) -> 0 | O22: =IFERROR(IF($H21="No DD",0,IF(OR(ISBLANK(O21),O21="N/A"),0,INDEX(INDIRECT(BN22),MATCH(O21,INDIRECT(BN21),0)))),0) -> 0 | P22: =IFERROR(IF($H21="No DD",0,IF(OR(ISBLANK(P21),P21="N/A"),0,INDEX(INDIRECT(BO22),MATCH(P21,INDIRECT(BO21),0)))),0) -> 0 | Q22: =IFERROR(IF($H21="No DD",0,IF(OR(ISBLANK(Q21),Q21="N/A"),0,INDEX(INDIRECT(BP22),MATCH(Q21,INDIRECT(BP21),0)))),0) -> 0 | R22: =IFERROR(IF($H21="No DD",0,IF(OR(ISBLANK(R21),R21="N/A"),0,INDEX(INDIRECT(BQ22),MATCH(R21,INDIRECT(BQ21),0)))),0) -> 0 | ... AM22: =IFERROR(IF($H21="No DD",0,IF(OR(ISBLANK(AM21),AM21="N/A"),0,INDEX(INDIRECT(CL22),MATCH(AM21,INDIRECT(CL21),0)))),0) -> 0 | AN22: =IFERROR(IF(E22="H",INDEX(HybridBonus_Value,MATCH(AN21,HybridBonus_Code,0)),""),"") | AO22: =IFERROR(SUM(I22:AN22),"") | BI22: =IF($E22="H",IF($F21="Hybrid - Thrust + 2 connections","Hybrid_Mix_Req_Value","HybridDD_Value"),IF($E22=3,"TreDD_Value",IF($E22="PA","AcroPair_Value",IF(LEFT($F21,4)="Acro",CONCATENATE(BI$16,$E22,"_Value"),"")))) | BJ22: =IF($E22="H",IF($F21="Hybrid - Thrust + 2 connections","Hybrid_Mix_Req_Value","HybridDD_Value"),IF($E22=3,"TreDD_Value",IF($E22="PA","AcroPair_Value",IF(LEFT($F21,4)="Acro",CONCATENATE(BJ$16,$E22,"_Value"),"")))) | BK22: =IF($E22="H",IF($F21="Hybrid - Thrust + 2 connections","Hybrid_Mix_Req_Value","HybridDD_Value"),IF($E22=3,"TreDD_Value",IF($E22="PA","AcroPair_Value",IF(LEFT($F21,4)="Acro",CONCATENATE(BK$16,$E22,"_Value"),"")))) | BL22: =IF($E22="H",IF($F21="Hybrid - Thrust + 2 connections","Hybrid_Mix_Req_Value","HybridDD_Value"),IF($E22=3,"TreDD_Value",IF($E22="PA","AcroPair_Value",IF(LEFT($F21,4)="Acro",CONCATENATE(BL$16,$E22,"_Value"),"")))) | BM22: =IF($E22="H",IF($F21="Hybrid - Thrust + 2 connections","Hybrid_Mix_Req_Value","HybridDD_Value"),IF($E22=3,"TreDD_Value",IF($E22="PA","AcroPair_Value",IF(LEFT($F21,4)="Acro",CONCATENATE(BM$16,$E22,"_Value"),"")))) | BN22: =IF($E22="H",IF($F21="Hybrid - Thrust + 2 connections","Hybrid_Mix_Req_Value","HybridDD_Value"),IF($E22=3,"TreDD_Value",IF($E22="PA","AcroPair_Value",IF(LEFT($F21,4)="Acro",CONCATENATE(BN$16,$E22,"_Value"),"")))) | BO22: =IF($E22="H",IF($F21="Hybrid - Thrust + 2 connections","Hybrid_Mix_Req_Value","HybridDD_Value"),IF($E22=3,"TreDD_Value",IF($E22="PA","AcroPair_Value",IF(LEFT($F21,4)="Acro",CONCATENATE(BO$16,$E22,"_Value"),"")))) | BP22: =IF($E22="H",IF($F21="Hybrid - Thrust + 2 connections","Hybrid_Mix_Req_Value","HybridDD_Value"),IF($E22=3,"TreDD_Value",IF($E22="PA","AcroPair_Value",IF(LEFT($F21,4)="Acro",CONCATENATE(BP$16,$E22,"_Value"),"")))) | BQ22: =IF($E22="H",IF($F21="Hybrid - Thrust + 2 connections","Hybrid_Mix_Req_Value","HybridDD_Value"),IF($E22=3,"TreDD_Value",IF($E22="PA","AcroPair_Value",IF(LEFT($F21,4)="Acro",CONCATENATE(BQ$16,$E22,"_Value"),"")))) | BR22: =IF($E22="H",IF($F21="Hybrid - Thrust + 2 connections","Data!$BI$1:$BI$5","HybridDD_Value"),"Data!$BI$1:$BI$5") -> Data!$BI$1:$BI$5 | BS22: =IF($E22="H",IF($F21="Hybrid - Thrust + 2 connections","Data!$BI$1:$BI$5","HybridDD_Value"),"Data!$BI$1:$BI$5") -> Data!$BI$1:$BI$5 | BT22: =IF($E22="H",IF($F21="Hybrid - Thrust + 2 connections","Data!$BI$1:$BI$5","HybridDD_Value"),"Data!$BI$1:$BI$5") -> Data!$BI$1:$BI$5 | BU22: =IF($E22="H",IF($F21="Hybrid - Thrust + 2 connections","Data!$BI$1:$BI$5","HybridDD_Value"),"Data!$BI$1:$BI$5") -> Data!$BI$1:$BI$5 | BV22: =IF($E22="H",IF($F21="Hybrid - Thrust + 2 connections","Data!$BI$1:$BI$5","HybridDD_Value"),"Data!$BI$1:$BI$5") -> Data!$BI$1:$BI$5 | BW22: =IF($E22="H",IF($F21="Hybrid - Thrust + 2 connections","Data!$BI$1:$BI$5","HybridDD_Value"),"Data!$BI$1:$BI$5") -> Data!$BI$1:$BI$5 | BX22: =IF($E22="H",IF($F21="Hybrid - Thrust + 2 connections","Data!$BI$1:$BI$5","HybridDD_Value"),"Data!$BI$1:$BI$5") -> Data!$BI$1:$BI$5 | BY22: =IF($E22="H",IF($F21="Hybrid - Thrust + 2 connections","Data!$BI$1:$BI$5","HybridDD_Value"),"Data!$BI$1:$BI$5") -> Data!$BI$1:$BI$5 | ... CL22: =IF($E22="H",IF($F21="Hybrid - Thrust + 2 connections","Data!$BI$1:$BI$5","HybridDD_Value"),"Data!$BI$1:$BI$5") -> Data!$BI$1:$BI$5 | CO22: =IFERROR(IF(AND($BV$6="T",$BV$8="T",LEFT(F21,4)="Acro",AO22>3),"X",IF($N$7="X",IF(AND(E22="C",AO22>$CN$6),"X",IF(AND(E22="A",AO22>$CN$4),"X",IF(AND(E22="B",AO22>$CN$5),"X",IF(AND(E22="P",AO22>$CN$7),"X","")))),"")),"") | DD22: =IF(OR($E23="A",$E23="B",$E23="C",$E23="P"),"Z","") | DE22: =IF(OR($E23="B",$E23="P"),"Z","") | DF22: =IF(OR($E23="A",$E23="C"),"Z","") | DG22: =IF(OR($E23="A",$E23="B",$E23="C",$E23="P"),"Z","") | DO22: 4 | ED22: =IF(AND(EB22<>"",COUNTIF(TeamAcro_P_Bonus,EB22)>1),EB22,"") | EE22: =IF(AND(EC22<>"",COUNTIF(TeamAcro_P_Bonus,EC22)>1),EC22,"") | EI22: {=IFERROR(INDEX(EK22:FN22,MATCH(TRUE,INDEX((EK22:FN22<>""),),0)),"")} | EK22: =IF(F21="Hybrid - Thrust + 2 connections",IF(COUNTIF($EK21:$FN21,EK21)>1,EK21,""),IF(COUNTIF($EK21:$FN21,EK21)>5,EK21,"")) | EL22: =IF(G21="Hybrid - Thrust + 2 connections",IF(COUNTIF($EK21:$FN21,EL21)>1,EL21,""),IF(COUNTIF($EK21:$FN21,EL21)>5,EL21,"")) | EM22: =IF(H21="Hybrid - Thrust + 2 connections",IF(COUNTIF($EK21:$FN21,EM21)>1,EM21,""),IF(COUNTIF($EK21:$FN21,EM21)>5,EM21,"")) | EN22: =IF(I21="Hybrid - Thrust + 2 connections",IF(COUNTIF($EK21:$FN21,EN21)>1,EN21,""),IF(COUNTIF($EK21:$FN21,EN21)>5,EN21,"")) | EO22: =IF(J21="Hybrid - Thrust + 2 connections",IF(COUNTIF($EK21:$FN21,EO21)>1,EO21,""),IF(COUNTIF($EK21:$FN21,EO21)>5,EO21,"")) | EP22: =IF(K21="Hybrid - Thrust + 2 connections",IF(COUNTIF($EK21:$FN21,EP21)>1,EP21,""),IF(COUNTIF($EK21:$FN21,EP21)>5,EP21,"")) | EQ22: =IF(L21="Hybrid - Thrust + 2 connections",IF(COUNTIF($EK21:$FN21,EQ21)>1,EQ21,""),IF(COUNTIF($EK21:$FN21,EQ21)>5,EQ21,"")) | ER22: =IF(M21="Hybrid - Thrust + 2 connections",IF(COUNTIF($EK21:$FN21,ER21)>1,ER21,""),IF(COUNTIF($EK21:$FN21,ER21)>5,ER21,"")) | ... FN22: =IF(AI21="Hybrid - Thrust + 2 connections",IF(COUNTIF($EK21:$FN21,FN21)>1,FN21,""),IF(COUNTIF($EK21:$FN21,FN21)>5,FN21,"")) | FO22: =FO20+5 -> 5 | FP22: {=IF(FQ22<>"",LEFT(FQ22,FIND("*",FQ22)-1),INDEX($FP$75:$FP$172,FO22+1))} | FQ22: {=INDEX($FQ$75:$FQ$172,FO22+1)} | HD22: =IF($F21="Hybrid - Thrust + 2 connections",COUNTBLANK(J21:L21),"")
