Workbook
Name AcroBonus_A_Code: AcroDD!$B$306:$B$344
Name AcroBonus_A_Value: AcroDD!$C$306:$C$344
Name AcroBonus_B_Code: AcroDD!$E$306:$E$344
Name AcroBonus_B_Value: AcroDD!$F$306:$F$344
Name AcroBonus_C_Code: AcroDD!$H$306:$H$344
Name AcroBonus_C_Value: AcroDD!$I$306:$I$344
Name AcroBonus_P_Code: AcroDD!$K$306:$K$344
Name AcroBonus_P_Value: AcroDD!$L$306:$L$344
Name AcroPair_Code: AcroDD!$Q$4:$Q$85
Name AcroPair_Value: AcroDD!$R$4:$R$85
Name Cons_A_Code: AcroDD!$B$4:$B$31
Name Cons_A_Value: AcroDD!$C$4:$C$31
Name Cons_B_Code: AcroDD!$E$4:$E$31
Name Cons_B_Value: AcroDD!$F$4:$F$31
Name Cons_C_Code: AcroDD!$H$4:$H$31
Name Cons_C_Value: AcroDD!$I$4:$I$31
Name Cons_P_Code: AcroDD!$K$4:$K$31
Name Cons_P_Value: AcroDD!$L$4:$L$31
Name Conx_A_Code: AcroDD!$B$38:$B$77
Name Conx_A_Value: AcroDD!$C$38:$C$77
Name Conx_B_Code: AcroDD!$E$38:$E$77
Name Conx_B_Value: AcroDD!$F$38:$F$77
Name Conx_C_Code: AcroDD!$H$38:$H$77
Name Conx_C_Value: AcroDD!$I$38:$I$77
Name Conx_P_Code: AcroDD!$K$38:$K$77
Name Conx_P_Value: AcroDD!$L$38:$L$77
Name Dirx_A_Code: AcroDD!$B$84:$B$101
Name Dirx_A_Value: AcroDD!$C$84:$C$101
Name Dirx_B_Code: AcroDD!$E$84:$E$101
Name Dirx_B_Value: AcroDD!$F$84:$F$101
Name Dirx_C_Code: AcroDD!$H$84:$H$101
Name Dirx_C_Value: AcroDD!$I$84:$I$101
Name Dirx_P_Code: AcroDD!$K$84:$K$101
Name Dirx_P_Value: AcroDD!$L$84:$L$101
Name Hyb_Code: HybridDD!$AK$3:$AK$491
Name Hyb_Family: HybridDD!$A$3:$A$500
Name Hyb_Tech: HybridDD!$AL$3:$AL$491
Name Hyb_Tech_Value: HybridDD!$AM$3:$AM$491
Name Hybrid_ChoHY: 'Coach Card'!$BS$8:$BS$9
Name Hybrid_Mix_Req: HybridDD!$F$3:$F$80
Name Hybrid_Mix_Req_Value: HybridDD!$G$3:$G$80
Name HybridBonus_Code: HybridDD!$D$3:$D$30
Name HybridBonus_Value: HybridDD!$E$3:$E$30
Name HybridDD_Code: HybridDD!$B$3:$B$500
Name HybridDD_Value: HybridDD!$C$3:$C$500
Name Parts_Active: Data!$E$3:$E$11
Name Pos1_A_Code: AcroDD!$C$108:$C$147
Name Pos1_A_Value: AcroDD!$D$108:$D$147
Name Pos1_A_Var: AcroDD!$B$108:$B$147
Name Pos1_B_Code: AcroDD!$G$108:$G$147
Name Pos1_B_Value: AcroDD!$H$108:$H$147
Name Pos1_B_Var: AcroDD!$F$108:$F$147
Name Pos1_C_Code: AcroDD!$K$108:$K$147
Name Pos1_C_Value: AcroDD!$L$108:$L$147
Name Pos1_C_Var: AcroDD!$J$108:$J$147
Name Pos1_P_Code: AcroDD!$O$108:$O$147
Name Pos1_P_Value: AcroDD!$P$108:$P$147
Name Pos1_P_Var: AcroDD!$N$108:$N$147
Name Pos2_A_Code: AcroDD!$C$154:$C$193
Name Pos2_A_Value: AcroDD!$D$154:$D$193

Sheet Instructions
A1: Instructions | K1: Clubs to use on coch card drop down
A3: Coaches instructions | K3: Atlas SF
A4: > Change the logo as you please. Both in the "Coach Card"- and "Print"-sheet. | K4: Göteborg Sim
A5: > Go to the "Coach Card" sheet | K5: Hallsberg Artistic
A6: > Choose if to use "Federation" or "Club" | K6: Järfälla SS
A7: > If "Federation", choose federation name | K7: Jönköpings SS
A8: > If "Club", you can write the name of the club manually on the coach card, or create a drop list of clubs here to the right -->> | K8: Kontsim Amfritrite
A9: > Choose if this CC is for preliminaries, otherwise finals will be default | K9: Kristianstads SLS
A10: > Choose if you use 2026-rules. Otherwise 2027-rules are default. | K10: SK Neptun
A11: > Write the name of the competition | K11: SK Täby Synchro
A12: > Write the name of the Theme for this participant (mandatory for Free Combination!) | K12: Växjö SS
A13: > Choose Age group for this CC | K13: Örebro SA
A14: > Choose Event for this CC
A15: > Write the name of the participant(s)
A17: You will now be able to see how many elements the CC have to have according to WA-rules.
A18: And also how many elements that has been used.
A19: Time for chosen event will also be visable.
A20: > If red - The time limit for the program is incorrect acording to WA-rules.
A21: > Write the end time for the 1st part of the program (Minutes + Secoinds).
A22: > If red - Conflict with WA-rules
A23: > Choose what kind of performance the swimmer will do at this particulary time period.
A24: > If red - Conflict with WA-rules
A26: > Declare what DD(s) this element includes. Only one code per cell. By writing or drop-list.
A27: > If green background - This cell is mandatory for this element
... A47: > If you dont have calculation progran version 2024-20 or later, you have to manually paste (paste as value only!) it yourself (unlock the sheet first).

Sheet Coach Card
G1: COACH CARD
BX2: Base mark | CA2: 12y/Youth safety limits (Team/Combo)
BU3: Acro? | BV3: =IF(COUNTIF(F8,"*Acro*"),"Yes","No") -> No | BX3: 3 | BY3: 0 | CB3: Yo | CM3: 12 | CN3: Active
AO4: v. 9.1 | BU4: Solo? | BV4: =IF(COUNTIF(F8,"*Solo*"),"Yes","No") -> No | BX4: H | BY4: 0.5 | CA4: A | CB4: 2.7 | CM4: 2.5 | CN4: =IF(LEFT($F$7,2)="Yo",CB4,CM4) -> 2.5
K5: =IF(A5="Federation:","Country code:","") | L5: =IFERROR(INDEX(Data!CG1:CG209,MATCH(F5,Data!CF1:CF209,0)),"") | M5: Prelim: | O5: Final: | S5: 2026 rules : | W5: 2027 rules : | X5: X | BU5: Bonus? | BV5: =IF(OR($F$8="Open Team Technical",$F$8="Open Team Free",$F$8="Open Free Combination"),"OK","") | BX5: PA | BY5: 0.1 | CA5: B | CB5: 2.8 | CM5: 2.6 | CN5: =IF(LEFT($F$7,2)="Yo",CB5,CM5) -> 2.6
A6: Competition: | M6: Theme: | BU6: Duet | BV6: =IF(OR(LEFT(F8,10)="Women solo",LEFT(F8,4)="Male"),"",IF(LEFT(F8,10)="Women Duet","D",IF(LEFT(F8,5)="Mixed","D","T"))) -> T | BX6: A | BY6: 0.5 | CA6: C | CB6: 2.8 | CM6: 2.6 | CN6: =IF(LEFT($F$7,2)="Yo",CB6,CM6) -> 2.6
A7: Age group: | G7: =IF(F7<>"","","<-- Choose age group first") -> <-- Choose age group first | K7: =IF(F7<>"","Acrobatic safety limits on (Y/N)?:","") | L7: Y | M7: =IF(OR(LEFT(F7,2)="12",LEFT(F7,2)="Yo"),"X","") | N7: =IF(OR(LEFT(F7,2)="12",LEFT(F7,2)="Yo"),IF(L7="Y","X",""),IF(AND(M8<>"",L8="Y"),"X","")) | BU7: Group 1/2/3/4 | BV7: =IF(OR(LEFT(F7,1)="1",LEFT(F7,1)="Y"),IF(AND($T$5="",LEFT(F7,1)="Y"),3,4),IF(OR(LEFT(F7,1)="J",LEFT(F7,1)="S",LEFT(F7,1)="M"),2,"")) | BX7: B | BY7: 0.5 | CA7: P | CB7: 3 | CM7: 2.8 | CN7: =IF(LEFT($F$7,2)="Yo",CB7,CM7) -> 2.8
A8: Event: | G8: =IF(AND(F8="",F7<>""),"<-- Choose event","") | K8: =IF(F8<>"","Acrobatic safety limits on (Y/N)?:","") | L8: N | M8: =IF(F8<>"",IF(OR(LEFT(F7,2)="12",LEFT(F7,2)="Yo"),"",IF(F7="","",IF(I12>0,"X",""))),"") | BU8: Technical | BV8: =IF(RIGHT(F8,9)="Technical","T",IF(LEFT(F8,1)="F","F",IF(LEFT(F8,1)="A","A",""))) | BX8: C | BY8: 0.5
A9: Name of Competitor(s): | BS9: ChoHY | BU9: =IFERROR(CONCATENATE(F8," / ",F7),"") -> / | BX9: P | BY9: 0.5 | DS9: To many in Team Tech | DT9: =IF(COUNTIF(DQ13:DT13,">1")=0,"No","Yes") -> No
A10: Use EA apnea rule | C10: x | G10: Transition | H10: Technical Required Element | I10: =IF(OR(F8="Women Duet Free",F8="Mixed Duet Free",F8="Women Duet Technical",F8="Mixed Duet Technical"),"Acrobatic - Pair","Acrobatic") -> Acrobatic | J10: Hybrid - Free | K10: Hybrid - Thrust + 2 connections | L10: Hybrid - Solo | M10: Hybrid - Duet | N10: =IF(AND('Coach Card'!$T$5="",RIGHT('Coach Card'!$F$8,11)="Combination"),"Hybrid - Team (must have 4 athl.)","Hybrid - All Team swimmers") -> Hybrid - All Team swimmers | O10: Hybrid - Choreography (DD = 1) | P10: Hybrid - Cadence | Q10: Transition - Surface Connection | DQ10: Acro OK? | DR10: =IF(COUNTIF(DQ13:DT13,0)=0,"Yes","No") -> No | DS10: To many? | DT10: =IF(COUNTIF(DQ13:DT13,">2")=0,"No","Yes") -> No
G11: Trans. | H11: T.R.E. | I11: =IF(OR(F8="Women Duet Free",F8="Mixed Duet Free",F8="Women Duet Technical",F8="Mixed Duet Technical"),"PairAcro","TeamAcro") -> TeamAcro | J11: Hybrid | K11: H.Thrust | L11: H.Solo | M11: H.Duet | N11: H.Team 4 | O11: ChoHy | P11: H.Cadence | Q11: Conn.M | S11: =IF(BV8="T"," Technical Required Element - Check",IF(BV3="Yes",""," Hybrid families minimum - check")) -> Hybrid families minimum - check | Y11: Acrobatic - Check | BU11: Saftey limit | BV11: =IF(OR(BU9="Team Free / 12 and under",BU9="Team Free / Youth 13 - 15"),"Y","N") -> N | DD11: Check | DG11: Check | DQ11: Acro check in Acrobatics and Team Tech | DV11: Check bonus repeat
A12: 1.0000579 | B12: =IFERROR(TIME(0,C14,D14-5),"") | C12: =IFERROR(IF($T$5="",INDEX(Data!F3:F38,MATCH(BU9,Data!G3:G38,0)),INDEX(Data!F53:F88,MATCH(BU9,Data!G53:G88,0))),"") | D12: =IFERROR(TIME(0,C14,D14+5),"") | F12: Elements to use | H12: =IFERROR(IF($T$5="",INDEX(Data!H$3:H$38,MATCH($BU$9,Data!$G$3:$G$38,0)),INDEX(Data!H$53:H$88,MATCH($BU$9,Data!$G$53:$G$88,0))),"") | I12: =IFERROR(IF($T$5="",INDEX(Data!J$3:J$38,MATCH($BU$9,Data!$G$3:$G$38,0)),INDEX(Data!J$53:J$88,MATCH($BU$9,Data!$G$53:$G$88,0))),"") | J12: =IFERROR(IF($T$5="",INDEX(Data!I$3:I$38,MATCH($BU$9,Data!$G$3:$G$38,0)),INDEX(Data!I$53:I$88,MATCH($BU$9,Data!$G$53:$G$88,0))),"") | K12: =IFERROR(IF($T$5="",INDEX(Data!L$3:L$38,MATCH($BU$9,Data!$G$3:$G$38,0)),INDEX(Data!L$53:L$88,MATCH($BU$9,Data!$G$53:$G$88,0))),"") | L12: =IFERROR(IF($T$5="",INDEX(Data!N$3:N$38,MATCH($BU$9,Data!$G$3:$G$38,0)),INDEX(Data!N$53:N$88,MATCH($BU$9,Data!$G$53:$G$88,0))),"") | M12: =IFERROR(IF($T$5="",INDEX(Data!O$3:O$38,MATCH($BU$9,Data!$G$3:$G$38,0)),INDEX(Data!O$53:O$88,MATCH($BU$9,Data!$G$53:$G$88,0))),"") | N12: =IFERROR(IF($T$5="",INDEX(Data!P$3:P$38,MATCH($BU$9,Data!$G$3:$G$38,0)),INDEX(Data!P$53:P$88,MATCH($BU$9,Data!$G$53:$G$88,0))),"") | O12: =IFERROR(IF($T$5="",INDEX(Data!R$3:R$38,MATCH($BU$9,Data!$G$3:$G$38,0)),INDEX(Data!R$53:R$88,MATCH($BU$9,Data!$G$53:$G$88,0))),"") | P12: =IFERROR(IF($T$5="",INDEX(Data!S$3:S$38,MATCH($BU$9,Data!$G$3:$G$38,0)),INDEX(Data!S$53:S$88,MATCH($BU$9,Data!$G$53:$G$88,0))),"") | Q12: =IFERROR(IF($T$5="",INDEX(Data!Q$3:Q$38,MATCH($BU$9,Data!$G$3:$G$38,0)),INDEX(Data!Q$53:Q$88,MATCH($BU$9,Data!$G$53:$G$88,0))),"") | S12: =IF(BV8="T","TRE-1","T") -> T | T12: =IF(BV8="T","TRE-2","S") -> S | U12: =IF(BV8="T","TRE-3","R") -> R | V12: =IF(BV8="T",IF(LEFT(F8,5)="Mixed","","TRE-4"),"F") -> F | W12: =IF(BV8="T",IF(LEFT(F8,5)="Mixed","","TRE-5"),"A") -> A | X12: =IF(AND(BV4="No",BV8<>"T"),"C","") -> C | Y12: A | Z12: B | AA12: C | AB12: P | AW12: Senior | AX12: 0 | BU12: 1 | BV12: =IFERROR(SECOND(BU14-BV14),SECOND(BV14-BU14)) -> #N/A | DD12: {=IFERROR(INDEX($DN$19:$DN$68,MATCH(INDEX($DN$19:$DN$68,(SMALL(IF($DN$19:$DN$68<>"",ROW($DN$19:$DN$68)-ROW($DN$19)+1),1))),$DN$19:$DN$68,0),1),"")} | DE12: =IF(COUNTIF($DD$12:$DD$14,DD12)>1,"X","") -> X | DG12: =DG13 | DH12: =IF(DH13<>"",CONCATENATE("2",DH13),"") | DI12: =DI13 | DJ12: =DJ13 | DK12: =DK13 | DL12: =DL13 | DM12: =DM13 | DN12: =DN13 | DO12: =IF(DO13<>"",CONCATENATE("2",DO13),"") | DQ12: A | DR12: B | DS12: C | DT12: P | DV12: =DV13 | DW12: =DW13 | EI12: To many? | GW12: All families present? | GY12: =IF($F$8="Mixed Duet Technical",IF(COUNTIF(GW14:GY14,""),"No","Yes"),IF(COUNTIF(GW14:HA14,""),"No","Yes")) -> No
B13: =IF(CP17>D12,"Y","") | C13: =IF(OR(CP17<B12,CP17>D12),"Y","") -> Y | F13: Used elements | G13: =COUNTIF($F$19:$F$68,G10) -> 0 | H13: =IF(OR($F$7="",$F$8=""),"",COUNTIF($F$19:$F$68,H10)) | I13: =IF(OR($F$7="",$F$8=""),"",COUNTIF($F$19:$F$68,I10)) | J13: =IF(OR($F$7="",$F$8=""),"",COUNTIF($F$19:$F$68,J10)) | K13: =IF(OR($F$7="",$F$8=""),"",COUNTIF($F$19:$F$68,K10)) | L13: =IF(OR($F$7="",$F$8=""),"",COUNTIF($F$19:$F$68,L10)) | M13: =IF(OR($F$7="",$F$8=""),"",COUNTIF($F$19:$F$68,M10)) | N13: =IF(OR($F$7="",$F$8=""),"",COUNTIF($F$19:$F$68,N10)) | O13: =IF(OR($F$7="",$F$8=""),"",IF(COUNTIF($F$19:$F$68,O10)>1,COUNTIF($F$19:$F$68,O10),COUNTIF($J$19:$J$68,"ChoHy"))) | P13: =IF(OR($F$7="",$F$8=""),"",COUNTIF($F$19:$F$68,P10)) | Q13: =IF(OR($F$7="",$F$8=""),"",COUNTIF($F$19:$F$68,Q10)) | S13: =IF(OR($F$7="",$F$8=""),"",IF($BV$8="T",IF(GW14="X","OK","Not OK"),IF($BV$3="No",IF(GW17>0,"OK","Not OK"),""))) | T13: =IF(OR($F$7="",$F$8=""),"",IF($BV$8="T",IF(GX14="X","OK","Not OK"),IF($BV$3="No",IF(GX17>0,"OK","Not OK"),""))) | U13: =IF(OR($F$7="",$F$8=""),"",IF($BV$8="T",IF(GY14="X","OK","Not OK"),IF($BV$3="No",IF(GY17>0,"OK","Not OK"),""))) | V13: =IF(OR($F$7="",$F$8=""),"",IF($BV$8="T",IF(LEFT(F8,5)="Mixed","",IF(GZ14="X","OK","Not OK")),IF($BV$3="No",IF(GZ17>0,"OK","Not OK"),""))) | W13: =IF(OR($F$7="",$F$8=""),"",IF($BV$8="T",IF(LEFT(F8,5)="Mixed","",IF(HA14="X","OK","Not OK")),IF($BV$3="No",IF(HA17>0,"OK","Not OK"),""))) | X13: =IF(OR($F$7="",$F$8=""),"",IF(AND($BV$3="No",X12<>""),IF(HB17>0,"OK","Not OK"),"")) | Y13: =IF($BV$3="Yes",IF(AND(DQ13>0,DQ13<3),"OK","Not OK"),"") | Z13: =IF($BV$3="Yes",IF(AND(DR13>0,DR13<3),"OK","Not OK"),"") | AA13: =IF($BV$3="Yes",IF(AND(DS13>0,DS13<3),"OK",IF(AND($T$5="",LEFT($F$7,2)="Yo"),"Optional","Not OK")),"") | AB13: =IF($BV$3="Yes",IF(AND(DT13>0,DT13<3),"OK","Not OK"),"") | AN13: Routine total: | AO13: =SUM(AO18:AO68) -> 0 | AW13: Junior | AX13: 0.00028935185 | BV13: =BU14-BV14 -> #N/A | DD13: {=IFERROR(INDEX($DN$19:$DN$68,MATCH(INDEX($DN$19:$DN$68,(SMALL(IF($DN$19:$DN$68<>"",ROW($DN$19:$DN$68)-ROW($DN$19)+1),2))),$DN$19:$DN$68,0),1),"")} | DE13: =IF(COUNTIF($DD$12:$DD$14,DD13)>1,"X","") -> X | DG13: {=IFERROR(INDEX(TeamAcro_A_Pos1,MATCH(TRUE,INDEX((TeamAcro_A_Pos1<>""),),0)),"")} | DH13: {=IFERROR(INDEX(TeamAcro_A_Pos2,MATCH(TRUE,INDEX((TeamAcro_A_Pos2<>""),),0)),"")} | DI13: {=IFERROR(INDEX(TeamAcro_B_Cons,MATCH(TRUE,INDEX((TeamAcro_B_Cons<>""),),0)),"")} | DJ13: {=IFERROR(INDEX(TeamAcro_B_Conx,MATCH(TRUE,INDEX((TeamAcro_B_Conx<>""),),0)),"")} | DK13: {=IFERROR(INDEX(TeamAcro_C_Cons,MATCH(TRUE,INDEX((TeamAcro_C_Cons<>""),),0)),"")} | DL13: {=IFERROR(INDEX(TeamAcro_P_Cons,MATCH(TRUE,INDEX((TeamAcro_P_Cons<>""),),0)),"")} | DM13: {=IFERROR(INDEX(TeamAcro_P_Conx,MATCH(TRUE,INDEX((TeamAcro_P_Conx<>""),),0)),"")} | DN13: {=IFERROR(INDEX(TeamAcro_P_Pos1,MATCH(TRUE,INDEX((TeamAcro_P_Pos1<>""),),0)),"")} | DO13: {=IFERROR(INDEX(TeamAcro_P_Pos2,MATCH(TRUE,INDEX((TeamAcro_P_Pos2<>""),),0)),"")} | DQ13: =COUNTIF($EF$19:$EF$68,"A") -> 0 | DR13: =COUNTIF($EF$19:$EF$68,"B") -> 0 | DS13: =COUNTIF($EF$19:$EF$68,"C") -> 0 | DT13: =COUNTIF($EF$19:$EF$68,"P") -> 0 | DV13: {=IFERROR(INDEX(Team_Acro_P_Chk1,MATCH(TRUE,INDEX((Team_Acro_P_Chk1<>""),),0)),"")} | DW13: {=IFERROR(INDEX(Team_Acro_P_Chk2,MATCH(TRUE,INDEX((Team_Acro_P_Chk2<>""),),0)),"")} | EI13: =IF(COUNTIF(EI19:EI68,"X"),"Yes","") | GW13: TRE-1 | GX13: TRE-2 | GY13: TRE-3 | GZ13: TRE-4 | HA13: TRE-5 | HK13: Construction/Connection check B + P
B14: Total time: | C14: =IFERROR(IF($T$5="",MINUTE(INDEX(Data!$F$3:$F$38,MATCH(BU9,Data!$G$3:$G$38,0))),MINUTE(INDEX(Data!$F$53:$F$88,MATCH(BU9,Data!$G$53:$G$88,0)))),"") | D14: =IFERROR(IF($T$5="",SECOND(INDEX(Data!$F$3:$F$38,MATCH(BU9,Data!$G$3:$G$38,0))),SECOND(INDEX(Data!$F$53:$F$88,MATCH(BU9,Data!$G$53:$G$88,0)))),"") | H14: =IFERROR(IF(H12-H13=0,0,1),0) -> 0 | I14: =IFERROR(IF(I12-I13=0,0,1),0) -> 0 | J14: =IFERROR(IF(J12-J13=0,0,1),0) -> 0 | K14: =IFERROR(IF(K12-K13=0,0,1),0) -> 0 | L14: =IFERROR(IF(L12-L13=0,0,1),0) -> 0 | M14: =IFERROR(IF(M12-M13=0,0,1),0) -> 0 | N14: =IFERROR(IF(N12-N13=0,0,1),0) -> 0 | O14: =IFERROR(IF(O12-O13=0,0,1),0) -> 0 | ... Q14: =IFERROR(IF(Q12-Q13=0,0,1),0) -> 0 | R14: =IF(SUM(H14:Q14)=0,"OK","No") -> OK | AW14: Youth | AX14: 0.00024305556 | BU14: =IF(BV14=INDEX(Data!$F$3:$F$38,MATCH(BU9,Data!$G$3:$G$38,0)),"X",INDEX(Data!$F$3:$F$38,MATCH(BU9,Data!$G$3:$G$38,0))-BU12) -> #N/A | BV14: =INDEX($CP$19:$CP$55,MATCH("x",$E$19:$E$55,0)) -> #N/A | BW14: 0.0024884259 | DD14: {=IFERROR(INDEX($DN$19:$DN$68,MATCH(INDEX($DN$19:$DN$68,(SMALL(IF($DN$19:$DN$68<>"",ROW($DN$19:$DN$68)-ROW($DN$19)+1),3))),$DN$19:$DN$68,0),1),"")} | DE14: =IF(COUNTIF($DD$12:$DD$14,DD14)>1,"X","") -> X | EV14: To many? | GW14: =IF(COUNTIF(TRE_check,RIGHT(GW13,1)),"X","") | GX14: =IF(COUNTIF(TRE_check,RIGHT(GX13,1)),"X","") | GY14: =IF(COUNTIF(TRE_check,RIGHT(GY13,1)),"X","") | GZ14: =IF(COUNTIF(TRE_check,RIGHT(GZ13,1)),"X","") | HA14: =IF(COUNTIF(TRE_check,RIGHT(HA13,1)),"X","")
A15: ELEMENTS IN ORDER OF PERFORMANCE | P15: {=CELL("Address")} -> #N/A | Q15: {=IF(AND(E20<>"PA",LEFT(INDIRECT(CONCATENATE("F",RIGHT(P15,2))),4)="Acro"),"X","")} -> #N/A | AW15: 12 and U | AX15: 0.00024305556 | CO15: =IFERROR(INDEX(Data!T3:T38,MATCH(BU9,Data!G3:G38,0)),"") | CP15: =IFERROR(INDEX(Data!U3:U38,MATCH(BU9,Data!G3:G38,0)),"") | CQ15: 0.0023726852 | DN15: =IF(OR(DD12=DD13,DD12=DD14,DD13=DD14),"Yes","No") -> Yes | DO15: =INDEX($DD$12:$DD$14,MATCH("X",$DE$12:$DE$14,0)) | EI15: {=IFERROR(INDEX(EI20:EI69,MATCH("X",EI20:EI68,0)+1),"")} | FQ15: =IF(OR(COUNTBLANK(FQ19:FQ68)<50,COUNTBLANK(FP19:FP68)<50),"Yes","") | GW15: All families present? | GY15: =IF(COUNTIF(GW17:HB17,0),"No","Yes") -> No
H16: Base Mark or No DD | K16: (Green) = A value has to be inserted | R16: (Gray) = No entry in this cell | X16: (Red) = Something is wrong - check rules | AK16: Color Hybrid families: | AN16: =IF($BV$5="OK","HYBRID BONUS","") | AO16: Total | AW16: APNEA | BI16: Cons_ | BJ16: Conx_ | BK16: Dirx_ | BL16: Pos1_ | BM16: Pos2_ | BN16: RotB_ | BO16: RotP_ | BP16: AcroBonus_ | BQ16: AcroBonus_ | DQ16: Team Acro repeats | FQ16: {=IF($T$5="",_xlfn.LET(_xlpm.t,_xlfn.XLOOKUP(1,ISTEXT(FQ19:FQ58)*(FQ19:FQ58<>""),FQ19:FQ58,""),IFERROR(LEFT(_xlpm.t,FIND("*",_xlpm.t)),_xlpm.t)),"")} | GW16: Amount Hybrid families | HD16: Hyb.Req-check
A17: Time start | C17: Time end | E17: Last (X) | F17: Part | G17: Element number | J17: DECLARED DIFFICULTY | AO17: Sum | AW17: Limit | AX17: =IFERROR(IF(LEFT($F$7,2)="Ju",AX13,IF(LEFT($F$7,2)="Yo",AX14,IF(LEFT($F$7,2)="12",AX15,0))),"") -> 0 | BA17: =COUNTIF(BA19:BA58,"=X") -> 0 | BG17: Correct part? | BI17: Drop down formulas for each DD-cell | CP17: =MAX(CP19:CP68) -> 0 | CQ17: =IF(CP17>D12,"Y","N") -> N | CT17: Acro check | CU17: No choise for this Acro type | DD17: Minimum Declaration Requirements | DK17: Bonus check | DN17: Pair Acro | DQ17: Group A | DS17: Group B | DU17: Group C | DV17: Group P | DZ17: Group A+P | EB17: Group P | EF17: Acrobatic routine | EI17: Hybrid Family | EK17: Hybrid check | FQ17: Hybrid Teqnique | GW17: =SUM(GW19:GW68) -> 0 | GX17: =SUM(GX19:GX68) -> 0 | GY17: =SUM(GY19:GY68) -> 0 | GZ17: =SUM(GZ19:GZ68) -> 0 | HA17: =SUM(HA19:HA68) -> 0 | HB17: =IF(BV4="Yes","",SUM(HB19:HB68)) -> 0 | HG17: 0.00023148148 | HI17: TRE check
A18: Min | B18: Sec | C18: Min | D18: Sec | J18: Cons | K18: Conn | L18: Dir | M18: Pos1 | N18: Pos2 | O18: RotB | P18: RotP | Q18: Bonus1 | R18: Bonus2 | AW18: Element | AX18: Start | AY18: End | AZ18: Time | BA18: EA-violation | BI18: 1 | BJ18: 2 | BK18: 3 | BL18: 4 | BM18: 5 | BN18: 6 | BO18: 7 | BP18: 8 | BQ18: 9 | BR18: 10 | BS18: 11 | BT18: 12 | BU18: 13 | BV18: 14 | BW18: 15 | BX18: 16 | BY18: 17 | BZ18: 18 | CA18: 19 | CB18: 20 | CC18: 21 | CD18: 22 | CE18: 23 | CF18: 24 | CG18: 25 | CH18: 26 | CI18: 27 | CJ18: 28 | CK18: 29 | CL18: 30 | CP18: 0 | CR18: =CQ18/CP17 -> #DIV/0! | CT18: Pos1<>Pos2 | CU18: Cons | CV18: Conx | CW18: Dirx | CX18: Pos1 | CY18: Pos2 | CZ18: RotB | DA18: RotP | DB18: Bon1 | DC18: Bon2 | DD18: Cons | DE18: Conx | DF18: Dirx | DG18: Pos1 | DH18: Pos2 | DI18: RotB | DJ18: RotP | DK18: Bon1 | DL18: Bon2 | DQ18: Pos1 | DR18: Pos2 | DS18: Cons | DT18: Conx | DU18: Cons | DV18: Cons | DW18: Conx | DX18: Pos1 | DY18: Pos2 | DZ18: (Pos1) | EA18: (Pos2) | EB18: Bonus1 | EC18: Bonus2 | ED18: Chk1 | EE18: Chk2 | EF18: Group | EG18: To many | EI18: >5 (>1) | EK18: 1 | EL18: 2 | EM18: 3 | EN18: 4 | EO18: 5 | EP18: 6 | EQ18: 7 | ER18: 8 | ES18: 9 | ET18: 10 | EU18: 11 | EV18: 12 | EW18: 13 | EX18: 14 | EY18: 15 | EZ18: 16 | FA18: 17 | FB18: 18 | FC18: 19 | FD18: 20 | FE18: 21 | FF18: 22 | FG18: 23 | FH18: 24 | FI18: 25 | FJ18: 26 | FK18: 27 | FL18: 28 | FM18: 29 | FN18: 30 | FP18: =IF(T5="",2,3) -> 2 | FQ18: >3 | FR18: 1 | FS18: 2 | FT18: 3 | FU18: 4 | FV18: 5 | FW18: 6 | FX18: 7 | FY18: 8 | FZ18: 9 | GA18: 10 | GB18: 11 | GC18: 12 | GD18: 13 | GE18: 14 | GF18: 15 | GG18: 16 | GH18: 17 | GI18: 18 | GJ18: 19 | GK18: 20 | GL18: 21 | GM18: 22 | GN18: 23 | GO18: 24 | GP18: 25 | GQ18: 26 | GR18: 27 | GS18: 28 | GT18: 29 | GU18: 30 | GW18: T | GX18: S | GY18: R | GZ18: F | HA18: A | HB18: C
A19: =IF(C14="","",0) | B19: =IF(D14="","",0) | G19: =IF(F19<>"",IF(OR(F19="Transition",F19="Transition - Surface Connection"),0,1),"") | H19: =IFERROR(IF(E20="3","",IF(OR(F19="Hybrid - Choreography (DD = 1)",LEFT(F19,5)="Trans"),"No DD",CONCATENATE("BM = ",I20))),"") | AW19: =E20 | AX19: =IF(AY19=0,"",TIME(0,A19,B19)) | AY19: =TIME(0,C19,D19) -> 0 | AZ19: =IFERROR(AY19-AX19,"") | BA19: =IF($AX$17=0,"",IF(AND($C$10<>"",AW19="H",AZ19>$AX$17),"X","")) | BG19: =IFERROR(IF(F19<>"",INDEX(Parts_Active,MATCH(F19,Parts_Active,0)),""),"No") | BI19: =IF($E20="H",IF($F19="Hybrid - Thrust + 2 connections","Hybrid_Mix_Req",IF($F19="Hybrid - Choreography (DD = 1)","Hybrid_ChoHY","HybridDD_Code")),IF($E20=3,"TreDD_Code",IF($E20="PA","AcroPair_Code",IF(LEFT($F19,4)="Acro",CONCATENATE(BI$16,$E20,"_Code"),"Data!$BI$1:$BI$5")))) -> Data!$BI$1:$BI$5 | BJ19: =IF($E20="H",IF($F19="Hybrid - Thrust + 2 connections","Hybrid_Mix_Req",IF($F19="Hybrid - min 4 swimmers (no DD)","Data!$BI$1:$BI$5","HybridDD_Code")),IF($E20=3,"TreDD_Code",IF($E20="PA","AcroPair_Code",IF(LEFT($F19,4)="Acro",CONCATENATE(BJ$16,$E20,"_Code"),"Data!$BI$1:$BI$5")))) -> Data!$BI$1:$BI$5 | BK19: =IF($E20="H",IF($F19="Hybrid - Thrust + 2 connections","Hybrid_Mix_Req",IF($F19="Hybrid - min 4 swimmers (no DD)","Data!$BI$1:$BI$5","HybridDD_Code")),IF($E20=3,"TreDD_Code",IF($E20="PA","AcroPair_Code",IF(LEFT($F19,4)="Acro",CONCATENATE(BK$16,$E20,"_Code"),"Data!$BI$1:$BI$5")))) -> Data!$BI$1:$BI$5 | BL19: =IF($E20="H",IF($F19="Hybrid - Thrust + 2 connections","Hybrid_Mix_Req",IF($F19="Hybrid - min 4 swimmers (no DD)","Data!$BI$1:$BI$5","HybridDD_Code")),IF($E20=3,"TreDD_Code",IF($E20="PA","AcroPair_Code",IF(LEFT($F19,4)="Acro",CONCATENATE(BL$16,$E20,"_Code"),"Data!$BI$1:$BI$5")))) -> Data!$BI$1:$BI$5 | BM19: =IF($E20="H",IF($F19="Hybrid - Thrust + 2 connections","Hybrid_Mix_Req",IF($F19="Hybrid - min 4 swimmers (no DD)","Data!$BI$1:$BI$5","HybridDD_Code")),IF($E20=3,"TreDD_Code",IF($E20="PA","AcroPair_Code",IF(LEFT($F19,4)="Acro",CONCATENATE(BM$16,$E20,"_Code"),"Data!$BI$1:$BI$5")))) -> Data!$BI$1:$BI$5 | BN19: =IF($E20="H",IF($F19="Hybrid - Thrust + 2 connections","Hybrid_Mix_Req",IF($F19="Hybrid - min 4 swimmers (no DD)","Data!$BI$1:$BI$5","HybridDD_Code")),IF($E20=3,"TreDD_Code",IF($E20="PA","AcroPair_Code",IF(LEFT($F19,4)="Acro",CONCATENATE(BN$16,$E20,"_Code"),"Data!$BI$1:$BI$5")))) -> Data!$BI$1:$BI$5 | BO19: =IF($E20="H",IF($F19="Hybrid - Thrust + 2 connections","Hybrid_Mix_Req",IF($F19="Hybrid - min 4 swimmers (no DD)","Data!$BI$1:$BI$5","HybridDD_Code")),IF($E20=3,"TreDD_Code",IF($E20="PA","AcroPair_Code",IF(LEFT($F19,4)="Acro",CONCATENATE(BO$16,$E20,"_Code"),"Data!$BI$1:$BI$5")))) -> Data!$BI$1:$BI$5 | BP19: =IF($E20="H",IF($F19="Hybrid - Thrust + 2 connections","Hybrid_Mix_Req",IF($F19="Hybrid - min 4 swimmers (no DD)","Data!$BI$1:$BI$5","HybridDD_Code")),IF($E20=3,"TreDD_Code",IF($E20="PA","AcroPair_Code",IF(LEFT($F19,4)="Acro",CONCATENATE(BP$16,$E20,"_Code"),"Data!$BI$1:$BI$5")))) -> Data!$BI$1:$BI$5 | BQ19: =IF($E20="H",IF($F19="Hybrid - Thrust + 2 connections","Hybrid_Mix_Req",IF($F19="Hybrid - min 4 swimmers (no DD)","Data!$BI$1:$BI$5","HybridDD_Code")),IF($E20=3,"TreDD_Code",IF($E20="PA","AcroPair_Code",IF(LEFT($F19,4)="Acro",CONCATENATE(BQ$16,$E20,"_Code"),"Data!$BI$1:$BI$5")))) -> Data!$BI$1:$BI$5 | BR19: =IF($E20="H",IF($F19="Hybrid - Thrust + 2 connections","Data!$BI$1:$BI$5","HybridDD_Code"),"Data!$BI$1:$BI$5") -> Data!$BI$1:$BI$5 | BS19: =$BR19 -> Data!$BI$1:$BI$5 | BT19: =$BR19 -> Data!$BI$1:$BI$5 | BU19: =$BR19 -> Data!$BI$1:$BI$5 | BV19: =$BR19 -> Data!$BI$1:$BI$5 | BW19: =$BR19 -> Data!$BI$1:$BI$5 | BX19: =$BR19 -> Data!$BI$1:$BI$5 | BY19: =$BR19 -> Data!$BI$1:$BI$5 | BZ19: =$BR19 -> Data!$BI$1:$BI$5 | ... CL19: =$BR19 -> Data!$BI$1:$BI$5 | CO19: =TIME(0,A19,B19) -> #VALUE! | CP19: =TIME(0,C19,D19) -> 0 | CQ19: =IF(CP19>$D$12,"X","") | CR19: =IF(AND(F19="Hybrid - Thrust + 2 connections",OR(LEFT(J19,1)="T",LEFT(K19,1)="T",LEFT(L19,1)="T",LEFT(PB19,1)="T",LEFT(M19,1)="T",LEFT(N19,1)="T",LEFT(O19,1)="T",LEFT(P19,1)="T",LEFT(Q19,1)="T",LEFT(R19,1)="T",LEFT(S19,1)="T",LEFT(T19,1)="T",LEFT(U19,1)="T",LEFT(V19,1)="T",LEFT(W19,1)="T",LEFT(X19,1)="T",LEFT(AK19,1)="T",LEFT(AL19,1)="T",LEFT(AM19,1)="T")),IF(OR(LEN(J19)=2,LEN(K19)=2,LEN(L19)=2,LEN(M19)=2,LEN(N19)=2,LEN(O19)=2,LEN(P19)=2,LEN(Q19)=2,LEN(R19)=2,LEN(S19)=2,LEN(T19)=2,LEN(U19)=2,LEN(V19)=2,LEN(W19)=2,LEN(X19)=2,LEN(Y19)=2,LEN(Z19)=2,LEN(AK19)=2,LEN(AL19)=2,LEN(AM19)=2),"X",""),"") | CT19: =IF(LEFT(F19,4)="Acro",IF(AND(N19<>"",M19=RIGHT(N19,2)),"X","OK"),"") | CU19: =IFERROR(IF(AND(LEFT($F19,4)="Acro",INDEX(Requ_App,MATCH(BI19,Requ_Code,0))="No"),"X",""),"") | CV19: =IFERROR(IF(AND(LEFT($F19,4)="Acro",INDEX(Requ_App,MATCH(BJ19,Requ_Code,0))="No"),"X",""),"") | CW19: =IFERROR(IF(AND(LEFT($F19,4)="Acro",INDEX(Requ_App,MATCH(BK19,Requ_Code,0))="No"),"X",""),"") | CX19: =IFERROR(IF(AND(LEFT($F19,4)="Acro",INDEX(Requ_App,MATCH(BL19,Requ_Code,0))="No"),"X",""),"") | CY19: =IFERROR(IF(AND(LEFT($F19,4)="Acro",INDEX(Requ_App,MATCH(BM19,Requ_Code,0))="No"),"X",""),"") | CZ19: =IFERROR(IF(AND(LEFT($F19,4)="Acro",INDEX(Requ_App,MATCH(BN19,Requ_Code,0))="No"),"X",""),"") | DA19: =IFERROR(IF(AND(LEFT($F19,4)="Acro",INDEX(Requ_App,MATCH(BO19,Requ_Code,0))="No"),"X",""),"") | DB19: =IFERROR(IF(AND(LEFT($F19,4)="Acro",INDEX(Requ_App,MATCH(BP19,Requ_Code,0))="No"),"X",""),"") | DC19: =IFERROR(IF(AND(LEFT($F19,4)="Acro",INDEX(Requ_App,MATCH(BP19,Requ_Code,0))="No"),"X",""),"") | DD19: =IF(OR($E20="A",$E20="B",$E20="C",$E20="P"),"Z","") | DE19: =IF(OR($E20="B",$E20="P"),"Z","") | DF19: =IF(OR($E20="A",$E20="C"),"Z","") | DG19: =IF(OR($E20="A",$E20="B",$E20="C",$E20="P"),"Z","") | DK19: =IF(AND(E20="A",OR(Q19="Grip",Q19="Conn",Q19="Catch")),"A1",IF(AND(E20="A",OR(Q19="Hula",Q19="RetSq",Q19="RetPa")),"A2",IF(AND(E20="B",OR(Q19="Twirl",Q19="RotF")),"B1",IF(AND(E20="B",OR(Q19="Moon",Q19="Mov",Q19="Hold")),"B2",IF(AND(E20="P",OR(Q19="Porp",Q19="Splch")),"P1",IF(AND(E20="P",OR(Q19="Diva",Q19="Stand")),"P2",IF(AND(E20="P",OR(Q19="Spider",Q19="Climb")),"P3",IF(AND(E20="P",OR(Q19="Fall",Q19="FTurn")),"P4",IF(AND(E20="C",OR(Q19="Ju",Q19="1P>H",Q19="H>1P",Q19="Jump",Q19="Jump>",Q19="On1Foot",Q19="1F>1F",Q19="1F>1F+",Q19="2F>2F")),"C1",IF(AND(E20="C",OR(Q19="Run",Q19="BRun")),"C2",1)))))))))) -> 1 | DL19: =IF(AND(E20="A",OR(R19="Grip",R19="Conn",R19="Catch")),"A1",IF(AND(E20="A",OR(R19="Hula",R19="RetSq",R19="RetPa")),"A2",IF(AND(E20="B",OR(R19="Twirl",R19="RotF")),"B1",IF(AND(E20="B",OR(R19="Moon",R19="Mov",R19="Hold")),"B2",IF(AND(E20="P",OR(R19="Porp",R19="Spich")),"P1",IF(AND(E20="P",OR(R19="Diva",R19="Stand")),"P2",IF(AND(E20="P",OR(R19="Spider",R19="Climb")),"P3",IF(AND(E20="P",OR(R19="Fall",R19="FTurn")),"P4",IF(AND(E20="C",OR(R19="Ju",R19="1P>H",R19="H>1P",R19="Jump",R19="Jump>",R19="On1Foot",R19="1F>1F",R19="1F>1F+",R19="2F>2F")),"C1",IF(AND(E20="C",OR(R19="Run",R19="BRun")),"C2",2)))))))))) -> 2 | DM19: =IF(AND(N19="",OR(Q19<>"",R19<>"")),"X",IF(AND(LEFT(F19,4)="Acro",Q19<>"",OR(Q19=R19,DK19=DL19)),IF(R19="C-Roll","","X"),IF(OR(AND(E20="A",Q19="Catch",R19<>"Dbl"),AND(E20="A",R19="Catch",Q19<>"Dbl")),"X",""))) | DN19: =IF(E20="PA",J19,"") | DO19: 1 | DQ19: =IF(AND($E20="A",COUNTIF($DZ$19:$EA$68,DZ19)>1),DZ19,"") | DR19: =IF(AND($E20="A",COUNTIF($DZ$19:$EA$68,EA19)>1),EA19,"") | DS19: =IF(AND($E20="B",COUNTIF($J$19:$J$68,J19)>1),J19,"") | DT19: =IF(AND($E20="B",COUNTIF($K$19:$K$68,K19)>1),K19,"") | DU19: =IF(AND($E20="C",COUNTIF($J$19:$J$68,J19)>1),J19,"") | DV19: =IF(AND($E20="P",COUNTIF($J$19:$J$68,J19)>1),J19,"") | DW19: =IF(AND($E20="P",COUNTIF($K$19:$K$68,K19)>1),K19,"") | DX19: =IF(AND($E20="P",COUNTIF($DZ$19:$EA$68,DZ19)>1),DZ19,"") | DY19: =IF(AND($E20="P",COUNTIF($DZ$19:$EA$68,EA19)>1),EA19,"") | DZ19: =IFERROR(IF(OR(E20="A",E20="P"),M19,""),"") | EA19: =IFERROR(IF(OR(E20="A",E20="P"),RIGHT(N19,2),""),"") | EB19: =IF(Q19="","",IF(AND($E20="P",COUNTIF($Q$19:$R$68,Q19)>1),Q19,"")) | EC19: =IF(R19="","",IF(AND($E20="P",COUNTIF($Q$19:$R$68,R19)>1),R19,"")) | ED19: =IF(AND(EB19<>"",COUNTIF(TeamAcro_P_Bonus,EB19)>1),EB19,"") | EE19: =IF(AND(EC19<>"",COUNTIF(TeamAcro_P_Bonus,EC19)>1),EC19,"") | EF19: =IF(AND(OR($F$8="Open Team Acrobatic",$F$8="Open Team Technical"),LEFT(F19,4)="Acro"),E20,"") | EG19: =IF(EF19="","",IFERROR(IF($F$8="Open Team Acrobatic",IF(HLOOKUP(EF19,$DQ$12:$DT$13,2,FALSE)>2,"X",""),IF(HLOOKUP(EF19,$DQ$12:$DT$13,2,FALSE)>1,"X","")),"")) | EI19: =IF(OR(AND(F19="Hybrid - Thrust + 2 connections",EI20="T"),AND(E20="H",EI20<>"",EI73="X")),"X","") | EK19: =IFERROR(IF(AND($E20="H",J19<>"",J19<>"ChoHY"),IF(OR(LEFT(J19,1)="T",LEFT(J19,1)="S",LEFT(J19,1)="A",LEFT(J19,1)="F",LEFT(J19,1)="C"),LEFT(J19,1),"R"),EK$18),"") -> 1 | EL19: =IFERROR(IF(AND($E20="H",K19<>""),IF(OR(LEFT(K19,1)="T",LEFT(K19,1)="S",LEFT(K19,1)="A",LEFT(K19,1)="F",LEFT(K19,1)="C"),LEFT(K19,1),"R"),EL$18),"") -> 2 | EM19: =IFERROR(IF(AND($E20="H",L19<>""),IF(OR(LEFT(L19,1)="T",LEFT(L19,1)="S",LEFT(L19,1)="A",LEFT(L19,1)="F",LEFT(L19,1)="C"),LEFT(L19,1),"R"),EM$18),"") -> 3 | EN19: =IFERROR(IF(AND($E20="H",M19<>""),IF(OR(LEFT(M19,1)="T",LEFT(M19,1)="S",LEFT(M19,1)="A",LEFT(M19,1)="F",LEFT(M19,1)="C"),LEFT(M19,1),"R"),EN$18),"") -> 4 | EO19: =IFERROR(IF(AND($E20="H",N19<>""),IF(OR(LEFT(N19,1)="T",LEFT(N19,1)="S",LEFT(N19,1)="A",LEFT(N19,1)="F",LEFT(N19,1)="C"),LEFT(N19,1),"R"),EO$18),"") -> 5 | EP19: =IFERROR(IF(AND($E20="H",O19<>""),IF(OR(LEFT(O19,1)="T",LEFT(O19,1)="S",LEFT(O19,1)="A",LEFT(O19,1)="F",LEFT(O19,1)="C"),LEFT(O19,1),"R"),EP$18),"") -> 6 | EQ19: =IFERROR(IF(AND($E20="H",P19<>""),IF(OR(LEFT(P19,1)="T",LEFT(P19,1)="S",LEFT(P19,1)="A",LEFT(P19,1)="F",LEFT(P19,1)="C"),LEFT(P19,1),"R"),EQ$18),"") -> 7 | ER19: =IFERROR(IF(AND($E20="H",Q19<>""),IF(OR(LEFT(Q19,1)="T",LEFT(Q19,1)="S",LEFT(Q19,1)="A",LEFT(Q19,1)="F",LEFT(Q19,1)="C"),LEFT(Q19,1),"R"),ER$18),"") -> 8 | ES19: =IFERROR(IF(AND($E20="H",R19<>""),IF(OR(LEFT(R19,1)="T",LEFT(R19,1)="S",LEFT(R19,1)="A",LEFT(R19,1)="F",LEFT(R19,1)="C"),LEFT(R19,1),"R"),ES$18),"") -> 9 | ... FN19: =IFERROR(IF(AND($E20="H",AM19<>""),IF(OR(LEFT(AM19,1)="T",LEFT(AM19,1)="S",LEFT(AM19,1)="A",LEFT(AM19,1)="F",LEFT(AM19,1)="C"),LEFT(AM19,1),"R"),FN$18),"") -> 30 | GW19: =COUNTIF($EK19:$FN19,GW$18) -> 0 | GX19: =COUNTIF($EK19:$FN19,GX$18) -> 0 | GY19: =COUNTIF($EK19:$FN19,GY$18) -> 0 | GZ19: =COUNTIF($EK19:$FN19,GZ$18) -> 0 | HA19: =COUNTIF($EK19:$FN19,HA$18) -> 0 | HB19: =COUNTIF($EK19:$FN19,HB$18) -> 0 | HD19: =IF(AND($F19="Hybrid - Thrust + 2 connections",HD20=0,LEFT($J19,1)="C",LEFT($K19,1)="C",LEFT($L19,1)="C"),"X","") | HI19: =IF(E20=3,IF(_xlfn.NUMBERVALUE(LEFT(J19,1))>0,_xlfn.NUMBERVALUE(LEFT(J19,1)),""),"") | HK19: =IF(OR(E20="B",E20="P"),E20,"") | HL19: =IF(AND(J19<>"",HK19<>""),IF(HK19="B",MATCH(J19,AcroDD!$U$3:$AE$3,0),MATCH(J19,AcroDD!$U$30:$AC$30,0)),"") | HM19: =IF(AND(K19<>"",HK19<>""),K19,"") | HN19: =_xlfn.LET(_xlpm.lista,IF(HK19="B",INDEX(AcroDD!$T$4:$AE$23,0,HL19+1),INDEX(AcroDD!$T$31:$AC$50,0,HL19+1)),IF(AND(OR(HK19="B",HK19="P"),HL19<>"",HM19<>""),IF(ISNUMBER(MATCH(HM19,_xlpm.lista,0)),"OK","X"),""))
E20: =IF(F19="Acrobatic - Pair","PA",IF(F19="Acrobatic Airborn","A",IF(F19="Acrobatic Balance","B",IF(F19="Acrobatic Combined","C",IF(F19="Acrobatic Platform","P",IF(F19="Technical Required Element",3,IF(LEFT(F19,4)="Hybr","H",""))))))) | F20: =IF(AND(F19="Hybrid - Thrust + 2 connections",CR19="X"),"Hybrid - Thrust",IF(OR(E20="A",E20="B",E20="C",E20="P"),"Acrobatic","")) | H20: =IF(E20="PA",IF(OR(LEFT(J19,1)="L",LEFT(J19,1)="S"),"A-Pair-Lift",IF(OR(LEFT(J19,1)="W",LEFT(J19,1)="T"),"A-Pair-Throw",IF(LEFT(J19,1)="J","A-Pair-Jump","A-Pair"))),IF(OR(E20="A",E20="B",E20="C",E20="P"),CONCATENATE("Acro-",E20),"")) | I20: =IF(OR(F19="Hybrid - Choreography (DD = 1)",LEFT(F19,5)="Trans"),0,INDEX($BY$3:$BY$9,MATCH(E20,$BX$3:$BX$9,0))) -> #N/A | J20: =IFERROR(IF($H19="No DD",IF(J19="ChoHY",1,0),IF(OR(ISBLANK(J19),J19="N/A"),0,INDEX(INDIRECT(BI20),MATCH(J19,INDIRECT(BI19),0)))),0) -> 0 | K20: =IFERROR(IF($H19="No DD",0,IF(OR(ISBLANK(K19),K19="N/A"),0,INDEX(INDIRECT(BJ20),MATCH(K19,INDIRECT(BJ19),0)))),0) -> 0 | L20: =IFERROR(IF($H19="No DD",0,IF(OR(ISBLANK(L19),L19="N/A"),0,INDEX(INDIRECT(BK20),MATCH(L19,INDIRECT(BK19),0)))),0) -> 0 | M20: =IFERROR(IF($H19="No DD",0,IF(OR(ISBLANK(M19),M19="N/A"),0,INDEX(INDIRECT(BL20),MATCH(M19,INDIRECT(BL19),0)))),0) -> 0 | N20: =IFERROR(IF($H19="No DD",0,IF(OR(ISBLANK(N19),N19="N/A"),0,INDEX(INDIRECT(BM20),MATCH(N19,INDIRECT(BM19),0)))),0) -> 0 | O20: =IFERROR(IF($H19="No DD",0,IF(OR(ISBLANK(O19),O19="N/A"),0,INDEX(INDIRECT(BN20),MATCH(O19,INDIRECT(BN19),0)))),0) -> 0 | P20: =IFERROR(IF($H19="No DD",0,IF(OR(ISBLANK(P19),P19="N/A"),0,INDEX(INDIRECT(BO20),MATCH(P19,INDIRECT(BO19),0)))),0) -> 0 | Q20: =IFERROR(IF($H19="No DD",0,IF(OR(ISBLANK(Q19),Q19="N/A"),0,INDEX(INDIRECT(BP20),MATCH(Q19,INDIRECT(BP19),0)))),0) -> 0 | R20: =IFERROR(IF($H19="No DD",0,IF(OR(ISBLANK(R19),R19="N/A"),0,INDEX(INDIRECT(BQ20),MATCH(R19,INDIRECT(BQ19),0)))),0) -> 0 | ... AM20: =IFERROR(IF($H19="No DD",0,IF(OR(ISBLANK(AM19),AM19="N/A"),0,INDEX(INDIRECT(CL20),MATCH(AM19,INDIRECT(CL19),0)))),0) -> 0 | AN20: =IFERROR(IF(E20="H",INDEX(HybridBonus_Value,MATCH(AN19,HybridBonus_Code,0)),""),"") | AO20: =IFERROR(SUM(I20:AN20),"") | BI20: =IF($E20="H",IF($F19="Hybrid - Thrust + 2 connections","Hybrid_Mix_Req_Value","HybridDD_Value"),IF($E20=3,"TreDD_Value",IF($E20="PA","AcroPair_Value",IF(LEFT($F19,4)="Acro",CONCATENATE(BI$16,$E20,"_Value"),"")))) | BJ20: =IF($E20="H",IF($F19="Hybrid - Thrust + 2 connections","Hybrid_Mix_Req_Value","HybridDD_Value"),IF($E20=3,"TreDD_Value",IF($E20="PA","AcroPair_Value",IF(LEFT($F19,4)="Acro",CONCATENATE(BJ$16,$E20,"_Value"),"")))) | BK20: =IF($E20="H",IF($F19="Hybrid - Thrust + 2 connections","Hybrid_Mix_Req_Value","HybridDD_Value"),IF($E20=3,"TreDD_Value",IF($E20="PA","AcroPair_Value",IF(LEFT($F19,4)="Acro",CONCATENATE(BK$16,$E20,"_Value"),"")))) | BL20: =IF($E20="H",IF($F19="Hybrid - Thrust + 2 connections","Hybrid_Mix_Req_Value","HybridDD_Value"),IF($E20=3,"TreDD_Value",IF($E20="PA","AcroPair_Value",IF(LEFT($F19,4)="Acro",CONCATENATE(BL$16,$E20,"_Value"),"")))) | BM20: =IF($E20="H",IF($F19="Hybrid - Thrust + 2 connections","Hybrid_Mix_Req_Value","HybridDD_Value"),IF($E20=3,"TreDD_Value",IF($E20="PA","AcroPair_Value",IF(LEFT($F19,4)="Acro",CONCATENATE(BM$16,$E20,"_Value"),"")))) | BN20: =IF($E20="H",IF($F19="Hybrid - Thrust + 2 connections","Hybrid_Mix_Req_Value","HybridDD_Value"),IF($E20=3,"TreDD_Value",IF($E20="PA","AcroPair_Value",IF(LEFT($F19,4)="Acro",CONCATENATE(BN$16,$E20,"_Value"),"")))) | BO20: =IF($E20="H",IF($F19="Hybrid - Thrust + 2 connections","Hybrid_Mix_Req_Value","HybridDD_Value"),IF($E20=3,"TreDD_Value",IF($E20="PA","AcroPair_Value",IF(LEFT($F19,4)="Acro",CONCATENATE(BO$16,$E20,"_Value"),"")))) | BP20: =IF($E20="H",IF($F19="Hybrid - Thrust + 2 connections","Hybrid_Mix_Req_Value","HybridDD_Value"),IF($E20=3,"TreDD_Value",IF($E20="PA","AcroPair_Value",IF(LEFT($F19,4)="Acro",CONCATENATE(BP$16,$E20,"_Value"),"")))) | BQ20: =IF($E20="H",IF($F19="Hybrid - Thrust + 2 connections","Hybrid_Mix_Req_Value","HybridDD_Value"),IF($E20=3,"TreDD_Value",IF($E20="PA","AcroPair_Value",IF(LEFT($F19,4)="Acro",CONCATENATE(BQ$16,$E20,"_Value"),"")))) | BR20: =IF($E20="H",IF($F19="Hybrid - Thrust + 2 connections","Data!$BI$1:$BI$5","HybridDD_Value"),"Data!$BI$1:$BI$5") -> Data!$BI$1:$BI$5 | BS20: =IF($E20="H",IF($F19="Hybrid - Thrust + 2 connections","Data!$BI$1:$BI$5","HybridDD_Value"),"Data!$BI$1:$BI$5") -> Data!$BI$1:$BI$5 | BT20: =IF($E20="H",IF($F19="Hybrid - Thrust + 2 connections","Data!$BI$1:$BI$5","HybridDD_Value"),"Data!$BI$1:$BI$5") -> Data!$BI$1:$BI$5 | BU20: =IF($E20="H",IF($F19="Hybrid - Thrust + 2 connections","Data!$BI$1:$BI$5","HybridDD_Value"),"Data!$BI$1:$BI$5") -> Data!$BI$1:$BI$5 | BV20: =IF($E20="H",IF($F19="Hybrid - Thrust + 2 connections","Data!$BI$1:$BI$5","HybridDD_Value"),"Data!$BI$1:$BI$5") -> Data!$BI$1:$BI$5 | BW20: =IF($E20="H",IF($F19="Hybrid - Thrust + 2 connections","Data!$BI$1:$BI$5","HybridDD_Value"),"Data!$BI$1:$BI$5") -> Data!$BI$1:$BI$5 | BX20: =IF($E20="H",IF($F19="Hybrid - Thrust + 2 connections","Data!$BI$1:$BI$5","HybridDD_Value"),"Data!$BI$1:$BI$5") -> Data!$BI$1:$BI$5 | BY20: =IF($E20="H",IF($F19="Hybrid - Thrust + 2 connections","Data!$BI$1:$BI$5","HybridDD_Value"),"Data!$BI$1:$BI$5") -> Data!$BI$1:$BI$5 | ... CL20: =IF($E20="H",IF($F19="Hybrid - Thrust + 2 connections","Data!$BI$1:$BI$5","HybridDD_Value"),"Data!$BI$1:$BI$5") -> Data!$BI$1:$BI$5 | CO20: =IFERROR(IF(AND($BV$6="T",$BV$8="T",LEFT(F19,4)="Acro",AO20>3),"X",IF($N$7="X",IF(AND(E20="C",AO20>$CN$6),"X",IF(AND(E20="A",AO20>$CN$4),"X",IF(AND(E20="B",AO20>$CN$5),"X",IF(AND(E20="P",AO20>$CN$7),"X","")))),"")),"") | DD20: =IF(OR($E21="A",$E21="B",$E21="C",$E21="P"),"Z","") | DE20: =IF(OR($E21="B",$E21="P"),"Z","") | DF20: =IF(OR($E21="A",$E21="C"),"Z","") | DG20: =IF(OR($E21="A",$E21="B",$E21="C",$E21="P"),"Z","") | DO20: 2 | ED20: =IF(AND(EB20<>"",COUNTIF(TeamAcro_P_Bonus,EB20)>1),EB20,"") | EE20: =IF(AND(EC20<>"",COUNTIF(TeamAcro_P_Bonus,EC20)>1),EC20,"") | EI20: {=IFERROR(INDEX(EK20:FN20,MATCH(TRUE,INDEX((EK20:FN20<>""),),0)),"")} | EK20: =IF(F19="Hybrid - Thrust + 2 connections",IF(COUNTIF($EK19:$FN19,EK19)>1,EK19,""),IF(COUNTIF($EK19:$FN19,EK19)>5,EK19,"")) | EL20: =IF(G19="Hybrid - Thrust + 2 connections",IF(COUNTIF($EK19:$FN19,EL19)>1,EL19,""),IF(COUNTIF($EK19:$FN19,EL19)>5,EL19,"")) | EM20: =IF(H19="Hybrid - Thrust + 2 connections",IF(COUNTIF($EK19:$FN19,EM19)>1,EM19,""),IF(COUNTIF($EK19:$FN19,EM19)>5,EM19,"")) | EN20: =IF(I19="Hybrid - Thrust + 2 connections",IF(COUNTIF($EK19:$FN19,EN19)>1,EN19,""),IF(COUNTIF($EK19:$FN19,EN19)>5,EN19,"")) | EO20: =IF(J19="Hybrid - Thrust + 2 connections",IF(COUNTIF($EK19:$FN19,EO19)>1,EO19,""),IF(COUNTIF($EK19:$FN19,EO19)>5,EO19,"")) | EP20: =IF(K19="Hybrid - Thrust + 2 connections",IF(COUNTIF($EK19:$FN19,EP19)>1,EP19,""),IF(COUNTIF($EK19:$FN19,EP19)>5,EP19,"")) | EQ20: =IF(L19="Hybrid - Thrust + 2 connections",IF(COUNTIF($EK19:$FN19,EQ19)>1,EQ19,""),IF(COUNTIF($EK19:$FN19,EQ19)>5,EQ19,"")) | ER20: =IF(M19="Hybrid - Thrust + 2 connections",IF(COUNTIF($EK19:$FN19,ER19)>1,ER19,""),IF(COUNTIF($EK19:$FN19,ER19)>5,ER19,"")) | ... FN20: =IF(AI19="Hybrid - Thrust + 2 connections",IF(COUNTIF($EK19:$FN19,FN19)>1,FN19,""),IF(COUNTIF($EK19:$FN19,FN19)>5,FN19,"")) | FO20: 0 | FP20: {=IF(FQ20<>"",LEFT(FQ20,FIND("*",FQ20)-1),INDEX($FP$75:$FP$172,FO20+1))} | FQ20: {=INDEX($FQ$75:$FQ$172,FO20+1)} | HD20: =IF($F19="Hybrid - Thrust + 2 connections",COUNTBLANK(J19:L19),"")
A21: =IF(AND(E19="",A19<>""),IF(CP19=$CP$18,"",IF(C19<>"",IF(D19=59,MINUTE(CP19)+1,MINUTE(CP19)),"")),"") | B21: =IF(AND(E19="",B19<>""),IF(CP19=$CP$18,"",IF(C19<>"",IF(D19=59,0,SECOND(CP19)+1),"")),"") | G21: =IF(F21<>"",IF(OR(F21="Transition",F21="Transition - Surface Connection"),0,MAX($G$19:G20)+1),"") | H21: =IFERROR(IF(E22="3","",IF(OR(F21="Hybrid - Choreography (DD = 1)",LEFT(F21,5)="Trans"),"No DD",CONCATENATE("BM = ",I22))),"") | AW21: =E22 | AX21: =IF(AY21=0,"",TIME(0,A21,B21)) | AY21: =TIME(0,C21,D21) -> 0 | AZ21: =IFERROR(AY21-AX21,"") | BA21: =IF($AX$17=0,"",IF(AND($C$10<>"",AW21="H",AZ21>$AX$17),"X","")) | BG21: =IFERROR(IF(F21<>"",INDEX(Parts_Active,MATCH(F21,Parts_Active,0)),""),"No") | BI21: =IF($E22="H",IF($F21="Hybrid - Thrust + 2 connections","Hybrid_Mix_Req",IF($F21="Hybrid - Choreography (DD = 1)","Hybrid_ChoHY","HybridDD_Code")),IF($E22=3,"TreDD_Code",IF($E22="PA","AcroPair_Code",IF(LEFT($F21,4)="Acro",CONCATENATE(BI$16,$E22,"_Code"),"Data!$BI$1:$BI$5")))) -> Data!$BI$1:$BI$5 | BJ21: =IF($E22="H",IF($F21="Hybrid - Thrust + 2 connections","Hybrid_Mix_Req",IF($F21="Hybrid - min 4 swimmers (no DD)","Data!$BI$1:$BI$5","HybridDD_Code")),IF($E22=3,"TreDD_Code",IF($E22="PA","AcroPair_Code",IF(LEFT($F21,4)="Acro",CONCATENATE(BJ$16,$E22,"_Code"),"Data!$BI$1:$BI$5")))) -> Data!$BI$1:$BI$5 | BK21: =IF($E22="H",IF($F21="Hybrid - Thrust + 2 connections","Hybrid_Mix_Req",IF($F21="Hybrid - min 4 swimmers (no DD)","Data!$BI$1:$BI$5","HybridDD_Code")),IF($E22=3,"TreDD_Code",IF($E22="PA","AcroPair_Code",IF(LEFT($F21,4)="Acro",CONCATENATE(BK$16,$E22,"_Code"),"Data!$BI$1:$BI$5")))) -> Data!$BI$1:$BI$5 | BL21: =IF($E22="H",IF($F21="Hybrid - Thrust + 2 connections","Hybrid_Mix_Req",IF($F21="Hybrid - min 4 swimmers (no DD)","Data!$BI$1:$BI$5","HybridDD_Code")),IF($E22=3,"TreDD_Code",IF($E22="PA","AcroPair_Code",IF(LEFT($F21,4)="Acro",CONCATENATE(BL$16,$E22,"_Code"),"Data!$BI$1:$BI$5")))) -> Data!$BI$1:$BI$5 | BM21: =IF($E22="H",IF($F21="Hybrid - Thrust + 2 connections","Hybrid_Mix_Req",IF($F21="Hybrid - min 4 swimmers (no DD)","Data!$BI$1:$BI$5","HybridDD_Code")),IF($E22=3,"TreDD_Code",IF($E22="PA","AcroPair_Code",IF(LEFT($F21,4)="Acro",CONCATENATE(BM$16,$E22,"_Code"),"Data!$BI$1:$BI$5")))) -> Data!$BI$1:$BI$5 | BN21: =IF($E22="H",IF($F21="Hybrid - Thrust + 2 connections","Hybrid_Mix_Req",IF($F21="Hybrid - min 4 swimmers (no DD)","Data!$BI$1:$BI$5","HybridDD_Code")),IF($E22=3,"TreDD_Code",IF($E22="PA","AcroPair_Code",IF(LEFT($F21,4)="Acro",CONCATENATE(BN$16,$E22,"_Code"),"Data!$BI$1:$BI$5")))) -> Data!$BI$1:$BI$5 | BO21: =IF($E22="H",IF($F21="Hybrid - Thrust + 2 connections","Hybrid_Mix_Req",IF($F21="Hybrid - min 4 swimmers (no DD)","Data!$BI$1:$BI$5","HybridDD_Code")),IF($E22=3,"TreDD_Code",IF($E22="PA","AcroPair_Code",IF(LEFT($F21,4)="Acro",CONCATENATE(BO$16,$E22,"_Code"),"Data!$BI$1:$BI$5")))) -> Data!$BI$1:$BI$5 | BP21: =IF($E22="H",IF($F21="Hybrid - Thrust + 2 connections","Hybrid_Mix_Req",IF($F21="Hybrid - min 4 swimmers (no DD)","Data!$BI$1:$BI$5","HybridDD_Code")),IF($E22=3,"TreDD_Code",IF($E22="PA","AcroPair_Code",IF(LEFT($F21,4)="Acro",CONCATENATE(BP$16,$E22,"_Code"),"Data!$BI$1:$BI$5")))) -> Data!$BI$1:$BI$5 | BQ21: =IF($E22="H",IF($F21="Hybrid - Thrust + 2 connections","Hybrid_Mix_Req",IF($F21="Hybrid - min 4 swimmers (no DD)","Data!$BI$1:$BI$5","HybridDD_Code")),IF($E22=3,"TreDD_Code",IF($E22="PA","AcroPair_Code",IF(LEFT($F21,4)="Acro",CONCATENATE(BQ$16,$E22,"_Code"),"Data!$BI$1:$BI$5")))) -> Data!$BI$1:$BI$5 | BR21: =IF($E22="H",IF($F21="Hybrid - Thrust + 2 connections","Data!$BI$1:$BI$5","HybridDD_Code"),"Data!$BI$1:$BI$5") -> Data!$BI$1:$BI$5 | BS21: =$BR21 -> Data!$BI$1:$BI$5 | BT21: =$BR21 -> Data!$BI$1:$BI$5 | BU21: =$BR21 -> Data!$BI$1:$BI$5 | BV21: =$BR21 -> Data!$BI$1:$BI$5 | BW21: =$BR21 -> Data!$BI$1:$BI$5 | BX21: =$BR21 -> Data!$BI$1:$BI$5 | BY21: =$BR21 -> Data!$BI$1:$BI$5 | BZ21: =$BR21 -> Data!$BI$1:$BI$5 | ... CL21: =$BR21 -> Data!$BI$1:$BI$5 | CO21: =IFERROR(TIME(0,A21,B21),"") | CP21: =IFERROR(TIME(0,C21,D21),"") -> 0 | CQ21: =IF(CP21>$D$12,"X","") | CR21: =IF(AND(F21="Hybrid - Thrust + 2 connections",OR(LEFT(J21,1)="T",LEFT(K21,1)="T",LEFT(L21,1)="T",LEFT(PB21,1)="T",LEFT(M21,1)="T",LEFT(N21,1)="T",LEFT(O21,1)="T",LEFT(P21,1)="T",LEFT(Q21,1)="T",LEFT(R21,1)="T",LEFT(S21,1)="T",LEFT(T21,1)="T",LEFT(U21,1)="T",LEFT(V21,1)="T",LEFT(W21,1)="T",LEFT(X21,1)="T",LEFT(AK21,1)="T",LEFT(AL21,1)="T",LEFT(AM21,1)="T")),IF(OR(LEN(J21)=2,LEN(K21)=2,LEN(L21)=2,LEN(M21)=2,LEN(N21)=2,LEN(O21)=2,LEN(P21)=2,LEN(Q21)=2,LEN(R21)=2,LEN(S21)=2,LEN(T21)=2,LEN(U21)=2,LEN(V21)=2,LEN(W21)=2,LEN(X21)=2,LEN(Y21)=2,LEN(Z21)=2,LEN(AK21)=2,LEN(AL21)=2,LEN(AM21)=2),"X",""),"") | CT21: =IF(LEFT(F21,4)="Acro",IF(AND(N21<>"",M21=RIGHT(N21,2)),"X","OK"),"") | CU21: =IFERROR(IF(AND(LEFT($F21,4)="Acro",INDEX(Requ_App,MATCH(BI21,Requ_Code,0))="No"),"X",""),"") | CV21: =IFERROR(IF(AND(LEFT($F21,4)="Acro",INDEX(Requ_App,MATCH(BJ21,Requ_Code,0))="No"),"X",""),"") | CW21: =IFERROR(IF(AND(LEFT($F21,4)="Acro",INDEX(Requ_App,MATCH(BK21,Requ_Code,0))="No"),"X",""),"") | CX21: =IFERROR(IF(AND(LEFT($F21,4)="Acro",INDEX(Requ_App,MATCH(BL21,Requ_Code,0))="No"),"X",""),"") | CY21: =IFERROR(IF(AND(LEFT($F21,4)="Acro",INDEX(Requ_App,MATCH(BM21,Requ_Code,0))="No"),"X",""),"") | CZ21: =IFERROR(IF(AND(LEFT($F21,4)="Acro",INDEX(Requ_App,MATCH(BN21,Requ_Code,0))="No"),"X",""),"") | DA21: =IFERROR(IF(AND(LEFT($F21,4)="Acro",INDEX(Requ_App,MATCH(BO21,Requ_Code,0))="No"),"X",""),"") | DB21: =IFERROR(IF(AND(LEFT($F21,4)="Acro",INDEX(Requ_App,MATCH(BP21,Requ_Code,0))="No"),"X",""),"") | DC21: =IFERROR(IF(AND(LEFT($F21,4)="Acro",INDEX(Requ_App,MATCH(BP21,Requ_Code,0))="No"),"X",""),"") | DD21: =IF(OR($E22="A",$E22="B",$E22="C",$E22="P"),"Z","") | DE21: =IF(OR($E22="B",$E22="P"),"Z","") | DF21: =IF(OR($E22="A",$E22="C"),"Z","") | DG21: =IF(OR($E22="A",$E22="B",$E22="C",$E22="P"),"Z","") | DK21: =IF(AND(E22="A",OR(Q21="Grip",Q21="Conn",Q21="Catch")),"A1",IF(AND(E22="A",OR(Q21="Hula",Q21="RetSq",Q21="RetPa")),"A2",IF(AND(E22="B",OR(Q21="Twirl",Q21="RotF")),"B1",IF(AND(E22="B",OR(Q21="Moon",Q21="Mov",Q21="Hold")),"B2",IF(AND(E22="P",OR(Q21="Porp",Q21="Splch")),"P1",IF(AND(E22="P",OR(Q21="Diva",Q21="Stand")),"P2",IF(AND(E22="P",OR(Q21="Spider",Q21="Climb")),"P3",IF(AND(E22="P",OR(Q21="Fall",Q21="FTurn")),"P4",IF(AND(E22="C",OR(Q21="Jump",Q21="Jump>",Q21="On1Foot",Q21="1F>1F")),"C1",IF(AND(E22="C",OR(Q21="Run",Q21="BRun")),"C2",1)))))))))) -> 1 | DL21: =IF(AND(E22="A",OR(R21="Grip",R21="Conn",R21="Catch")),"A1",IF(AND(E22="A",OR(R21="Hula",R21="RetSq",R21="RetPa")),"A2",IF(AND(E22="B",OR(R21="Twirl",R21="RotF")),"B1",IF(AND(E22="B",OR(R21="Moon",R21="Mov",R21="Hold")),"B2",IF(AND(E22="P",OR(R21="Porp",R21="Spich")),"P1",IF(AND(E22="P",OR(R21="Diva",R21="Stand")),"P2",IF(AND(E22="P",OR(R21="Spider",R21="Climb")),"P3",IF(AND(E22="P",OR(R21="Fall",R21="FTurn")),"P4",IF(AND(E22="C",OR(R21="Jump",R21="Jump>",R21="On1Foot",R21="1F>1F")),"C1",IF(AND(E22="C",OR(R21="Run",R21="BRun")),"C2",2)))))))))) -> 2 | DM21: =IF(AND(N21="",OR(Q21<>"",R21<>"")),"X",IF(AND(LEFT(F21,4)="Acro",Q21<>"",OR(Q21=R21,DK21=DL21)),IF(R21="C-Roll","","X"),IF(OR(AND(E22="A",Q21="Catch",R21<>"Dbl"),AND(E22="A",R21="Catch",Q21<>"Dbl")),"X",""))) | DN21: =IF(E22="PA",J21,"") | DO21: 3 | DQ21: =IF(AND($E22="A",COUNTIF($DZ$19:$EA$68,DZ21)>1),DZ21,"") | DR21: =IF(AND($E22="A",COUNTIF($DZ$19:$EA$68,EA21)>1),EA21,"") | DS21: =IF(AND($E22="B",COUNTIF($J$19:$J$68,J21)>1),J21,"") | DT21: =IF(AND($E22="B",COUNTIF($K$19:$K$68,K21)>1),K21,"") | DU21: =IF(AND($E22="C",COUNTIF($J$19:$J$68,J21)>1),J21,"") | DV21: =IF(AND($E22="P",COUNTIF($J$19:$J$68,J21)>1),J21,"") | DW21: =IF(AND($E22="P",COUNTIF($K$19:$K$68,K21)>1),K21,"") | DX21: =IF(AND($E22="P",COUNTIF($DZ$19:$EA$68,DZ21)>1),DZ21,"") | DY21: =IF(AND($E22="P",COUNTIF($DZ$19:$EA$68,EA21)>1),EA21,"") | DZ21: =IFERROR(IF(OR(E22="A",E22="P"),M21,""),"") | EA21: =IFERROR(IF(OR(E22="A",E22="P"),RIGHT(N21,2),""),"") | EB21: =IF(Q21="","",IF(AND($E22="P",COUNTIF($Q$19:$R$68,Q21)>1),Q21,"")) | EC21: =IF(R21="","",IF(AND($E22="P",COUNTIF($Q$19:$R$68,R21)>1),R21,"")) | ED21: =IF(AND(EB21<>"",COUNTIF(TeamAcro_P_Bonus,EB21)>1),EB21,"") | EE21: =IF(AND(EC21<>"",COUNTIF(TeamAcro_P_Bonus,EC21)>1),EC21,"") | EF21: =IF(AND(OR($F$8="Open Team Acrobatic",$F$8="Open Team Technical"),LEFT(F21,4)="Acro"),E22,"") | EG21: =IF(EF21="","",IFERROR(IF($F$8="Open Team Acrobatic",IF(HLOOKUP(EF21,$DQ$12:$DT$13,2,FALSE)>2,"X",""),IF(HLOOKUP(EF21,$DQ$12:$DT$13,2,FALSE)>1,"X","")),"")) | EI21: =IF(OR(AND(F21="Hybrid - Thrust + 2 connections",EI22="T"),AND(E22="H",EI22<>"",EI75="X")),"X","") | EK21: =IFERROR(IF(AND($E22="H",J21<>"",J21<>"ChoHY"),IF(OR(LEFT(J21,1)="T",LEFT(J21,1)="S",LEFT(J21,1)="A",LEFT(J21,1)="F",LEFT(J21,1)="C"),LEFT(J21,1),"R"),EK$18),"") -> 1 | EL21: =IFERROR(IF(AND($E22="H",K21<>""),IF(OR(LEFT(K21,1)="T",LEFT(K21,1)="S",LEFT(K21,1)="A",LEFT(K21,1)="F",LEFT(K21,1)="C"),LEFT(K21,1),"R"),EL$18),"") -> 2 | EM21: =IFERROR(IF(AND($E22="H",L21<>""),IF(OR(LEFT(L21,1)="T",LEFT(L21,1)="S",LEFT(L21,1)="A",LEFT(L21,1)="F",LEFT(L21,1)="C"),LEFT(L21,1),"R"),EM$18),"") -> 3 | EN21: =IFERROR(IF(AND($E22="H",M21<>""),IF(OR(LEFT(M21,1)="T",LEFT(M21,1)="S",LEFT(M21,1)="A",LEFT(M21,1)="F",LEFT(M21,1)="C"),LEFT(M21,1),"R"),EN$18),"") -> 4 | EO21: =IFERROR(IF(AND($E22="H",N21<>""),IF(OR(LEFT(N21,1)="T",LEFT(N21,1)="S",LEFT(N21,1)="A",LEFT(N21,1)="F",LEFT(N21,1)="C"),LEFT(N21,1),"R"),EO$18),"") -> 5 | EP21: =IFERROR(IF(AND($E22="H",O21<>""),IF(OR(LEFT(O21,1)="T",LEFT(O21,1)="S",LEFT(O21,1)="A",LEFT(O21,1)="F",LEFT(O21,1)="C"),LEFT(O21,1),"R"),EP$18),"") -> 6 | EQ21: =IFERROR(IF(AND($E22="H",P21<>""),IF(OR(LEFT(P21,1)="T",LEFT(P21,1)="S",LEFT(P21,1)="A",LEFT(P21,1)="F",LEFT(P21,1)="C"),LEFT(P21,1),"R"),EQ$18),"") -> 7 | ER21: =IFERROR(IF(AND($E22="H",Q21<>""),IF(OR(LEFT(Q21,1)="T",LEFT(Q21,1)="S",LEFT(Q21,1)="A",LEFT(Q21,1)="F",LEFT(Q21,1)="C"),LEFT(Q21,1),"R"),ER$18),"") -> 8 | ES21: =IFERROR(IF(AND($E22="H",R21<>""),IF(OR(LEFT(R21,1)="T",LEFT(R21,1)="S",LEFT(R21,1)="A",LEFT(R21,1)="F",LEFT(R21,1)="C"),LEFT(R21,1),"R"),ES$18),"") -> 9 | ... FN21: =IFERROR(IF(AND($E22="H",AM21<>""),IF(OR(LEFT(AM21,1)="T",LEFT(AM21,1)="S",LEFT(AM21,1)="A",LEFT(AM21,1)="F",LEFT(AM21,1)="C"),LEFT(AM21,1),"R"),FN$18),"") -> 30 | GW21: =COUNTIF($EK21:$FN21,GW$18) -> 0 | GX21: =COUNTIF($EK21:$FN21,GX$18) -> 0 | GY21: =COUNTIF($EK21:$FN21,GY$18) -> 0 | GZ21: =COUNTIF($EK21:$FN21,GZ$18) -> 0 | HA21: =COUNTIF($EK21:$FN21,HA$18) -> 0 | HB21: =COUNTIF($EK21:$FN21,HB$18) -> 0 | HD21: =IF(AND($F21="Hybrid - Thrust + 2 connections",HD22=0,LEFT($J21,1)="C",LEFT($K21,1)="C",LEFT($L21,1)="C"),"X","") | HI21: =IF(E22=3,IF(_xlfn.NUMBERVALUE(LEFT(J21,1))>0,_xlfn.NUMBERVALUE(LEFT(J21,1)),""),"") | HK21: =IF(OR(E22="B",E22="P"),E22,"") | HL21: =IF(AND(J21<>"",HK21<>""),IF(HK21="B",MATCH(J21,AcroDD!$U$3:$AE$3,0),MATCH(J21,AcroDD!$U$30:$AC$30,0)),"") | HM21: =IF(AND(K21<>"",HK21<>""),K21,"") | HN21: =_xlfn.LET(_xlpm.lista,IF(HK21="B",INDEX(AcroDD!$T$4:$AE$23,0,HL21+1),INDEX(AcroDD!$T$31:$AC$50,0,HL21+1)),IF(AND(OR(HK21="B",HK21="P"),HL21<>"",HM21<>""),IF(ISNUMBER(MATCH(HM21,_xlpm.lista,0)),"OK","X"),""))
E22: =IF(F21="Acrobatic - Pair","PA",IF(F21="Acrobatic Airborn","A",IF(F21="Acrobatic Balance","B",IF(F21="Acrobatic Combined","C",IF(F21="Acrobatic Platform","P",IF(F21="Technical Required Element",3,IF(LEFT(F21,4)="Hybr","H",""))))))) | F22: =IF(AND(F21="Hybrid - Thrust + 2 connections",CR21="X"),"Hybrid - Thrust",IF(OR(E22="A",E22="B",E22="C",E22="P"),"Acrobatic","")) | H22: =IF(E22="PA",IF(OR(LEFT(J21,1)="L",LEFT(J21,1)="S"),"A-Pair-Lift",IF(OR(LEFT(J21,1)="W",LEFT(J21,1)="T"),"A-Pair-Throw",IF(LEFT(J21,1)="J","A-Pair-Jump","A-Pair"))),IF(OR(E22="A",E22="B",E22="C",E22="P"),CONCATENATE("Acro-",E22),"")) | I22: =IF(OR(F21="Hybrid - Choreography (DD = 1)",LEFT(F21,5)="Trans"),0,INDEX($BY$3:$BY$9,MATCH(E22,$BX$3:$BX$9,0))) -> #N/A | J22: =IFERROR(IF($H21="No DD",IF(J21="ChoHY",1,0),IF(OR(ISBLANK(J21),J21="N/A"),0,INDEX(INDIRECT(BI22),MATCH(J21,INDIRECT(BI21),0)))),0) -> 0 | K22: =IFERROR(IF($H21="No DD",0,IF(OR(ISBLANK(K21),K21="N/A"),0,INDEX(INDIRECT(BJ22),MATCH(K21,INDIRECT(BJ21),0)))),0) -> 0 | L22: =IFERROR(IF($H21="No DD",0,IF(OR(ISBLANK(L21),L21="N/A"),0,INDEX(INDIRECT(BK22),MATCH(L21,INDIRECT(BK21),0)))),0) -> 0 | M22: =IFERROR(IF($H21="No DD",0,IF(OR(ISBLANK(M21),M21="N/A"),0,INDEX(INDIRECT(BL22),MATCH(M21,INDIRECT(BL21),0)))),0) -> 0 | N22: =IFERROR(IF($H21="No DD",0,IF(OR(ISBLANK(N21),N21="N/A"),0,INDEX(INDIRECT(BM22),MATCH(N21,INDIRECT(BM21),0)))),0) -> 0 | O22: =IFERROR(IF($H21="No DD",0,IF(OR(ISBLANK(O21),O21="N/A"),0,INDEX(INDIRECT(BN22),MATCH(O21,INDIRECT(BN21),0)))),0) -> 0 | P22: =IFERROR(IF($H21="No DD",0,IF(OR(ISBLANK(P21),P21="N/A"),0,INDEX(INDIRECT(BO22),MATCH(P21,INDIRECT(BO21),0)))),0) -> 0 | Q22: =IFERROR(IF($H21="No DD",0,IF(OR(ISBLANK(Q21),Q21="N/A"),0,INDEX(INDIRECT(BP22),MATCH(Q21,INDIRECT(BP21),0)))),0) -> 0 | R22: =IFERROR(IF($H21="No DD",0,IF(OR(ISBLANK(R21),R21="N/A"),0,INDEX(INDIRECT(BQ22),MATCH(R21,INDIRECT(BQ21),0)))),0) -> 0 | ... AM22: =IFERROR(IF($H21="No DD",0,IF(OR(ISBLANK(AM21),AM21="N/A"),0,INDEX(INDIRECT(CL22),MATCH(AM21,INDIRECT(CL21),0)))),0) -> 0 | AN22: =IFERROR(IF(E22="H",INDEX(HybridBonus_Value,MATCH(AN21,HybridBonus_Code,0)),""),"") | AO22: =IFERROR(SUM(I22:AN22),"") | BI22: =IF($E22="H",IF($F21="Hybrid - Thrust + 2 connections","Hybrid_Mix_Req_Value","HybridDD_Value"),IF($E22=3,"TreDD_Value",IF($E22="PA","AcroPair_Value",IF(LEFT($F21,4)="Acro",CONCATENATE(BI$16,$E22,"_Value"),"")))) | BJ22: =IF($E22="H",IF($F21="Hybrid - Thrust + 2 connections","Hybrid_Mix_Req_Value","HybridDD_Value"),IF($E22=3,"TreDD_Value",IF($E22="PA","AcroPair_Value",IF(LEFT($F21,4)="Acro",CONCATENATE(BJ$16,$E22,"_Value"),"")))) | BK22: =IF($E22="H",IF($F21="Hybrid - Thrust + 2 connections","Hybrid_Mix_Req_Value","HybridDD_Value"),IF($E22=3,"TreDD_Value",IF($E22="PA","AcroPair_Value",IF(LEFT($F21,4)="Acro",CONCATENATE(BK$16,$E22,"_Value"),"")))) | BL22: =IF($E22="H",IF($F21="Hybrid - Thrust + 2 connections","Hybrid_Mix_Req_Value","HybridDD_Value"),IF($E22=3,"TreDD_Value",IF($E22="PA","AcroPair_Value",IF(LEFT($F21,4)="Acro",CONCATENATE(BL$16,$E22,"_Value"),"")))) | BM22: =IF($E22="H",IF($F21="Hybrid - Thrust + 2 connections","Hybrid_Mix_Req_Value","HybridDD_Value"),IF($E22=3,"TreDD_Value",IF($E22="PA","AcroPair_Value",IF(LEFT($F21,4)="Acro",CONCATENATE(BM$16,$E22,"_Value"),"")))) | BN22: =IF($E22="H",IF($F21="Hybrid - Thrust + 2 connections","Hybrid_Mix_Req_Value","HybridDD_Value"),IF($E22=3,"TreDD_Value",IF($E22="PA","AcroPair_Value",IF(LEFT($F21,4)="Acro",CONCATENATE(BN$16,$E22,"_Value"),"")))) | BO22: =IF($E22="H",IF($F21="Hybrid - Thrust + 2 connections","Hybrid_Mix_Req_Value","HybridDD_Value"),IF($E22=3,"TreDD_Value",IF($E22="PA","AcroPair_Value",IF(LEFT($F21,4)="Acro",CONCATENATE(BO$16,$E22,"_Value"),"")))) | BP22: =IF($E22="H",IF($F21="Hybrid - Thrust + 2 connections","Hybrid_Mix_Req_Value","HybridDD_Value"),IF($E22=3,"TreDD_Value",IF($E22="PA","AcroPair_Value",IF(LEFT($F21,4)="Acro",CONCATENATE(BP$16,$E22,"_Value"),"")))) | BQ22: =IF($E22="H",IF($F21="Hybrid - Thrust + 2 connections","Hybrid_Mix_Req_Value","HybridDD_Value"),IF($E22=3,"TreDD_Value",IF($E22="PA","AcroPair_Value",IF(LEFT($F21,4)="Acro",CONCATENATE(BQ$16,$E22,"_Value"),"")))) | BR22: =IF($E22="H",IF($F21="Hybrid - Thrust + 2 connections","Data!$BI$1:$BI$5","HybridDD_Value"),"Data!$BI$1:$BI$5") -> Data!$BI$1:$BI$5 | BS22: =IF($E22="H",IF($F21="Hybrid - Thrust + 2 connections","Data!$BI$1:$BI$5","HybridDD_Value"),"Data!$BI$1:$BI$5") -> Data!$BI$1:$BI$5 | BT22: =IF($E22="H",IF($F21="Hybrid - Thrust + 2 connections","Data!$BI$1:$BI$5","HybridDD_Value"),"Data!$BI$1:$BI$5") -> Data!$BI$1:$BI$5 | BU22: =IF($E22="H",IF($F21="Hybrid - Thrust + 2 connections","Data!$BI$1:$BI$5","HybridDD_Value"),"Data!$BI$1:$BI$5") -> Data!$BI$1:$BI$5 | BV22: =IF($E22="H",IF($F21="Hybrid - Thrust + 2 connections","Data!$BI$1:$BI$5","HybridDD_Value"),"Data!$BI$1:$BI$5") -> Data!$BI$1:$BI$5 | BW22: =IF($E22="H",IF($F21="Hybrid - Thrust + 2 connections","Data!$BI$1:$BI$5","HybridDD_Value"),"Data!$BI$1:$BI$5") -> Data!$BI$1:$BI$5 | BX22: =IF($E22="H",IF($F21="Hybrid - Thrust + 2 connections","Data!$BI$1:$BI$5","HybridDD_Value"),"Data!$BI$1:$BI$5") -> Data!$BI$1:$BI$5 | BY22: =IF($E22="H",IF($F21="Hybrid - Thrust + 2 connections","Data!$BI$1:$BI$5","HybridDD_Value"),"Data!$BI$1:$BI$5") -> Data!$BI$1:$BI$5 | ... CL22: =IF($E22="H",IF($F21="Hybrid - Thrust + 2 connections","Data!$BI$1:$BI$5","HybridDD_Value"),"Data!$BI$1:$BI$5") -> Data!$BI$1:$BI$5 | CO22: =IFERROR(IF(AND($BV$6="T",$BV$8="T",LEFT(F21,4)="Acro",AO22>3),"X",IF($N$7="X",IF(AND(E22="C",AO22>$CN$6),"X",IF(AND(E22="A",AO22>$CN$4),"X",IF(AND(E22="B",AO22>$CN$5),"X",IF(AND(E22="P",AO22>$CN$7),"X","")))),"")),"") | DD22: =IF(OR($E23="A",$E23="B",$E23="C",$E23="P"),"Z","") | DE22: =IF(OR($E23="B",$E23="P"),"Z","") | DF22: =IF(OR($E23="A",$E23="C"),"Z","") | DG22: =IF(OR($E23="A",$E23="B",$E23="C",$E23="P"),"Z","") | DO22: 4 | ED22: =IF(AND(EB22<>"",COUNTIF(TeamAcro_P_Bonus,EB22)>1),EB22,"") | EE22: =IF(AND(EC22<>"",COUNTIF(TeamAcro_P_Bonus,EC22)>1),EC22,"") | EI22: {=IFERROR(INDEX(EK22:FN22,MATCH(TRUE,INDEX((EK22:FN22<>""),),0)),"")} | EK22: =IF(F21="Hybrid - Thrust + 2 connections",IF(COUNTIF($EK21:$FN21,EK21)>1,EK21,""),IF(COUNTIF($EK21:$FN21,EK21)>5,EK21,"")) | EL22: =IF(G21="Hybrid - Thrust + 2 connections",IF(COUNTIF($EK21:$FN21,EL21)>1,EL21,""),IF(COUNTIF($EK21:$FN21,EL21)>5,EL21,"")) | EM22: =IF(H21="Hybrid - Thrust + 2 connections",IF(COUNTIF($EK21:$FN21,EM21)>1,EM21,""),IF(COUNTIF($EK21:$FN21,EM21)>5,EM21,"")) | EN22: =IF(I21="Hybrid - Thrust + 2 connections",IF(COUNTIF($EK21:$FN21,EN21)>1,EN21,""),IF(COUNTIF($EK21:$FN21,EN21)>5,EN21,"")) | EO22: =IF(J21="Hybrid - Thrust + 2 connections",IF(COUNTIF($EK21:$FN21,EO21)>1,EO21,""),IF(COUNTIF($EK21:$FN21,EO21)>5,EO21,"")) | EP22: =IF(K21="Hybrid - Thrust + 2 connections",IF(COUNTIF($EK21:$FN21,EP21)>1,EP21,""),IF(COUNTIF($EK21:$FN21,EP21)>5,EP21,"")) | EQ22: =IF(L21="Hybrid - Thrust + 2 connections",IF(COUNTIF($EK21:$FN21,EQ21)>1,EQ21,""),IF(COUNTIF($EK21:$FN21,EQ21)>5,EQ21,"")) | ER22: =IF(M21="Hybrid - Thrust + 2 connections",IF(COUNTIF($EK21:$FN21,ER21)>1,ER21,""),IF(COUNTIF($EK21:$FN21,ER21)>5,ER21,"")) | ... FN22: =IF(AI21="Hybrid - Thrust + 2 connections",IF(COUNTIF($EK21:$FN21,FN21)>1,FN21,""),IF(COUNTIF($EK21:$FN21,FN21)>5,FN21,"")) | FO22: =FO20+5 -> 5 | FP22: {=IF(FQ22<>"",LEFT(FQ22,FIND("*",FQ22)-1),INDEX($FP$75:$FP$172,FO22+1))} | FQ22: {=INDEX($FQ$75:$FQ$172,FO22+1)} | HD22: =IF($F21="Hybrid - Thrust + 2 connections",COUNTBLANK(J21:L21),"")
A23: =IF(AND(E21="",A21<>""),IF(CP21=$CP$18,"",IF(C21<>"",IF(D21=59,MINUTE(CP21)+1,MINUTE(CP21)),"")),"") | B23: =IF(AND(E21="",B21<>""),IF(CP21=$CP$18,"",IF(C21<>"",IF(D21=59,0,SECOND(CP21)+1),"")),"") | G23: =IF(F23<>"",IF(OR(F23="Transition",F23="Transition - Surface Connection"),0,MAX($G$19:G22)+1),"") | H23: =IFERROR(IF(E24="3","",IF(OR(F23="Hybrid - Choreography (DD = 1)",LEFT(F23,5)="Trans"),"No DD",CONCATENATE("BM = ",I24))),"") | AW23: =E24 | AX23: =IF(AY23=0,"",TIME(0,A23,B23)) | AY23: =TIME(0,C23,D23) -> 0 | AZ23: =IFERROR(AY23-AX23,"") | BA23: =IF($AX$17=0,"",IF(AND($C$10<>"",AW23="H",AZ23>$AX$17),"X","")) | BG23: =IFERROR(IF(F23<>"",INDEX(Parts_Active,MATCH(F23,Parts_Active,0)),""),"No") | BI23: =IF($E24="H",IF($F23="Hybrid - Thrust + 2 connections","Hybrid_Mix_Req",IF($F23="Hybrid - Choreography (DD = 1)","Hybrid_ChoHY","HybridDD_Code")),IF($E24=3,"TreDD_Code",IF($E24="PA","AcroPair_Code",IF(LEFT($F23,4)="Acro",CONCATENATE(BI$16,$E24,"_Code"),"Data!$BI$1:$BI$5")))) -> Data!$BI$1:$BI$5 | BJ23: =IF($E24="H",IF($F23="Hybrid - Thrust + 2 connections","Hybrid_Mix_Req",IF($F23="Hybrid - min 4 swimmers (no DD)","Data!$BI$1:$BI$5","HybridDD_Code")),IF($E24=3,"TreDD_Code",IF($E24="PA","AcroPair_Code",IF(LEFT($F23,4)="Acro",CONCATENATE(BJ$16,$E24,"_Code"),"Data!$BI$1:$BI$5")))) -> Data!$BI$1:$BI$5 | BK23: =IF($E24="H",IF($F23="Hybrid - Thrust + 2 connections","Hybrid_Mix_Req",IF($F23="Hybrid - min 4 swimmers (no DD)","Data!$BI$1:$BI$5","HybridDD_Code")),IF($E24=3,"TreDD_Code",IF($E24="PA","AcroPair_Code",IF(LEFT($F23,4)="Acro",CONCATENATE(BK$16,$E24,"_Code"),"Data!$BI$1:$BI$5")))) -> Data!$BI$1:$BI$5 | BL23: =IF($E24="H",IF($F23="Hybrid - Thrust + 2 connections","Hybrid_Mix_Req",IF($F23="Hybrid - min 4 swimmers (no DD)","Data!$BI$1:$BI$5","HybridDD_Code")),IF($E24=3,"TreDD_Code",IF($E24="PA","AcroPair_Code",IF(LEFT($F23,4)="Acro",CONCATENATE(BL$16,$E24,"_Code"),"Data!$BI$1:$BI$5")))) -> Data!$BI$1:$BI$5 | BM23: =IF($E24="H",IF($F23="Hybrid - Thrust + 2 connections","Hybrid_Mix_Req",IF($F23="Hybrid - min 4 swimmers (no DD)","Data!$BI$1:$BI$5","HybridDD_Code")),IF($E24=3,"TreDD_Code",IF($E24="PA","AcroPair_Code",IF(LEFT($F23,4)="Acro",CONCATENATE(BM$16,$E24,"_Code"),"Data!$BI$1:$BI$5")))) -> Data!$BI$1:$BI$5 | BN23: =IF($E24="H",IF($F23="Hybrid - Thrust + 2 connections","Hybrid_Mix_Req",IF($F23="Hybrid - min 4 swimmers (no DD)","Data!$BI$1:$BI$5","HybridDD_Code")),IF($E24=3,"TreDD_Code",IF($E24="PA","AcroPair_Code",IF(LEFT($F23,4)="Acro",CONCATENATE(BN$16,$E24,"_Code"),"Data!$BI$1:$BI$5")))) -> Data!$BI$1:$BI$5 | BO23: =IF($E24="H",IF($F23="Hybrid - Thrust + 2 connections","Hybrid_Mix_Req",IF($F23="Hybrid - min 4 swimmers (no DD)","Data!$BI$1:$BI$5","HybridDD_Code")),IF($E24=3,"TreDD_Code",IF($E24="PA","AcroPair_Code",IF(LEFT($F23,4)="Acro",CONCATENATE(BO$16,$E24,"_Code"),"Data!$BI$1:$BI$5")))) -> Data!$BI$1:$BI$5 | BP23: =IF($E24="H",IF($F23="Hybrid - Thrust + 2 connections","Hybrid_Mix_Req",IF($F23="Hybrid - min 4 swimmers (no DD)","Data!$BI$1:$BI$5","HybridDD_Code")),IF($E24=3,"TreDD_Code",IF($E24="PA","AcroPair_Code",IF(LEFT($F23,4)="Acro",CONCATENATE(BP$16,$E24,"_Code"),"Data!$BI$1:$BI$5")))) -> Data!$BI$1:$BI$5 | BQ23: =IF($E24="H",IF($F23="Hybrid - Thrust + 2 connections","Hybrid_Mix_Req",IF($F23="Hybrid - min 4 swimmers (no DD)","Data!$BI$1:$BI$5","HybridDD_Code")),IF($E24=3,"TreDD_Code",IF($E24="PA","AcroPair_Code",IF(LEFT($F23,4)="Acro",CONCATENATE(BQ$16,$E24,"_Code"),"Data!$BI$1:$BI$5")))) -> Data!$BI$1:$BI$5 | BR23: =IF($E24="H",IF($F23="Hybrid - Thrust + 2 connections","Data!$BI$1:$BI$5","HybridDD_Code"),"Data!$BI$1:$BI$5") -> Data!$BI$1:$BI$5 | BS23: =$BR23 -> Data!$BI$1:$BI$5 | BT23: =$BR23 -> Data!$BI$1:$BI$5 | BU23: =$BR23 -> Data!$BI$1:$BI$5 | BV23: =$BR23 -> Data!$BI$1:$BI$5 | BW23: =$BR23 -> Data!$BI$1:$BI$5 | BX23: =$BR23 -> Data!$BI$1:$BI$5 | BY23: =$BR23 -> Data!$BI$1:$BI$5 | BZ23: =$BR23 -> Data!$BI$1:$BI$5 | ... CL23: =$BR23 -> Data!$BI$1:$BI$5 | CO23: =IFERROR(TIME(0,A23,B23),"") | CP23: =IFERROR(TIME(0,C23,D23),"") -> 0 | CQ23: =IF(CP23>$D$12,"X","") | CR23: =IF(AND(F23="Hybrid - Thrust + 2 connections",OR(LEFT(J23,1)="T",LEFT(K23,1)="T",LEFT(L23,1)="T",LEFT(PB23,1)="T",LEFT(M23,1)="T",LEFT(N23,1)="T",LEFT(O23,1)="T",LEFT(P23,1)="T",LEFT(Q23,1)="T",LEFT(R23,1)="T",LEFT(S23,1)="T",LEFT(T23,1)="T",LEFT(U23,1)="T",LEFT(V23,1)="T",LEFT(W23,1)="T",LEFT(X23,1)="T",LEFT(AK23,1)="T",LEFT(AL23,1)="T",LEFT(AM23,1)="T")),IF(OR(LEN(J23)=2,LEN(K23)=2,LEN(L23)=2,LEN(M23)=2,LEN(N23)=2,LEN(O23)=2,LEN(P23)=2,LEN(Q23)=2,LEN(R23)=2,LEN(S23)=2,LEN(T23)=2,LEN(U23)=2,LEN(V23)=2,LEN(W23)=2,LEN(X23)=2,LEN(Y23)=2,LEN(Z23)=2,LEN(AK23)=2,LEN(AL23)=2,LEN(AM23)=2),"X",""),"") | CT23: =IF(LEFT(F23,4)="Acro",IF(AND(N23<>"",M23=RIGHT(N23,2)),"X","OK"),"") | CU23: =IFERROR(IF(AND(LEFT($F23,4)="Acro",INDEX(Requ_App,MATCH(BI23,Requ_Code,0))="No"),"X",""),"") | CV23: =IFERROR(IF(AND(LEFT($F23,4)="Acro",INDEX(Requ_App,MATCH(BJ23,Requ_Code,0))="No"),"X",""),"") | CW23: =IFERROR(IF(AND(LEFT($F23,4)="Acro",INDEX(Requ_App,MATCH(BK23,Requ_Code,0))="No"),"X",""),"") | CX23: =IFERROR(IF(AND(LEFT($F23,4)="Acro",INDEX(Requ_App,MATCH(BL23,Requ_Code,0))="No"),"X",""),"") | CY23: =IFERROR(IF(AND(LEFT($F23,4)="Acro",INDEX(Requ_App,MATCH(BM23,Requ_Code,0))="No"),"X",""),"") | CZ23: =IFERROR(IF(AND(LEFT($F23,4)="Acro",INDEX(Requ_App,MATCH(BN23,Requ_Code,0))="No"),"X",""),"") | DA23: =IFERROR(IF(AND(LEFT($F23,4)="Acro",INDEX(Requ_App,MATCH(BO23,Requ_Code,0))="No"),"X",""),"") | DB23: =IFERROR(IF(AND(LEFT($F23,4)="Acro",INDEX(Requ_App,MATCH(BP23,Requ_Code,0))="No"),"X",""),"") | DC23: =IFERROR(IF(AND(LEFT($F23,4)="Acro",INDEX(Requ_App,MATCH(BP23,Requ_Code,0))="No"),"X",""),"") | DD23: =IF(OR($E24="A",$E24="B",$E24="C",$E24="P"),"Z","") | DE23: =IF(OR($E24="B",$E24="P"),"Z","") | DF23: =IF(OR($E24="A",$E24="C"),"Z","") | DG23: =IF(OR($E24="A",$E24="B",$E24="C",$E24="P"),"Z","") | DK23: =IF(AND(E24="A",OR(Q23="Grip",Q23="Conn",Q23="Catch")),"A1",IF(AND(E24="A",OR(Q23="Hula",Q23="RetSq",Q23="RetPa")),"A2",IF(AND(E24="B",OR(Q23="Twirl",Q23="RotF")),"B1",IF(AND(E24="B",OR(Q23="Moon",Q23="Mov",Q23="Hold")),"B2",IF(AND(E24="P",OR(Q23="Porp",Q23="Splch")),"P1",IF(AND(E24="P",OR(Q23="Diva",Q23="Stand")),"P2",IF(AND(E24="P",OR(Q23="Spider",Q23="Climb")),"P3",IF(AND(E24="P",OR(Q23="Fall",Q23="FTurn")),"P4",IF(AND(E24="C",OR(Q23="Jump",Q23="Jump>",Q23="On1Foot",Q23="1F>1F")),"C1",IF(AND(E24="C",OR(Q23="Run",Q23="BRun")),"C2",1)))))))))) -> 1 | DL23: =IF(AND(E24="A",OR(R23="Grip",R23="Conn",R23="Catch")),"A1",IF(AND(E24="A",OR(R23="Hula",R23="RetSq",R23="RetPa")),"A2",IF(AND(E24="B",OR(R23="Twirl",R23="RotF")),"B1",IF(AND(E24="B",OR(R23="Moon",R23="Mov",R23="Hold")),"B2",IF(AND(E24="P",OR(R23="Porp",R23="Spich")),"P1",IF(AND(E24="P",OR(R23="Diva",R23="Stand")),"P2",IF(AND(E24="P",OR(R23="Spider",R23="Climb")),"P3",IF(AND(E24="P",OR(R23="Fall",R23="FTurn")),"P4",IF(AND(E24="C",OR(R23="Jump",R23="Jump>",R23="On1Foot",R23="1F>1F")),"C1",IF(AND(E24="C",OR(R23="Run",R23="BRun")),"C2",2)))))))))) -> 2 | DM23: =IF(AND(N23="",OR(Q23<>"",R23<>"")),"X",IF(AND(LEFT(F23,4)="Acro",Q23<>"",OR(Q23=R23,DK23=DL23)),IF(R23="C-Roll","","X"),IF(OR(AND(E24="A",Q23="Catch",R23<>"Dbl"),AND(E24="A",R23="Catch",Q23<>"Dbl")),"X",""))) | DN23: =IF(E24="PA",J23,"") | DO23: 5 | DQ23: =IF(AND($E24="A",COUNTIF($DZ$19:$EA$68,DZ23)>1),DZ23,"") | DR23: =IF(AND($E24="A",COUNTIF($DZ$19:$EA$68,EA23)>1),EA23,"") | DS23: =IF(AND($E24="B",COUNTIF($J$19:$J$68,J23)>1),J23,"") | DT23: =IF(AND($E24="B",COUNTIF($K$19:$K$68,K23)>1),K23,"") | DU23: =IF(AND($E24="C",COUNTIF($J$19:$J$68,J23)>1),J23,"") | DV23: =IF(AND($E24="P",COUNTIF($J$19:$J$68,J23)>1),J23,"") | DW23: =IF(AND($E24="P",COUNTIF($K$19:$K$68,K23)>1),K23,"") | DX23: =IF(AND($E24="P",COUNTIF($DZ$19:$EA$68,DZ23)>1),DZ23,"") | DY23: =IF(AND($E24="P",COUNTIF($DZ$19:$EA$68,EA23)>1),EA23,"") | DZ23: =IFERROR(IF(OR(E24="A",E24="P"),M23,""),"") | EA23: =IFERROR(IF(OR(E24="A",E24="P"),RIGHT(N23,2),""),"") | EB23: =IF(Q23="","",IF(AND($E24="P",COUNTIF($Q$19:$R$68,Q23)>1),Q23,"")) | EC23: =IF(R23="","",IF(AND($E24="P",COUNTIF($Q$19:$R$68,R23)>1),R23,"")) | ED23: =IF(AND(EB23<>"",COUNTIF(TeamAcro_P_Bonus,EB23)>1),EB23,"") | EE23: =IF(AND(EC23<>"",COUNTIF(TeamAcro_P_Bonus,EC23)>1),EC23,"") | EF23: =IF(AND(OR($F$8="Open Team Acrobatic",$F$8="Open Team Technical"),LEFT(F23,4)="Acro"),E24,"") | EG23: =IF(EF23="","",IFERROR(IF($F$8="Open Team Acrobatic",IF(HLOOKUP(EF23,$DQ$12:$DT$13,2,FALSE)>2,"X",""),IF(HLOOKUP(EF23,$DQ$12:$DT$13,2,FALSE)>1,"X","")),"")) | EI23: =IF(OR(AND(F23="Hybrid - Thrust + 2 connections",EI24="T"),AND(E24="H",EI24<>"",EI77="X")),"X","") | EK23: =IFERROR(IF(AND($E24="H",J23<>"",J23<>"ChoHY"),IF(OR(LEFT(J23,1)="T",LEFT(J23,1)="S",LEFT(J23,1)="A",LEFT(J23,1)="F",LEFT(J23,1)="C"),LEFT(J23,1),"R"),EK$18),"") -> 1 | EL23: =IFERROR(IF(AND($E24="H",K23<>""),IF(OR(LEFT(K23,1)="T",LEFT(K23,1)="S",LEFT(K23,1)="A",LEFT(K23,1)="F",LEFT(K23,1)="C"),LEFT(K23,1),"R"),EL$18),"") -> 2 | EM23: =IFERROR(IF(AND($E24="H",L23<>""),IF(OR(LEFT(L23,1)="T",LEFT(L23,1)="S",LEFT(L23,1)="A",LEFT(L23,1)="F",LEFT(L23,1)="C"),LEFT(L23,1),"R"),EM$18),"") -> 3 | EN23: =IFERROR(IF(AND($E24="H",M23<>""),IF(OR(LEFT(M23,1)="T",LEFT(M23,1)="S",LEFT(M23,1)="A",LEFT(M23,1)="F",LEFT(M23,1)="C"),LEFT(M23,1),"R"),EN$18),"") -> 4 | EO23: =IFERROR(IF(AND($E24="H",N23<>""),IF(OR(LEFT(N23,1)="T",LEFT(N23,1)="S",LEFT(N23,1)="A",LEFT(N23,1)="F",LEFT(N23,1)="C"),LEFT(N23,1),"R"),EO$18),"") -> 5 | EP23: =IFERROR(IF(AND($E24="H",O23<>""),IF(OR(LEFT(O23,1)="T",LEFT(O23,1)="S",LEFT(O23,1)="A",LEFT(O23,1)="F",LEFT(O23,1)="C"),LEFT(O23,1),"R"),EP$18),"") -> 6 | EQ23: =IFERROR(IF(AND($E24="H",P23<>""),IF(OR(LEFT(P23,1)="T",LEFT(P23,1)="S",LEFT(P23,1)="A",LEFT(P23,1)="F",LEFT(P23,1)="C"),LEFT(P23,1),"R"),EQ$18),"") -> 7 | ER23: =IFERROR(IF(AND($E24="H",Q23<>""),IF(OR(LEFT(Q23,1)="T",LEFT(Q23,1)="S",LEFT(Q23,1)="A",LEFT(Q23,1)="F",LEFT(Q23,1)="C"),LEFT(Q23,1),"R"),ER$18),"") -> 8 | ES23: =IFERROR(IF(AND($E24="H",R23<>""),IF(OR(LEFT(R23,1)="T",LEFT(R23,1)="S",LEFT(R23,1)="A",LEFT(R23,1)="F",LEFT(R23,1)="C"),LEFT(R23,1),"R"),ES$18),"") -> 9 | ... FN23: =IFERROR(IF(AND($E24="H",AM23<>""),IF(OR(LEFT(AM23,1)="T",LEFT(AM23,1)="S",LEFT(AM23,1)="A",LEFT(AM23,1)="F",LEFT(AM23,1)="C"),LEFT(AM23,1),"R"),FN$18),"") -> 30 | GW23: =COUNTIF($EK23:$FN23,GW$18) -> 0 | GX23: =COUNTIF($EK23:$FN23,GX$18) -> 0 | GY23: =COUNTIF($EK23:$FN23,GY$18) -> 0 | GZ23: =COUNTIF($EK23:$FN23,GZ$18) -> 0 | HA23: =COUNTIF($EK23:$FN23,HA$18) -> 0 | HB23: =COUNTIF($EK23:$FN23,HB$18) -> 0 | HD23: =IF(AND($F23="Hybrid - Thrust + 2 connections",HD24=0,LEFT($J23,1)="C",LEFT($K23,1)="C",LEFT($L23,1)="C"),"X","") | HI23: =IF(E24=3,IF(_xlfn.NUMBERVALUE(LEFT(J23,1))>0,_xlfn.NUMBERVALUE(LEFT(J23,1)),""),"") | HK23: =IF(OR(E24="B",E24="P"),E24,"") | HL23: =IF(AND(J23<>"",HK23<>""),IF(HK23="B",MATCH(J23,AcroDD!$U$3:$AE$3,0),MATCH(J23,AcroDD!$U$30:$AC$30,0)),"") | HM23: =IF(AND(K23<>"",HK23<>""),K23,"") | HN23: =_xlfn.LET(_xlpm.lista,IF(HK23="B",INDEX(AcroDD!$T$4:$AE$23,0,HL23+1),INDEX(AcroDD!$T$31:$AC$50,0,HL23+1)),IF(AND(OR(HK23="B",HK23="P"),HL23<>"",HM23<>""),IF(ISNUMBER(MATCH(HM23,_xlpm.lista,0)),"OK","X"),""))
E24: =IF(F23="Acrobatic - Pair","PA",IF(F23="Acrobatic Airborn","A",IF(F23="Acrobatic Balance","B",IF(F23="Acrobatic Combined","C",IF(F23="Acrobatic Platform","P",IF(F23="Technical Required Element",3,IF(LEFT(F23,4)="Hybr","H",""))))))) | F24: =IF(AND(F23="Hybrid - Thrust + 2 connections",CR23="X"),"Hybrid - Thrust",IF(OR(E24="A",E24="B",E24="C",E24="P"),"Acrobatic","")) | H24: =IF(E24="PA",IF(OR(LEFT(J23,1)="L",LEFT(J23,1)="S"),"A-Pair-Lift",IF(OR(LEFT(J23,1)="W",LEFT(J23,1)="T"),"A-Pair-Throw",IF(LEFT(J23,1)="J","A-Pair-Jump","A-Pair"))),IF(OR(E24="A",E24="B",E24="C",E24="P"),CONCATENATE("Acro-",E24),"")) | I24: =IF(OR(F23="Hybrid - Choreography (DD = 1)",LEFT(F23,5)="Trans"),0,INDEX($BY$3:$BY$9,MATCH(E24,$BX$3:$BX$9,0))) -> #N/A | J24: =IFERROR(IF($H23="No DD",IF(J23="ChoHY",1,0),IF(OR(ISBLANK(J23),J23="N/A"),0,INDEX(INDIRECT(BI24),MATCH(J23,INDIRECT(BI23),0)))),0) -> 0 | K24: =IFERROR(IF($H23="No DD",0,IF(OR(ISBLANK(K23),K23="N/A"),0,INDEX(INDIRECT(BJ24),MATCH(K23,INDIRECT(BJ23),0)))),0) -> 0 | L24: =IFERROR(IF($H23="No DD",0,IF(OR(ISBLANK(L23),L23="N/A"),0,INDEX(INDIRECT(BK24),MATCH(L23,INDIRECT(BK23),0)))),0) -> 0 | M24: =IFERROR(IF($H23="No DD",0,IF(OR(ISBLANK(M23),M23="N/A"),0,INDEX(INDIRECT(BL24),MATCH(M23,INDIRECT(BL23),0)))),0) -> 0 | N24: =IFERROR(IF($H23="No DD",0,IF(OR(ISBLANK(N23),N23="N/A"),0,INDEX(INDIRECT(BM24),MATCH(N23,INDIRECT(BM23),0)))),0) -> 0 | O24: =IFERROR(IF($H23="No DD",0,IF(OR(ISBLANK(O23),O23="N/A"),0,INDEX(INDIRECT(BN24),MATCH(O23,INDIRECT(BN23),0)))),0) -> 0 | P24: =IFERROR(IF($H23="No DD",0,IF(OR(ISBLANK(P23),P23="N/A"),0,INDEX(INDIRECT(BO24),MATCH(P23,INDIRECT(BO23),0)))),0) -> 0 | Q24: =IFERROR(IF($H23="No DD",0,IF(OR(ISBLANK(Q23),Q23="N/A"),0,INDEX(INDIRECT(BP24),MATCH(Q23,INDIRECT(BP23),0)))),0) -> 0 | R24: =IFERROR(IF($H23="No DD",0,IF(OR(ISBLANK(R23),R23="N/A"),0,INDEX(INDIRECT(BQ24),MATCH(R23,INDIRECT(BQ23),0)))),0) -> 0 | ... AM24: =IFERROR(IF($H23="No DD",0,IF(OR(ISBLANK(AM23),AM23="N/A"),0,INDEX(INDIRECT(CL24),MATCH(AM23,INDIRECT(CL23),0)))),0) -> 0 | AN24: =IFERROR(IF(E24="H",INDEX(HybridBonus_Value,MATCH(AN23,HybridBonus_Code,0)),""),"") | AO24: =IFERROR(SUM(I24:AN24),"") | BI24: =IF($E24="H",IF($F23="Hybrid - Thrust + 2 connections","Hybrid_Mix_Req_Value","HybridDD_Value"),IF($E24=3,"TreDD_Value",IF($E24="PA","AcroPair_Value",IF(LEFT($F23,4)="Acro",CONCATENATE(BI$16,$E24,"_Value"),"")))) | BJ24: =IF($E24="H",IF($F23="Hybrid - Thrust + 2 connections","Hybrid_Mix_Req_Value","HybridDD_Value"),IF($E24=3,"TreDD_Value",IF($E24="PA","AcroPair_Value",IF(LEFT($F23,4)="Acro",CONCATENATE(BJ$16,$E24,"_Value"),"")))) | BK24: =IF($E24="H",IF($F23="Hybrid - Thrust + 2 connections","Hybrid_Mix_Req_Value","HybridDD_Value"),IF($E24=3,"TreDD_Value",IF($E24="PA","AcroPair_Value",IF(LEFT($F23,4)="Acro",CONCATENATE(BK$16,$E24,"_Value"),"")))) | BL24: =IF($E24="H",IF($F23="Hybrid - Thrust + 2 connections","Hybrid_Mix_Req_Value","HybridDD_Value"),IF($E24=3,"TreDD_Value",IF($E24="PA","AcroPair_Value",IF(LEFT($F23,4)="Acro",CONCATENATE(BL$16,$E24,"_Value"),"")))) | BM24: =IF($E24="H",IF($F23="Hybrid - Thrust + 2 connections","Hybrid_Mix_Req_Value","HybridDD_Value"),IF($E24=3,"TreDD_Value",IF($E24="PA","AcroPair_Value",IF(LEFT($F23,4)="Acro",CONCATENATE(BM$16,$E24,"_Value"),"")))) | BN24: =IF($E24="H",IF($F23="Hybrid - Thrust + 2 connections","Hybrid_Mix_Req_Value","HybridDD_Value"),IF($E24=3,"TreDD_Value",IF($E24="PA","AcroPair_Value",IF(LEFT($F23,4)="Acro",CONCATENATE(BN$16,$E24,"_Value"),"")))) | BO24: =IF($E24="H",IF($F23="Hybrid - Thrust + 2 connections","Hybrid_Mix_Req_Value","HybridDD_Value"),IF($E24=3,"TreDD_Value",IF($E24="PA","AcroPair_Value",IF(LEFT($F23,4)="Acro",CONCATENATE(BO$16,$E24,"_Value"),"")))) | BP24: =IF($E24="H",IF($F23="Hybrid - Thrust + 2 connections","Hybrid_Mix_Req_Value","HybridDD_Value"),IF($E24=3,"TreDD_Value",IF($E24="PA","AcroPair_Value",IF(LEFT($F23,4)="Acro",CONCATENATE(BP$16,$E24,"_Value"),"")))) | BQ24: =IF($E24="H",IF($F23="Hybrid - Thrust + 2 connections","Hybrid_Mix_Req_Value","HybridDD_Value"),IF($E24=3,"TreDD_Value",IF($E24="PA","AcroPair_Value",IF(LEFT($F23,4)="Acro",CONCATENATE(BQ$16,$E24,"_Value"),"")))) | BR24: =IF($E24="H",IF($F23="Hybrid - Thrust + 2 connections","Data!$BI$1:$BI$5","HybridDD_Value"),"Data!$BI$1:$BI$5") -> Data!$BI$1:$BI$5 | BS24: =IF($E24="H",IF($F23="Hybrid - Thrust + 2 connections","Data!$BI$1:$BI$5","HybridDD_Value"),"Data!$BI$1:$BI$5") -> Data!$BI$1:$BI$5 | BT24: =IF($E24="H",IF($F23="Hybrid - Thrust + 2 connections","Data!$BI$1:$BI$5","HybridDD_Value"),"Data!$BI$1:$BI$5") -> Data!$BI$1:$BI$5 | BU24: =IF($E24="H",IF($F23="Hybrid - Thrust + 2 connections","Data!$BI$1:$BI$5","HybridDD_Value"),"Data!$BI$1:$BI$5") -> Data!$BI$1:$BI$5 | BV24: =IF($E24="H",IF($F23="Hybrid - Thrust + 2 connections","Data!$BI$1:$BI$5","HybridDD_Value"),"Data!$BI$1:$BI$5") -> Data!$BI$1:$BI$5 | BW24: =IF($E24="H",IF($F23="Hybrid - Thrust + 2 connections","Data!$BI$1:$BI$5","HybridDD_Value"),"Data!$BI$1:$BI$5") -> Data!$BI$1:$BI$5 | BX24: =IF($E24="H",IF($F23="Hybrid - Thrust + 2 connections","Data!$BI$1:$BI$5","HybridDD_Value"),"Data!$BI$1:$BI$5") -> Data!$BI$1:$BI$5 | BY24: =IF($E24="H",IF($F23="Hybrid - Thrust + 2 connections","Data!$BI$1:$BI$5","HybridDD_Value"),"Data!$BI$1:$BI$5") -> Data!$BI$1:$BI$5 | ... CL24: =IF($E24="H",IF($F23="Hybrid - Thrust + 2 connections","Data!$BI$1:$BI$5","HybridDD_Value"),"Data!$BI$1:$BI$5") -> Data!$BI$1:$BI$5 | CO24: =IFERROR(IF(AND($BV$6="T",$BV$8="T",LEFT(F23,4)="Acro",AO24>3),"X",IF($N$7="X",IF(AND(E24="C",AO24>$CN$6),"X",IF(AND(E24="A",AO24>$CN$4),"X",IF(AND(E24="B",AO24>$CN$5),"X",IF(AND(E24="P",AO24>$CN$7),"X","")))),"")),"") | DD24: =IF(OR($E25="A",$E25="B",$E25="C",$E25="P"),"Z","") | DE24: =IF(OR($E25="B",$E25="P"),"Z","") | DF24: =IF(OR($E25="A",$E25="C"),"Z","") | DG24: =IF(OR($E25="A",$E25="B",$E25="C",$E25="P"),"Z","") | DO24: 6 | ED24: =IF(AND(EB24<>"",COUNTIF(TeamAcro_P_Bonus,EB24)>1),EB24,"") | EE24: =IF(AND(EC24<>"",COUNTIF(TeamAcro_P_Bonus,EC24)>1),EC24,"") | EI24: {=IFERROR(INDEX(EK24:FN24,MATCH(TRUE,INDEX((EK24:FN24<>""),),0)),"")} | EK24: =IF(F23="Hybrid - Thrust + 2 connections",IF(COUNTIF($EK23:$FN23,EK23)>1,EK23,""),IF(COUNTIF($EK23:$FN23,EK23)>5,EK23,"")) | EL24: =IF(G23="Hybrid - Thrust + 2 connections",IF(COUNTIF($EK23:$FN23,EL23)>1,EL23,""),IF(COUNTIF($EK23:$FN23,EL23)>5,EL23,"")) | EM24: =IF(H23="Hybrid - Thrust + 2 connections",IF(COUNTIF($EK23:$FN23,EM23)>1,EM23,""),IF(COUNTIF($EK23:$FN23,EM23)>5,EM23,"")) | EN24: =IF(I23="Hybrid - Thrust + 2 connections",IF(COUNTIF($EK23:$FN23,EN23)>1,EN23,""),IF(COUNTIF($EK23:$FN23,EN23)>5,EN23,"")) | EO24: =IF(J23="Hybrid - Thrust + 2 connections",IF(COUNTIF($EK23:$FN23,EO23)>1,EO23,""),IF(COUNTIF($EK23:$FN23,EO23)>5,EO23,"")) | EP24: =IF(K23="Hybrid - Thrust + 2 connections",IF(COUNTIF($EK23:$FN23,EP23)>1,EP23,""),IF(COUNTIF($EK23:$FN23,EP23)>5,EP23,"")) | EQ24: =IF(L23="Hybrid - Thrust + 2 connections",IF(COUNTIF($EK23:$FN23,EQ23)>1,EQ23,""),IF(COUNTIF($EK23:$FN23,EQ23)>5,EQ23,"")) | ER24: =IF(M23="Hybrid - Thrust + 2 connections",IF(COUNTIF($EK23:$FN23,ER23)>1,ER23,""),IF(COUNTIF($EK23:$FN23,ER23)>5,ER23,"")) | ... FN24: =IF(AI23="Hybrid - Thrust + 2 connections",IF(COUNTIF($EK23:$FN23,FN23)>1,FN23,""),IF(COUNTIF($EK23:$FN23,FN23)>5,FN23,"")) | FO24: =FO22+5 -> 10 | FP24: {=IF(FQ24<>"",LEFT(FQ24,FIND("*",FQ24)-1),INDEX($FP$75:$FP$172,FO24+1))} | FQ24: {=INDEX($FQ$75:$FQ$172,FO24+1)} | HD24: =IF($F23="Hybrid - Thrust + 2 connections",COUNTBLANK(J23:L23),"")
A25: =IF(AND(E23="",A23<>""),IF(CP23=$CP$18,"",IF(C23<>"",IF(D23=59,MINUTE(CP23)+1,MINUTE(CP23)),"")),"") | B25: =IF(AND(E23="",B23<>""),IF(CP23=$CP$18,"",IF(C23<>"",IF(D23=59,0,SECOND(CP23)+1),"")),"") | G25: =IF(F25<>"",IF(OR(F25="Transition",F25="Transition - Surface Connection"),0,MAX($G$19:G24)+1),"") | H25: =IFERROR(IF(E26="3","",IF(OR(F25="Hybrid - Choreography (DD = 1)",LEFT(F25,5)="Trans"),"No DD",CONCATENATE("BM = ",I26))),"") | AW25: =E26 | AX25: =IF(AY25=0,"",TIME(0,A25,B25)) | AY25: =TIME(0,C25,D25) -> 0 | AZ25: =IFERROR(AY25-AX25,"") | BA25: =IF($AX$17=0,"",IF(AND($C$10<>"",AW25="H",AZ25>$AX$17),"X","")) | BG25: =IFERROR(IF(F25<>"",INDEX(Parts_Active,MATCH(F25,Parts_Active,0)),""),"No") | BI25: =IF($E26="H",IF($F25="Hybrid - Thrust + 2 connections","Hybrid_Mix_Req",IF($F25="Hybrid - Choreography (DD = 1)","Hybrid_ChoHY","HybridDD_Code")),IF($E26=3,"TreDD_Code",IF($E26="PA","AcroPair_Code",IF(LEFT($F25,4)="Acro",CONCATENATE(BI$16,$E26,"_Code"),"Data!$BI$1:$BI$5")))) -> Data!$BI$1:$BI$5 | BJ25: =IF($E26="H",IF($F25="Hybrid - Thrust + 2 connections","Hybrid_Mix_Req",IF($F25="Hybrid - min 4 swimmers (no DD)","Data!$BI$1:$BI$5","HybridDD_Code")),IF($E26=3,"TreDD_Code",IF($E26="PA","AcroPair_Code",IF(LEFT($F25,4)="Acro",CONCATENATE(BJ$16,$E26,"_Code"),"Data!$BI$1:$BI$5")))) -> Data!$BI$1:$BI$5 | BK25: =IF($E26="H",IF($F25="Hybrid - Thrust + 2 connections","Hybrid_Mix_Req",IF($F25="Hybrid - min 4 swimmers (no DD)","Data!$BI$1:$BI$5","HybridDD_Code")),IF($E26=3,"TreDD_Code",IF($E26="PA","AcroPair_Code",IF(LEFT($F25,4)="Acro",CONCATENATE(BK$16,$E26,"_Code"),"Data!$BI$1:$BI$5")))) -> Data!$BI$1:$BI$5 | BL25: =IF($E26="H",IF($F25="Hybrid - Thrust + 2 connections","Hybrid_Mix_Req",IF($F25="Hybrid - min 4 swimmers (no DD)","Data!$BI$1:$BI$5","HybridDD_Code")),IF($E26=3,"TreDD_Code",IF($E26="PA","AcroPair_Code",IF(LEFT($F25,4)="Acro",CONCATENATE(BL$16,$E26,"_Code"),"Data!$BI$1:$BI$5")))) -> Data!$BI$1:$BI$5 | BM25: =IF($E26="H",IF($F25="Hybrid - Thrust + 2 connections","Hybrid_Mix_Req",IF($F25="Hybrid - min 4 swimmers (no DD)","Data!$BI$1:$BI$5","HybridDD_Code")),IF($E26=3,"TreDD_Code",IF($E26="PA","AcroPair_Code",IF(LEFT($F25,4)="Acro",CONCATENATE(BM$16,$E26,"_Code"),"Data!$BI$1:$BI$5")))) -> Data!$BI$1:$BI$5 | BN25: =IF($E26="H",IF($F25="Hybrid - Thrust + 2 connections","Hybrid_Mix_Req",IF($F25="Hybrid - min 4 swimmers (no DD)","Data!$BI$1:$BI$5","HybridDD_Code")),IF($E26=3,"TreDD_Code",IF($E26="PA","AcroPair_Code",IF(LEFT($F25,4)="Acro",CONCATENATE(BN$16,$E26,"_Code"),"Data!$BI$1:$BI$5")))) -> Data!$BI$1:$BI$5 | BO25: =IF($E26="H",IF($F25="Hybrid - Thrust + 2 connections","Hybrid_Mix_Req",IF($F25="Hybrid - min 4 swimmers (no DD)","Data!$BI$1:$BI$5","HybridDD_Code")),IF($E26=3,"TreDD_Code",IF($E26="PA","AcroPair_Code",IF(LEFT($F25,4)="Acro",CONCATENATE(BO$16,$E26,"_Code"),"Data!$BI$1:$BI$5")))) -> Data!$BI$1:$BI$5 | BP25: =IF($E26="H",IF($F25="Hybrid - Thrust + 2 connections","Hybrid_Mix_Req",IF($F25="Hybrid - min 4 swimmers (no DD)","Data!$BI$1:$BI$5","HybridDD_Code")),IF($E26=3,"TreDD_Code",IF($E26="PA","AcroPair_Code",IF(LEFT($F25,4)="Acro",CONCATENATE(BP$16,$E26,"_Code"),"Data!$BI$1:$BI$5")))) -> Data!$BI$1:$BI$5 | BQ25: =IF($E26="H",IF($F25="Hybrid - Thrust + 2 connections","Hybrid_Mix_Req",IF($F25="Hybrid - min 4 swimmers (no DD)","Data!$BI$1:$BI$5","HybridDD_Code")),IF($E26=3,"TreDD_Code",IF($E26="PA","AcroPair_Code",IF(LEFT($F25,4)="Acro",CONCATENATE(BQ$16,$E26,"_Code"),"Data!$BI$1:$BI$5")))) -> Data!$BI$1:$BI$5 | BR25: =IF($E26="H",IF($F25="Hybrid - Thrust + 2 connections","Data!$BI$1:$BI$5","HybridDD_Code"),"Data!$BI$1:$BI$5") -> Data!$BI$1:$BI$5 | BS25: =$BR25 -> Data!$BI$1:$BI$5 | BT25: =$BR25 -> Data!$BI$1:$BI$5 | BU25: =$BR25 -> Data!$BI$1:$BI$5 | BV25: =$BR25 -> Data!$BI$1:$BI$5 | BW25: =$BR25 -> Data!$BI$1:$BI$5 | BX25: =$BR25 -> Data!$BI$1:$BI$5 | BY25: =$BR25 -> Data!$BI$1:$BI$5 | BZ25: =$BR25 -> Data!$BI$1:$BI$5 | ... CL25: =$BR25 -> Data!$BI$1:$BI$5 | CO25: =IFERROR(TIME(0,A25,B25),"") | CP25: =IFERROR(TIME(0,C25,D25),"") -> 0 | CQ25: =IF(CP25>$D$12,"X","") | CR25: =IF(AND(F25="Hybrid - Thrust + 2 connections",OR(LEFT(J25,1)="T",LEFT(K25,1)="T",LEFT(L25,1)="T",LEFT(PB25,1)="T",LEFT(M25,1)="T",LEFT(N25,1)="T",LEFT(O25,1)="T",LEFT(P25,1)="T",LEFT(Q25,1)="T",LEFT(R25,1)="T",LEFT(S25,1)="T",LEFT(T25,1)="T",LEFT(U25,1)="T",LEFT(V25,1)="T",LEFT(W25,1)="T",LEFT(X25,1)="T",LEFT(AK25,1)="T",LEFT(AL25,1)="T",LEFT(AM25,1)="T")),IF(OR(LEN(J25)=2,LEN(K25)=2,LEN(L25)=2,LEN(M25)=2,LEN(N25)=2,LEN(O25)=2,LEN(P25)=2,LEN(Q25)=2,LEN(R25)=2,LEN(S25)=2,LEN(T25)=2,LEN(U25)=2,LEN(V25)=2,LEN(W25)=2,LEN(X25)=2,LEN(Y25)=2,LEN(Z25)=2,LEN(AK25)=2,LEN(AL25)=2,LEN(AM25)=2),"X",""),"") | CT25: =IF(LEFT(F25,4)="Acro",IF(AND(N25<>"",M25=RIGHT(N25,2)),"X","OK"),"") | CU25: =IFERROR(IF(AND(LEFT($F25,4)="Acro",INDEX(Requ_App,MATCH(BI25,Requ_Code,0))="No"),"X",""),"") | CV25: =IFERROR(IF(AND(LEFT($F25,4)="Acro",INDEX(Requ_App,MATCH(BJ25,Requ_Code,0))="No"),"X",""),"") | CW25: =IFERROR(IF(AND(LEFT($F25,4)="Acro",INDEX(Requ_App,MATCH(BK25,Requ_Code,0))="No"),"X",""),"") | CX25: =IFERROR(IF(AND(LEFT($F25,4)="Acro",INDEX(Requ_App,MATCH(BL25,Requ_Code,0))="No"),"X",""),"") | CY25: =IFERROR(IF(AND(LEFT($F25,4)="Acro",INDEX(Requ_App,MATCH(BM25,Requ_Code,0))="No"),"X",""),"") | CZ25: =IFERROR(IF(AND(LEFT($F25,4)="Acro",INDEX(Requ_App,MATCH(BN25,Requ_Code,0))="No"),"X",""),"") | DA25: =IFERROR(IF(AND(LEFT($F25,4)="Acro",INDEX(Requ_App,MATCH(BO25,Requ_Code,0))="No"),"X",""),"") | DB25: =IFERROR(IF(AND(LEFT($F25,4)="Acro",INDEX(Requ_App,MATCH(BP25,Requ_Code,0))="No"),"X",""),"") | DC25: =IFERROR(IF(AND(LEFT($F25,4)="Acro",INDEX(Requ_App,MATCH(BP25,Requ_Code,0))="No"),"X",""),"") | DD25: =IF(OR($E26="A",$E26="B",$E26="C",$E26="P"),"Z","") | DE25: =IF(OR($E26="B",$E26="P"),"Z","") | DF25: =IF(OR($E26="A",$E26="C"),"Z","") | DG25: =IF(OR($E26="A",$E26="B",$E26="C",$E26="P"),"Z","") | DK25: =IF(AND(E26="A",OR(Q25="Grip",Q25="Conn",Q25="Catch")),"A1",IF(AND(E26="A",OR(Q25="Hula",Q25="RetSq",Q25="RetPa")),"A2",IF(AND(E26="B",OR(Q25="Twirl",Q25="RotF")),"B1",IF(AND(E26="B",OR(Q25="Moon",Q25="Mov",Q25="Hold")),"B2",IF(AND(E26="P",OR(Q25="Porp",Q25="Splch")),"P1",IF(AND(E26="P",OR(Q25="Diva",Q25="Stand")),"P2",IF(AND(E26="P",OR(Q25="Spider",Q25="Climb")),"P3",IF(AND(E26="P",OR(Q25="Fall",Q25="FTurn")),"P4",IF(AND(E26="C",OR(Q25="Jump",Q25="Jump>",Q25="On1Foot",Q25="1F>1F")),"C1",IF(AND(E26="C",OR(Q25="Run",Q25="BRun")),"C2",1)))))))))) -> 1 | DL25: =IF(AND(E26="A",OR(R25="Grip",R25="Conn",R25="Catch")),"A1",IF(AND(E26="A",OR(R25="Hula",R25="RetSq",R25="RetPa")),"A2",IF(AND(E26="B",OR(R25="Twirl",R25="RotF")),"B1",IF(AND(E26="B",OR(R25="Moon",R25="Mov",R25="Hold")),"B2",IF(AND(E26="P",OR(R25="Porp",R25="Spich")),"P1",IF(AND(E26="P",OR(R25="Diva",R25="Stand")),"P2",IF(AND(E26="P",OR(R25="Spider",R25="Climb")),"P3",IF(AND(E26="P",OR(R25="Fall",R25="FTurn")),"P4",IF(AND(E26="C",OR(R25="Jump",R25="Jump>",R25="On1Foot",R25="1F>1F")),"C1",IF(AND(E26="C",OR(R25="Run",R25="BRun")),"C2",2)))))))))) -> 2 | DM25: =IF(AND(N25="",OR(Q25<>"",R25<>"")),"X",IF(AND(LEFT(F25,4)="Acro",Q25<>"",OR(Q25=R25,DK25=DL25)),IF(R25="C-Roll","","X"),IF(OR(AND(E26="A",Q25="Catch",R25<>"Dbl"),AND(E26="A",R25="Catch",Q25<>"Dbl")),"X",""))) | DN25: =IF(E26="PA",J25,"") | DO25: 7 | DQ25: =IF(AND($E26="A",COUNTIF($DZ$19:$EA$68,DZ25)>1),DZ25,"") | DR25: =IF(AND($E26="A",COUNTIF($DZ$19:$EA$68,EA25)>1),EA25,"") | DS25: =IF(AND($E26="B",COUNTIF($J$19:$J$68,J25)>1),J25,"") | DT25: =IF(AND($E26="B",COUNTIF($K$19:$K$68,K25)>1),K25,"") | DU25: =IF(AND($E26="C",COUNTIF($J$19:$J$68,J25)>1),J25,"") | DV25: =IF(AND($E26="P",COUNTIF($J$19:$J$68,J25)>1),J25,"") | DW25: =IF(AND($E26="P",COUNTIF($K$19:$K$68,K25)>1),K25,"") | DX25: =IF(AND($E26="P",COUNTIF($DZ$19:$EA$68,DZ25)>1),DZ25,"") | DY25: =IF(AND($E26="P",COUNTIF($DZ$19:$EA$68,EA25)>1),EA25,"") | DZ25: =IFERROR(IF(OR(E26="A",E26="P"),M25,""),"") | EA25: =IFERROR(IF(OR(E26="A",E26="P"),RIGHT(N25,2),""),"") | EB25: =IF(Q25="","",IF(AND($E26="P",COUNTIF($Q$19:$R$68,Q25)>1),Q25,"")) | EC25: =IF(R25="","",IF(AND($E26="P",COUNTIF($Q$19:$R$68,R25)>1),R25,"")) | ED25: =IF(AND(EB25<>"",COUNTIF(TeamAcro_P_Bonus,EB25)>1),EB25,"") | EE25: =IF(AND(EC25<>"",COUNTIF(TeamAcro_P_Bonus,EC25)>1),EC25,"") | EF25: =IF(AND(OR($F$8="Open Team Acrobatic",$F$8="Open Team Technical"),LEFT(F25,4)="Acro"),E26,"") | EG25: =IF(EF25="","",IFERROR(IF($F$8="Open Team Acrobatic",IF(HLOOKUP(EF25,$DQ$12:$DT$13,2,FALSE)>2,"X",""),IF(HLOOKUP(EF25,$DQ$12:$DT$13,2,FALSE)>1,"X","")),"")) | EI25: =IF(OR(AND(F25="Hybrid - Thrust + 2 connections",EI26="T"),AND(E26="H",EI26<>"",EI79="X")),"X","") | EK25: =IFERROR(IF(AND($E26="H",J25<>"",J25<>"ChoHY"),IF(OR(LEFT(J25,1)="T",LEFT(J25,1)="S",LEFT(J25,1)="A",LEFT(J25,1)="F",LEFT(J25,1)="C"),LEFT(J25,1),"R"),EK$18),"") -> 1 | EL25: =IFERROR(IF(AND($E26="H",K25<>""),IF(OR(LEFT(K25,1)="T",LEFT(K25,1)="S",LEFT(K25,1)="A",LEFT(K25,1)="F",LEFT(K25,1)="C"),LEFT(K25,1),"R"),EL$18),"") -> 2 | EM25: =IFERROR(IF(AND($E26="H",L25<>""),IF(OR(LEFT(L25,1)="T",LEFT(L25,1)="S",LEFT(L25,1)="A",LEFT(L25,1)="F",LEFT(L25,1)="C"),LEFT(L25,1),"R"),EM$18),"") -> 3 | EN25: =IFERROR(IF(AND($E26="H",M25<>""),IF(OR(LEFT(M25,1)="T",LEFT(M25,1)="S",LEFT(M25,1)="A",LEFT(M25,1)="F",LEFT(M25,1)="C"),LEFT(M25,1),"R"),EN$18),"") -> 4 | EO25: =IFERROR(IF(AND($E26="H",N25<>""),IF(OR(LEFT(N25,1)="T",LEFT(N25,1)="S",LEFT(N25,1)="A",LEFT(N25,1)="F",LEFT(N25,1)="C"),LEFT(N25,1),"R"),EO$18),"") -> 5 | EP25: =IFERROR(IF(AND($E26="H",O25<>""),IF(OR(LEFT(O25,1)="T",LEFT(O25,1)="S",LEFT(O25,1)="A",LEFT(O25,1)="F",LEFT(O25,1)="C"),LEFT(O25,1),"R"),EP$18),"") -> 6 | EQ25: =IFERROR(IF(AND($E26="H",P25<>""),IF(OR(LEFT(P25,1)="T",LEFT(P25,1)="S",LEFT(P25,1)="A",LEFT(P25,1)="F",LEFT(P25,1)="C"),LEFT(P25,1),"R"),EQ$18),"") -> 7 | ER25: =IFERROR(IF(AND($E26="H",Q25<>""),IF(OR(LEFT(Q25,1)="T",LEFT(Q25,1)="S",LEFT(Q25,1)="A",LEFT(Q25,1)="F",LEFT(Q25,1)="C"),LEFT(Q25,1),"R"),ER$18),"") -> 8 | ES25: =IFERROR(IF(AND($E26="H",R25<>""),IF(OR(LEFT(R25,1)="T",LEFT(R25,1)="S",LEFT(R25,1)="A",LEFT(R25,1)="F",LEFT(R25,1)="C"),LEFT(R25,1),"R"),ES$18),"") -> 9 | ... FN25: =IFERROR(IF(AND($E26="H",AM25<>""),IF(OR(LEFT(AM25,1)="T",LEFT(AM25,1)="S",LEFT(AM25,1)="A",LEFT(AM25,1)="F",LEFT(AM25,1)="C"),LEFT(AM25,1),"R"),FN$18),"") -> 30 | GW25: =COUNTIF($EK25:$FN25,GW$18) -> 0 | GX25: =COUNTIF($EK25:$FN25,GX$18) -> 0 | GY25: =COUNTIF($EK25:$FN25,GY$18) -> 0 | GZ25: =COUNTIF($EK25:$FN25,GZ$18) -> 0 | HA25: =COUNTIF($EK25:$FN25,HA$18) -> 0 | HB25: =COUNTIF($EK25:$FN25,HB$18) -> 0 | HD25: =IF(AND($F25="Hybrid - Thrust + 2 connections",HD26=0,LEFT($J25,1)="C",LEFT($K25,1)="C",LEFT($L25,1)="C"),"X","") | HI25: =IF(E26=3,IF(_xlfn.NUMBERVALUE(LEFT(J25,1))>0,_xlfn.NUMBERVALUE(LEFT(J25,1)),""),"") | HK25: =IF(OR(E26="B",E26="P"),E26,"") | HL25: =IF(AND(J25<>"",HK25<>""),IF(HK25="B",MATCH(J25,AcroDD!$U$3:$AE$3,0),MATCH(J25,AcroDD!$U$30:$AC$30,0)),"") | HM25: =IF(AND(K25<>"",HK25<>""),K25,"") | HN25: =_xlfn.LET(_xlpm.lista,IF(HK25="B",INDEX(AcroDD!$T$4:$AE$23,0,HL25+1),INDEX(AcroDD!$T$31:$AC$50,0,HL25+1)),IF(AND(OR(HK25="B",HK25="P"),HL25<>"",HM25<>""),IF(ISNUMBER(MATCH(HM25,_xlpm.lista,0)),"OK","X"),""))
E26: =IF(F25="Acrobatic - Pair","PA",IF(F25="Acrobatic Airborn","A",IF(F25="Acrobatic Balance","B",IF(F25="Acrobatic Combined","C",IF(F25="Acrobatic Platform","P",IF(F25="Technical Required Element",3,IF(LEFT(F25,4)="Hybr","H",""))))))) | F26: =IF(AND(F25="Hybrid - Thrust + 2 connections",CR25="X"),"Hybrid - Thrust",IF(OR(E26="A",E26="B",E26="C",E26="P"),"Acrobatic","")) | H26: =IF(E26="PA",IF(OR(LEFT(J25,1)="L",LEFT(J25,1)="S"),"A-Pair-Lift",IF(OR(LEFT(J25,1)="W",LEFT(J25,1)="T"),"A-Pair-Throw",IF(LEFT(J25,1)="J","A-Pair-Jump","A-Pair"))),IF(OR(E26="A",E26="B",E26="C",E26="P"),CONCATENATE("Acro-",E26),"")) | I26: =IF(OR(F25="Hybrid - Choreography (DD = 1)",LEFT(F25,5)="Trans"),0,INDEX($BY$3:$BY$9,MATCH(E26,$BX$3:$BX$9,0))) -> #N/A | J26: =IFERROR(IF($H25="No DD",IF(J25="ChoHY",1,0),IF(OR(ISBLANK(J25),J25="N/A"),0,INDEX(INDIRECT(BI26),MATCH(J25,INDIRECT(BI25),0)))),0) -> 0 | K26: =IFERROR(IF($H25="No DD",0,IF(OR(ISBLANK(K25),K25="N/A"),0,INDEX(INDIRECT(BJ26),MATCH(K25,INDIRECT(BJ25),0)))),0) -> 0 | L26: =IFERROR(IF($H25="No DD",0,IF(OR(ISBLANK(L25),L25="N/A"),0,INDEX(INDIRECT(BK26),MATCH(L25,INDIRECT(BK25),0)))),0) -> 0 | M26: =IFERROR(IF($H25="No DD",0,IF(OR(ISBLANK(M25),M25="N/A"),0,INDEX(INDIRECT(BL26),MATCH(M25,INDIRECT(BL25),0)))),0) -> 0 | N26: =IFERROR(IF($H25="No DD",0,IF(OR(ISBLANK(N25),N25="N/A"),0,INDEX(INDIRECT(BM26),MATCH(N25,INDIRECT(BM25),0)))),0) -> 0 | O26: =IFERROR(IF($H25="No DD",0,IF(OR(ISBLANK(O25),O25="N/A"),0,INDEX(INDIRECT(BN26),MATCH(O25,INDIRECT(BN25),0)))),0) -> 0 | P26: =IFERROR(IF($H25="No DD",0,IF(OR(ISBLANK(P25),P25="N/A"),0,INDEX(INDIRECT(BO26),MATCH(P25,INDIRECT(BO25),0)))),0) -> 0 | Q26: =IFERROR(IF($H25="No DD",0,IF(OR(ISBLANK(Q25),Q25="N/A"),0,INDEX(INDIRECT(BP26),MATCH(Q25,INDIRECT(BP25),0)))),0) -> 0 | R26: =IFERROR(IF($H25="No DD",0,IF(OR(ISBLANK(R25),R25="N/A"),0,INDEX(INDIRECT(BQ26),MATCH(R25,INDIRECT(BQ25),0)))),0) -> 0 | ... AM26: =IFERROR(IF($H25="No DD",0,IF(OR(ISBLANK(AM25),AM25="N/A"),0,INDEX(INDIRECT(CL26),MATCH(AM25,INDIRECT(CL25),0)))),0) -> 0 | AN26: =IFERROR(IF(E26="H",INDEX(HybridBonus_Value,MATCH(AN25,HybridBonus_Code,0)),""),"") | AO26: =IFERROR(SUM(I26:AN26),"") | BI26: =IF($E26="H",IF($F25="Hybrid - Thrust + 2 connections","Hybrid_Mix_Req_Value","HybridDD_Value"),IF($E26=3,"TreDD_Value",IF($E26="PA","AcroPair_Value",IF(LEFT($F25,4)="Acro",CONCATENATE(BI$16,$E26,"_Value"),"")))) | BJ26: =IF($E26="H",IF($F25="Hybrid - Thrust + 2 connections","Hybrid_Mix_Req_Value","HybridDD_Value"),IF($E26=3,"TreDD_Value",IF($E26="PA","AcroPair_Value",IF(LEFT($F25,4)="Acro",CONCATENATE(BJ$16,$E26,"_Value"),"")))) | BK26: =IF($E26="H",IF($F25="Hybrid - Thrust + 2 connections","Hybrid_Mix_Req_Value","HybridDD_Value"),IF($E26=3,"TreDD_Value",IF($E26="PA","AcroPair_Value",IF(LEFT($F25,4)="Acro",CONCATENATE(BK$16,$E26,"_Value"),"")))) | BL26: =IF($E26="H",IF($F25="Hybrid - Thrust + 2 connections","Hybrid_Mix_Req_Value","HybridDD_Value"),IF($E26=3,"TreDD_Value",IF($E26="PA","AcroPair_Value",IF(LEFT($F25,4)="Acro",CONCATENATE(BL$16,$E26,"_Value"),"")))) | BM26: =IF($E26="H",IF($F25="Hybrid - Thrust + 2 connections","Hybrid_Mix_Req_Value","HybridDD_Value"),IF($E26=3,"TreDD_Value",IF($E26="PA","AcroPair_Value",IF(LEFT($F25,4)="Acro",CONCATENATE(BM$16,$E26,"_Value"),"")))) | BN26: =IF($E26="H",IF($F25="Hybrid - Thrust + 2 connections","Hybrid_Mix_Req_Value","HybridDD_Value"),IF($E26=3,"TreDD_Value",IF($E26="PA","AcroPair_Value",IF(LEFT($F25,4)="Acro",CONCATENATE(BN$16,$E26,"_Value"),"")))) | BO26: =IF($E26="H",IF($F25="Hybrid - Thrust + 2 connections","Hybrid_Mix_Req_Value","HybridDD_Value"),IF($E26=3,"TreDD_Value",IF($E26="PA","AcroPair_Value",IF(LEFT($F25,4)="Acro",CONCATENATE(BO$16,$E26,"_Value"),"")))) | BP26: =IF($E26="H",IF($F25="Hybrid - Thrust + 2 connections","Hybrid_Mix_Req_Value","HybridDD_Value"),IF($E26=3,"TreDD_Value",IF($E26="PA","AcroPair_Value",IF(LEFT($F25,4)="Acro",CONCATENATE(BP$16,$E26,"_Value"),"")))) | BQ26: =IF($E26="H",IF($F25="Hybrid - Thrust + 2 connections","Hybrid_Mix_Req_Value","HybridDD_Value"),IF($E26=3,"TreDD_Value",IF($E26="PA","AcroPair_Value",IF(LEFT($F25,4)="Acro",CONCATENATE(BQ$16,$E26,"_Value"),"")))) | BR26: =IF($E26="H",IF($F25="Hybrid - Thrust + 2 connections","Data!$BI$1:$BI$5","HybridDD_Value"),"Data!$BI$1:$BI$5") -> Data!$BI$1:$BI$5 | BS26: =IF($E26="H",IF($F25="Hybrid - Thrust + 2 connections","Data!$BI$1:$BI$5","HybridDD_Value"),"Data!$BI$1:$BI$5") -> Data!$BI$1:$BI$5 | BT26: =IF($E26="H",IF($F25="Hybrid - Thrust + 2 connections","Data!$BI$1:$BI$5","HybridDD_Value"),"Data!$BI$1:$BI$5") -> Data!$BI$1:$BI$5 | BU26: =IF($E26="H",IF($F25="Hybrid - Thrust + 2 connections","Data!$BI$1:$BI$5","HybridDD_Value"),"Data!$BI$1:$BI$5") -> Data!$BI$1:$BI$5 | BV26: =IF($E26="H",IF($F25="Hybrid - Thrust + 2 connections","Data!$BI$1:$BI$5","HybridDD_Value"),"Data!$BI$1:$BI$5") -> Data!$BI$1:$BI$5 | BW26: =IF($E26="H",IF($F25="Hybrid - Thrust + 2 connections","Data!$BI$1:$BI$5","HybridDD_Value"),"Data!$BI$1:$BI$5") -> Data!$BI$1:$BI$5 | BX26: =IF($E26="H",IF($F25="Hybrid - Thrust + 2 connections","Data!$BI$1:$BI$5","HybridDD_Value"),"Data!$BI$1:$BI$5") -> Data!$BI$1:$BI$5 | BY26: =IF($E26="H",IF($F25="Hybrid - Thrust + 2 connections","Data!$BI$1:$BI$5","HybridDD_Value"),"Data!$BI$1:$BI$5") -> Data!$BI$1:$BI$5 | ... CL26: =IF($E26="H",IF($F25="Hybrid - Thrust + 2 connections","Data!$BI$1:$BI$5","HybridDD_Value"),"Data!$BI$1:$BI$5") -> Data!$BI$1:$BI$5 | CO26: =IFERROR(IF(AND($BV$6="T",$BV$8="T",LEFT(F25,4)="Acro",AO26>3),"X",IF($N$7="X",IF(AND(E26="C",AO26>$CN$6),"X",IF(AND(E26="A",AO26>$CN$4),"X",IF(AND(E26="B",AO26>$CN$5),"X",IF(AND(E26="P",AO26>$CN$7),"X","")))),"")),"") | DD26: =IF(OR($E27="A",$E27="B",$E27="C",$E27="P"),"Z","") | DE26: =IF(OR($E27="B",$E27="P"),"Z","") | DF26: =IF(OR($E27="A",$E27="C"),"Z","") | DG26: =IF(OR($E27="A",$E27="B",$E27="C",$E27="P"),"Z","") | DO26: 8 | ED26: =IF(AND(EB26<>"",COUNTIF(TeamAcro_P_Bonus,EB26)>1),EB26,"") | EE26: =IF(AND(EC26<>"",COUNTIF(TeamAcro_P_Bonus,EC26)>1),EC26,"") | EI26: {=IFERROR(INDEX(EK26:FN26,MATCH(TRUE,INDEX((EK26:FN26<>""),),0)),"")} | EK26: =IF(F25="Hybrid - Thrust + 2 connections",IF(COUNTIF($EK25:$FN25,EK25)>1,EK25,""),IF(COUNTIF($EK25:$FN25,EK25)>5,EK25,"")) | EL26: =IF(G25="Hybrid - Thrust + 2 connections",IF(COUNTIF($EK25:$FN25,EL25)>1,EL25,""),IF(COUNTIF($EK25:$FN25,EL25)>5,EL25,"")) | EM26: =IF(H25="Hybrid - Thrust + 2 connections",IF(COUNTIF($EK25:$FN25,EM25)>1,EM25,""),IF(COUNTIF($EK25:$FN25,EM25)>5,EM25,"")) | EN26: =IF(I25="Hybrid - Thrust + 2 connections",IF(COUNTIF($EK25:$FN25,EN25)>1,EN25,""),IF(COUNTIF($EK25:$FN25,EN25)>5,EN25,"")) | EO26: =IF(J25="Hybrid - Thrust + 2 connections",IF(COUNTIF($EK25:$FN25,EO25)>1,EO25,""),IF(COUNTIF($EK25:$FN25,EO25)>5,EO25,"")) | EP26: =IF(K25="Hybrid - Thrust + 2 connections",IF(COUNTIF($EK25:$FN25,EP25)>1,EP25,""),IF(COUNTIF($EK25:$FN25,EP25)>5,EP25,"")) | EQ26: =IF(L25="Hybrid - Thrust + 2 connections",IF(COUNTIF($EK25:$FN25,EQ25)>1,EQ25,""),IF(COUNTIF($EK25:$FN25,EQ25)>5,EQ25,"")) | ER26: =IF(M25="Hybrid - Thrust + 2 connections",IF(COUNTIF($EK25:$FN25,ER25)>1,ER25,""),IF(COUNTIF($EK25:$FN25,ER25)>5,ER25,"")) | ... FN26: =IF(AI25="Hybrid - Thrust + 2 connections",IF(COUNTIF($EK25:$FN25,FN25)>1,FN25,""),IF(COUNTIF($EK25:$FN25,FN25)>5,FN25,"")) | FO26: =FO24+5 -> 15 | FP26: {=IF(FQ26<>"",LEFT(FQ26,FIND("*",FQ26)-1),INDEX($FP$75:$FP$172,FO26+1))} | FQ26: {=INDEX($FQ$75:$FQ$172,FO26+1)} | HD26: =IF($F25="Hybrid - Thrust + 2 connections",COUNTBLANK(J25:L25),"")
A27: =IF(AND(E25="",A25<>""),IF(CP25=$CP$18,"",IF(C25<>"",IF(D25=59,MINUTE(CP25)+1,MINUTE(CP25)),"")),"") | B27: =IF(AND(E25="",B25<>""),IF(CP25=$CP$18,"",IF(C25<>"",IF(D25=59,0,SECOND(CP25)+1),"")),"") | G27: =IF(F27<>"",IF(OR(F27="Transition",F27="Transition - Surface Connection"),0,MAX($G$19:G26)+1),"") | H27: =IFERROR(IF(E28="3","",IF(OR(F27="Hybrid - Choreography (DD = 1)",LEFT(F27,5)="Trans"),"No DD",CONCATENATE("BM = ",I28))),"") | AW27: =E28 | AX27: =IF(AY27=0,"",TIME(0,A27,B27)) | AY27: =TIME(0,C27,D27) -> 0 | AZ27: =IFERROR(AY27-AX27,"") | BA27: =IF($AX$17=0,"",IF(AND($C$10<>"",AW27="H",AZ27>$AX$17),"X","")) | BG27: =IFERROR(IF(F27<>"",INDEX(Parts_Active,MATCH(F27,Parts_Active,0)),""),"No") | BI27: =IF($E28="H",IF($F27="Hybrid - Thrust + 2 connections","Hybrid_Mix_Req",IF($F27="Hybrid - Choreography (DD = 1)","Hybrid_ChoHY","HybridDD_Code")),IF($E28=3,"TreDD_Code",IF($E28="PA","AcroPair_Code",IF(LEFT($F27,4)="Acro",CONCATENATE(BI$16,$E28,"_Code"),"Data!$BI$1:$BI$5")))) -> Data!$BI$1:$BI$5 | BJ27: =IF($E28="H",IF($F27="Hybrid - Thrust + 2 connections","Hybrid_Mix_Req",IF($F27="Hybrid - min 4 swimmers (no DD)","Data!$BI$1:$BI$5","HybridDD_Code")),IF($E28=3,"TreDD_Code",IF($E28="PA","AcroPair_Code",IF(LEFT($F27,4)="Acro",CONCATENATE(BJ$16,$E28,"_Code"),"Data!$BI$1:$BI$5")))) -> Data!$BI$1:$BI$5 | BK27: =IF($E28="H",IF($F27="Hybrid - Thrust + 2 connections","Hybrid_Mix_Req",IF($F27="Hybrid - min 4 swimmers (no DD)","Data!$BI$1:$BI$5","HybridDD_Code")),IF($E28=3,"TreDD_Code",IF($E28="PA","AcroPair_Code",IF(LEFT($F27,4)="Acro",CONCATENATE(BK$16,$E28,"_Code"),"Data!$BI$1:$BI$5")))) -> Data!$BI$1:$BI$5 | BL27: =IF($E28="H",IF($F27="Hybrid - Thrust + 2 connections","Hybrid_Mix_Req",IF($F27="Hybrid - min 4 swimmers (no DD)","Data!$BI$1:$BI$5","HybridDD_Code")),IF($E28=3,"TreDD_Code",IF($E28="PA","AcroPair_Code",IF(LEFT($F27,4)="Acro",CONCATENATE(BL$16,$E28,"_Code"),"Data!$BI$1:$BI$5")))) -> Data!$BI$1:$BI$5 | BM27: =IF($E28="H",IF($F27="Hybrid - Thrust + 2 connections","Hybrid_Mix_Req",IF($F27="Hybrid - min 4 swimmers (no DD)","Data!$BI$1:$BI$5","HybridDD_Code")),IF($E28=3,"TreDD_Code",IF($E28="PA","AcroPair_Code",IF(LEFT($F27,4)="Acro",CONCATENATE(BM$16,$E28,"_Code"),"Data!$BI$1:$BI$5")))) -> Data!$BI$1:$BI$5 | BN27: =IF($E28="H",IF($F27="Hybrid - Thrust + 2 connections","Hybrid_Mix_Req",IF($F27="Hybrid - min 4 swimmers (no DD)","Data!$BI$1:$BI$5","HybridDD_Code")),IF($E28=3,"TreDD_Code",IF($E28="PA","AcroPair_Code",IF(LEFT($F27,4)="Acro",CONCATENATE(BN$16,$E28,"_Code"),"Data!$BI$1:$BI$5")))) -> Data!$BI$1:$BI$5 | BO27: =IF($E28="H",IF($F27="Hybrid - Thrust + 2 connections","Hybrid_Mix_Req",IF($F27="Hybrid - min 4 swimmers (no DD)","Data!$BI$1:$BI$5","HybridDD_Code")),IF($E28=3,"TreDD_Code",IF($E28="PA","AcroPair_Code",IF(LEFT($F27,4)="Acro",CONCATENATE(BO$16,$E28,"_Code"),"Data!$BI$1:$BI$5")))) -> Data!$BI$1:$BI$5 | BP27: =IF($E28="H",IF($F27="Hybrid - Thrust + 2 connections","Hybrid_Mix_Req",IF($F27="Hybrid - min 4 swimmers (no DD)","Data!$BI$1:$BI$5","HybridDD_Code")),IF($E28=3,"TreDD_Code",IF($E28="PA","AcroPair_Code",IF(LEFT($F27,4)="Acro",CONCATENATE(BP$16,$E28,"_Code"),"Data!$BI$1:$BI$5")))) -> Data!$BI$1:$BI$5 | BQ27: =IF($E28="H",IF($F27="Hybrid - Thrust + 2 connections","Hybrid_Mix_Req",IF($F27="Hybrid - min 4 swimmers (no DD)","Data!$BI$1:$BI$5","HybridDD_Code")),IF($E28=3,"TreDD_Code",IF($E28="PA","AcroPair_Code",IF(LEFT($F27,4)="Acro",CONCATENATE(BQ$16,$E28,"_Code"),"Data!$BI$1:$BI$5")))) -> Data!$BI$1:$BI$5 | BR27: =IF($E28="H",IF($F27="Hybrid - Thrust + 2 connections","Data!$BI$1:$BI$5","HybridDD_Code"),"Data!$BI$1:$BI$5") -> Data!$BI$1:$BI$5 | BS27: =$BR27 -> Data!$BI$1:$BI$5 | BT27: =$BR27 -> Data!$BI$1:$BI$5 | BU27: =$BR27 -> Data!$BI$1:$BI$5 | BV27: =$BR27 -> Data!$BI$1:$BI$5 | BW27: =$BR27 -> Data!$BI$1:$BI$5 | BX27: =$BR27 -> Data!$BI$1:$BI$5 | BY27: =$BR27 -> Data!$BI$1:$BI$5 | BZ27: =$BR27 -> Data!$BI$1:$BI$5 | ... CL27: =$BR27 -> Data!$BI$1:$BI$5 | CO27: =IFERROR(TIME(0,A27,B27),"") | CP27: =IFERROR(TIME(0,C27,D27),"") -> 0 | CQ27: =IF(CP27>$D$12,"X","") | CR27: =IF(AND(F27="Hybrid - Thrust + 2 connections",OR(LEFT(J27,1)="T",LEFT(K27,1)="T",LEFT(L27,1)="T",LEFT(PB27,1)="T",LEFT(M27,1)="T",LEFT(N27,1)="T",LEFT(O27,1)="T",LEFT(P27,1)="T",LEFT(Q27,1)="T",LEFT(R27,1)="T",LEFT(S27,1)="T",LEFT(T27,1)="T",LEFT(U27,1)="T",LEFT(V27,1)="T",LEFT(W27,1)="T",LEFT(X27,1)="T",LEFT(AK27,1)="T",LEFT(AL27,1)="T",LEFT(AM27,1)="T")),IF(OR(LEN(J27)=2,LEN(K27)=2,LEN(L27)=2,LEN(M27)=2,LEN(N27)=2,LEN(O27)=2,LEN(P27)=2,LEN(Q27)=2,LEN(R27)=2,LEN(S27)=2,LEN(T27)=2,LEN(U27)=2,LEN(V27)=2,LEN(W27)=2,LEN(X27)=2,LEN(Y27)=2,LEN(Z27)=2,LEN(AK27)=2,LEN(AL27)=2,LEN(AM27)=2),"X",""),"") | CT27: =IF(LEFT(F27,4)="Acro",IF(AND(N27<>"",M27=RIGHT(N27,2)),"X","OK"),"") | CU27: =IFERROR(IF(AND(LEFT($F27,4)="Acro",INDEX(Requ_App,MATCH(BI27,Requ_Code,0))="No"),"X",""),"") | CV27: =IFERROR(IF(AND(LEFT($F27,4)="Acro",INDEX(Requ_App,MATCH(BJ27,Requ_Code,0))="No"),"X",""),"") | CW27: =IFERROR(IF(AND(LEFT($F27,4)="Acro",INDEX(Requ_App,MATCH(BK27,Requ_Code,0))="No"),"X",""),"") | CX27: =IFERROR(IF(AND(LEFT($F27,4)="Acro",INDEX(Requ_App,MATCH(BL27,Requ_Code,0))="No"),"X",""),"") | CY27: =IFERROR(IF(AND(LEFT($F27,4)="Acro",INDEX(Requ_App,MATCH(BM27,Requ_Code,0))="No"),"X",""),"") | CZ27: =IFERROR(IF(AND(LEFT($F27,4)="Acro",INDEX(Requ_App,MATCH(BN27,Requ_Code,0))="No"),"X",""),"") | DA27: =IFERROR(IF(AND(LEFT($F27,4)="Acro",INDEX(Requ_App,MATCH(BO27,Requ_Code,0))="No"),"X",""),"") | DB27: =IFERROR(IF(AND(LEFT($F27,4)="Acro",INDEX(Requ_App,MATCH(BP27,Requ_Code,0))="No"),"X",""),"") | DC27: =IFERROR(IF(AND(LEFT($F27,4)="Acro",INDEX(Requ_App,MATCH(BP27,Requ_Code,0))="No"),"X",""),"") | DD27: =IF(OR($E28="A",$E28="B",$E28="C",$E28="P"),"Z","") | DE27: =IF(OR($E28="B",$E28="P"),"Z","") | DF27: =IF(OR($E28="A",$E28="C"),"Z","") | DG27: =IF(OR($E28="A",$E28="B",$E28="C",$E28="P"),"Z","") | DK27: =IF(AND(E28="A",OR(Q27="Grip",Q27="Conn",Q27="Catch")),"A1",IF(AND(E28="A",OR(Q27="Hula",Q27="RetSq",Q27="RetPa")),"A2",IF(AND(E28="B",OR(Q27="Twirl",Q27="RotF")),"B1",IF(AND(E28="B",OR(Q27="Moon",Q27="Mov",Q27="Hold")),"B2",IF(AND(E28="P",OR(Q27="Porp",Q27="Splch")),"P1",IF(AND(E28="P",OR(Q27="Diva",Q27="Stand")),"P2",IF(AND(E28="P",OR(Q27="Spider",Q27="Climb")),"P3",IF(AND(E28="P",OR(Q27="Fall",Q27="FTurn")),"P4",IF(AND(E28="C",OR(Q27="Jump",Q27="Jump>",Q27="On1Foot",Q27="1F>1F")),"C1",IF(AND(E28="C",OR(Q27="Run",Q27="BRun")),"C2",1)))))))))) -> 1 | DL27: =IF(AND(E28="A",OR(R27="Grip",R27="Conn",R27="Catch")),"A1",IF(AND(E28="A",OR(R27="Hula",R27="RetSq",R27="RetPa")),"A2",IF(AND(E28="B",OR(R27="Twirl",R27="RotF")),"B1",IF(AND(E28="B",OR(R27="Moon",R27="Mov",R27="Hold")),"B2",IF(AND(E28="P",OR(R27="Porp",R27="Spich")),"P1",IF(AND(E28="P",OR(R27="Diva",R27="Stand")),"P2",IF(AND(E28="P",OR(R27="Spider",R27="Climb")),"P3",IF(AND(E28="P",OR(R27="Fall",R27="FTurn")),"P4",IF(AND(E28="C",OR(R27="Jump",R27="Jump>",R27="On1Foot",R27="1F>1F")),"C1",IF(AND(E28="C",OR(R27="Run",R27="BRun")),"C2",2)))))))))) -> 2 | DM27: =IF(AND(N27="",OR(Q27<>"",R27<>"")),"X",IF(AND(LEFT(F27,4)="Acro",Q27<>"",OR(Q27=R27,DK27=DL27)),IF(R27="C-Roll","","X"),IF(OR(AND(E28="A",Q27="Catch",R27<>"Dbl"),AND(E28="A",R27="Catch",Q27<>"Dbl")),"X",""))) | DN27: =IF(E28="PA",J27,"") | DO27: 9 | DQ27: =IF(AND($E28="A",COUNTIF($DZ$19:$EA$68,DZ27)>1),DZ27,"") | DR27: =IF(AND($E28="A",COUNTIF($DZ$19:$EA$68,EA27)>1),EA27,"") | DS27: =IF(AND($E28="B",COUNTIF($J$19:$J$68,J27)>1),J27,"") | DT27: =IF(AND($E28="B",COUNTIF($K$19:$K$68,K27)>1),K27,"") | DU27: =IF(AND($E28="C",COUNTIF($J$19:$J$68,J27)>1),J27,"") | DV27: =IF(AND($E28="P",COUNTIF($J$19:$J$68,J27)>1),J27,"") | DW27: =IF(AND($E28="P",COUNTIF($K$19:$K$68,K27)>1),K27,"") | DX27: =IF(AND($E28="P",COUNTIF($DZ$19:$EA$68,DZ27)>1),DZ27,"") | DY27: =IF(AND($E28="P",COUNTIF($DZ$19:$EA$68,EA27)>1),EA27,"") | DZ27: =IFERROR(IF(OR(E28="A",E28="P"),M27,""),"") | EA27: =IFERROR(IF(OR(E28="A",E28="P"),RIGHT(N27,2),""),"") | EB27: =IF(Q27="","",IF(AND($E28="P",COUNTIF($Q$19:$R$68,Q27)>1),Q27,"")) | EC27: =IF(R27="","",IF(AND($E28="P",COUNTIF($Q$19:$R$68,R27)>1),R27,"")) | ED27: =IF(AND(EB27<>"",COUNTIF(TeamAcro_P_Bonus,EB27)>1),EB27,"") | EE27: =IF(AND(EC27<>"",COUNTIF(TeamAcro_P_Bonus,EC27)>1),EC27,"") | EF27: =IF(AND(OR($F$8="Open Team Acrobatic",$F$8="Open Team Technical"),LEFT(F27,4)="Acro"),E28,"") | EG27: =IF(EF27="","",IFERROR(IF($F$8="Open Team Acrobatic",IF(HLOOKUP(EF27,$DQ$12:$DT$13,2,FALSE)>2,"X",""),IF(HLOOKUP(EF27,$DQ$12:$DT$13,2,FALSE)>1,"X","")),"")) | EI27: =IF(OR(AND(F27="Hybrid - Thrust + 2 connections",EI28="T"),AND(E28="H",EI28<>"",EI81="X")),"X","") | EK27: =IFERROR(IF(AND($E28="H",J27<>"",J27<>"ChoHY"),IF(OR(LEFT(J27,1)="T",LEFT(J27,1)="S",LEFT(J27,1)="A",LEFT(J27,1)="F",LEFT(J27,1)="C"),LEFT(J27,1),"R"),EK$18),"") -> 1 | EL27: =IFERROR(IF(AND($E28="H",K27<>""),IF(OR(LEFT(K27,1)="T",LEFT(K27,1)="S",LEFT(K27,1)="A",LEFT(K27,1)="F",LEFT(K27,1)="C"),LEFT(K27,1),"R"),EL$18),"") -> 2 | EM27: =IFERROR(IF(AND($E28="H",L27<>""),IF(OR(LEFT(L27,1)="T",LEFT(L27,1)="S",LEFT(L27,1)="A",LEFT(L27,1)="F",LEFT(L27,1)="C"),LEFT(L27,1),"R"),EM$18),"") -> 3 | EN27: =IFERROR(IF(AND($E28="H",M27<>""),IF(OR(LEFT(M27,1)="T",LEFT(M27,1)="S",LEFT(M27,1)="A",LEFT(M27,1)="F",LEFT(M27,1)="C"),LEFT(M27,1),"R"),EN$18),"") -> 4 | EO27: =IFERROR(IF(AND($E28="H",N27<>""),IF(OR(LEFT(N27,1)="T",LEFT(N27,1)="S",LEFT(N27,1)="A",LEFT(N27,1)="F",LEFT(N27,1)="C"),LEFT(N27,1),"R"),EO$18),"") -> 5 | EP27: =IFERROR(IF(AND($E28="H",O27<>""),IF(OR(LEFT(O27,1)="T",LEFT(O27,1)="S",LEFT(O27,1)="A",LEFT(O27,1)="F",LEFT(O27,1)="C"),LEFT(O27,1),"R"),EP$18),"") -> 6 | EQ27: =IFERROR(IF(AND($E28="H",P27<>""),IF(OR(LEFT(P27,1)="T",LEFT(P27,1)="S",LEFT(P27,1)="A",LEFT(P27,1)="F",LEFT(P27,1)="C"),LEFT(P27,1),"R"),EQ$18),"") -> 7 | ER27: =IFERROR(IF(AND($E28="H",Q27<>""),IF(OR(LEFT(Q27,1)="T",LEFT(Q27,1)="S",LEFT(Q27,1)="A",LEFT(Q27,1)="F",LEFT(Q27,1)="C"),LEFT(Q27,1),"R"),ER$18),"") -> 8 | ES27: =IFERROR(IF(AND($E28="H",R27<>""),IF(OR(LEFT(R27,1)="T",LEFT(R27,1)="S",LEFT(R27,1)="A",LEFT(R27,1)="F",LEFT(R27,1)="C"),LEFT(R27,1),"R"),ES$18),"") -> 9 | ... FN27: =IFERROR(IF(AND($E28="H",AM27<>""),IF(OR(LEFT(AM27,1)="T",LEFT(AM27,1)="S",LEFT(AM27,1)="A",LEFT(AM27,1)="F",LEFT(AM27,1)="C"),LEFT(AM27,1),"R"),FN$18),"") -> 30 | GW27: =COUNTIF($EK27:$FN27,GW$18) -> 0 | GX27: =COUNTIF($EK27:$FN27,GX$18) -> 0 | GY27: =COUNTIF($EK27:$FN27,GY$18) -> 0 | GZ27: =COUNTIF($EK27:$FN27,GZ$18) -> 0 | HA27: =COUNTIF($EK27:$FN27,HA$18) -> 0 | HB27: =COUNTIF($EK27:$FN27,HB$18) -> 0 | HD27: =IF(AND($F27="Hybrid - Thrust + 2 connections",HD28=0,LEFT($J27,1)="C",LEFT($K27,1)="C",LEFT($L27,1)="C"),"X","") | HI27: =IF(E28=3,IF(_xlfn.NUMBERVALUE(LEFT(J27,1))>0,_xlfn.NUMBERVALUE(LEFT(J27,1)),""),"") | HK27: =IF(OR(E28="B",E28="P"),E28,"") | HL27: =IF(AND(J27<>"",HK27<>""),IF(HK27="B",MATCH(J27,AcroDD!$U$3:$AE$3,0),MATCH(J27,AcroDD!$U$30:$AC$30,0)),"") | HM27: =IF(AND(K27<>"",HK27<>""),K27,"") | HN27: =_xlfn.LET(_xlpm.lista,IF(HK27="B",INDEX(AcroDD!$T$4:$AE$23,0,HL27+1),INDEX(AcroDD!$T$31:$AC$50,0,HL27+1)),IF(AND(OR(HK27="B",HK27="P"),HL27<>"",HM27<>""),IF(ISNUMBER(MATCH(HM27,_xlpm.lista,0)),"OK","X"),""))
E28: =IF(F27="Acrobatic - Pair","PA",IF(F27="Acrobatic Airborn","A",IF(F27="Acrobatic Balance","B",IF(F27="Acrobatic Combined","C",IF(F27="Acrobatic Platform","P",IF(F27="Technical Required Element",3,IF(LEFT(F27,4)="Hybr","H",""))))))) | F28: =IF(AND(F27="Hybrid - Thrust + 2 connections",CR27="X"),"Hybrid - Thrust",IF(OR(E28="A",E28="B",E28="C",E28="P"),"Acrobatic","")) | H28: =IF(E28="PA",IF(OR(LEFT(J27,1)="L",LEFT(J27,1)="S"),"A-Pair-Lift",IF(OR(LEFT(J27,1)="W",LEFT(J27,1)="T"),"A-Pair-Throw",IF(LEFT(J27,1)="J","A-Pair-Jump","A-Pair"))),IF(OR(E28="A",E28="B",E28="C",E28="P"),CONCATENATE("Acro-",E28),"")) | I28: =IF(OR(F27="Hybrid - Choreography (DD = 1)",LEFT(F27,5)="Trans"),0,INDEX($BY$3:$BY$9,MATCH(E28,$BX$3:$BX$9,0))) -> #N/A | J28: =IFERROR(IF($H27="No DD",IF(J27="ChoHY",1,0),IF(OR(ISBLANK(J27),J27="N/A"),0,INDEX(INDIRECT(BI28),MATCH(J27,INDIRECT(BI27),0)))),0) -> 0 | K28: =IFERROR(IF($H27="No DD",0,IF(OR(ISBLANK(K27),K27="N/A"),0,INDEX(INDIRECT(BJ28),MATCH(K27,INDIRECT(BJ27),0)))),0) -> 0 | L28: =IFERROR(IF($H27="No DD",0,IF(OR(ISBLANK(L27),L27="N/A"),0,INDEX(INDIRECT(BK28),MATCH(L27,INDIRECT(BK27),0)))),0) -> 0 | M28: =IFERROR(IF($H27="No DD",0,IF(OR(ISBLANK(M27),M27="N/A"),0,INDEX(INDIRECT(BL28),MATCH(M27,INDIRECT(BL27),0)))),0) -> 0 | N28: =IFERROR(IF($H27="No DD",0,IF(OR(ISBLANK(N27),N27="N/A"),0,INDEX(INDIRECT(BM28),MATCH(N27,INDIRECT(BM27),0)))),0) -> 0 | O28: =IFERROR(IF($H27="No DD",0,IF(OR(ISBLANK(O27),O27="N/A"),0,INDEX(INDIRECT(BN28),MATCH(O27,INDIRECT(BN27),0)))),0) -> 0 | P28: =IFERROR(IF($H27="No DD",0,IF(OR(ISBLANK(P27),P27="N/A"),0,INDEX(INDIRECT(BO28),MATCH(P27,INDIRECT(BO27),0)))),0) -> 0 | Q28: =IFERROR(IF($H27="No DD",0,IF(OR(ISBLANK(Q27),Q27="N/A"),0,INDEX(INDIRECT(BP28),MATCH(Q27,INDIRECT(BP27),0)))),0) -> 0 | R28: =IFERROR(IF($H27="No DD",0,IF(OR(ISBLANK(R27),R27="N/A"),0,INDEX(INDIRECT(BQ28),MATCH(R27,INDIRECT(BQ27),0)))),0) -> 0 | ... AM28: =IFERROR(IF($H27="No DD",0,IF(OR(ISBLANK(AM27),AM27="N/A"),0,INDEX(INDIRECT(CL28),MATCH(AM27,INDIRECT(CL27),0)))),0) -> 0 | AN28: =IFERROR(IF(E28="H",INDEX(HybridBonus_Value,MATCH(AN27,HybridBonus_Code,0)),""),"") | AO28: =IFERROR(SUM(I28:AN28),"") | BI28: =IF($E28="H",IF($F27="Hybrid - Thrust + 2 connections","Hybrid_Mix_Req_Value","HybridDD_Value"),IF($E28=3,"TreDD_Value",IF($E28="PA","AcroPair_Value",IF(LEFT($F27,4)="Acro",CONCATENATE(BI$16,$E28,"_Value"),"")))) | BJ28: =IF($E28="H",IF($F27="Hybrid - Thrust + 2 connections","Hybrid_Mix_Req_Value","HybridDD_Value"),IF($E28=3,"TreDD_Value",IF($E28="PA","AcroPair_Value",IF(LEFT($F27,4)="Acro",CONCATENATE(BJ$16,$E28,"_Value"),"")))) | BK28: =IF($E28="H",IF($F27="Hybrid - Thrust + 2 connections","Hybrid_Mix_Req_Value","HybridDD_Value"),IF($E28=3,"TreDD_Value",IF($E28="PA","AcroPair_Value",IF(LEFT($F27,4)="Acro",CONCATENATE(BK$16,$E28,"_Value"),"")))) | BL28: =IF($E28="H",IF($F27="Hybrid - Thrust + 2 connections","Hybrid_Mix_Req_Value","HybridDD_Value"),IF($E28=3,"TreDD_Value",IF($E28="PA","AcroPair_Value",IF(LEFT($F27,4)="Acro",CONCATENATE(BL$16,$E28,"_Value"),"")))) | BM28: =IF($E28="H",IF($F27="Hybrid - Thrust + 2 connections","Hybrid_Mix_Req_Value","HybridDD_Value"),IF($E28=3,"TreDD_Value",IF($E28="PA","AcroPair_Value",IF(LEFT($F27,4)="Acro",CONCATENATE(BM$16,$E28,"_Value"),"")))) | BN28: =IF($E28="H",IF($F27="Hybrid - Thrust + 2 connections","Hybrid_Mix_Req_Value","HybridDD_Value"),IF($E28=3,"TreDD_Value",IF($E28="PA","AcroPair_Value",IF(LEFT($F27,4)="Acro",CONCATENATE(BN$16,$E28,"_Value"),"")))) | BO28: =IF($E28="H",IF($F27="Hybrid - Thrust + 2 connections","Hybrid_Mix_Req_Value","HybridDD_Value"),IF($E28=3,"TreDD_Value",IF($E28="PA","AcroPair_Value",IF(LEFT($F27,4)="Acro",CONCATENATE(BO$16,$E28,"_Value"),"")))) | BP28: =IF($E28="H",IF($F27="Hybrid - Thrust + 2 connections","Hybrid_Mix_Req_Value","HybridDD_Value"),IF($E28=3,"TreDD_Value",IF($E28="PA","AcroPair_Value",IF(LEFT($F27,4)="Acro",CONCATENATE(BP$16,$E28,"_Value"),"")))) | BQ28: =IF($E28="H",IF($F27="Hybrid - Thrust + 2 connections","Hybrid_Mix_Req_Value","HybridDD_Value"),IF($E28=3,"TreDD_Value",IF($E28="PA","AcroPair_Value",IF(LEFT($F27,4)="Acro",CONCATENATE(BQ$16,$E28,"_Value"),"")))) | BR28: =IF($E28="H",IF($F27="Hybrid - Thrust + 2 connections","Data!$BI$1:$BI$5","HybridDD_Value"),"Data!$BI$1:$BI$5") -> Data!$BI$1:$BI$5 | BS28: =IF($E28="H",IF($F27="Hybrid - Thrust + 2 connections","Data!$BI$1:$BI$5","HybridDD_Value"),"Data!$BI$1:$BI$5") -> Data!$BI$1:$BI$5 | BT28: =IF($E28="H",IF($F27="Hybrid - Thrust + 2 connections","Data!$BI$1:$BI$5","HybridDD_Value"),"Data!$BI$1:$BI$5") -> Data!$BI$1:$BI$5 | BU28: =IF($E28="H",IF($F27="Hybrid - Thrust + 2 connections","Data!$BI$1:$BI$5","HybridDD_Value"),"Data!$BI$1:$BI$5") -> Data!$BI$1:$BI$5 | BV28: =IF($E28="H",IF($F27="Hybrid - Thrust + 2 connections","Data!$BI$1:$BI$5","HybridDD_Value"),"Data!$BI$1:$BI$5") -> Data!$BI$1:$BI$5 | BW28: =IF($E28="H",IF($F27="Hybrid - Thrust + 2 connections","Data!$BI$1:$BI$5","HybridDD_Value"),"Data!$BI$1:$BI$5") -> Data!$BI$1:$BI$5 | BX28: =IF($E28="H",IF($F27="Hybrid - Thrust + 2 connections","Data!$BI$1:$BI$5","HybridDD_Value"),"Data!$BI$1:$BI$5") -> Data!$BI$1:$BI$5 | BY28: =IF($E28="H",IF($F27="Hybrid - Thrust + 2 connections","Data!$BI$1:$BI$5","HybridDD_Value"),"Data!$BI$1:$BI$5") -> Data!$BI$1:$BI$5 | ... CL28: =IF($E28="H",IF($F27="Hybrid - Thrust + 2 connections","Data!$BI$1:$BI$5","HybridDD_Value"),"Data!$BI$1:$BI$5") -> Data!$BI$1:$BI$5 | CO28: =IFERROR(IF(AND($BV$6="T",$BV$8="T",LEFT(F27,4)="Acro",AO28>3),"X",IF($N$7="X",IF(AND(E28="C",AO28>$CN$6),"X",IF(AND(E28="A",AO28>$CN$4),"X",IF(AND(E28="B",AO28>$CN$5),"X",IF(AND(E28="P",AO28>$CN$7),"X","")))),"")),"") | DD28: =IF(OR($E29="A",$E29="B",$E29="C",$E29="P"),"Z","") | DE28: =IF(OR($E29="B",$E29="P"),"Z","") | DF28: =IF(OR($E29="A",$E29="C"),"Z","") | DG28: =IF(OR($E29="A",$E29="B",$E29="C",$E29="P"),"Z","") | DO28: 10 | ED28: =IF(AND(EB28<>"",COUNTIF(TeamAcro_P_Bonus,EB28)>1),EB28,"") | EE28: =IF(AND(EC28<>"",COUNTIF(TeamAcro_P_Bonus,EC28)>1),EC28,"") | EI28: {=IFERROR(INDEX(EK28:FN28,MATCH(TRUE,INDEX((EK28:FN28<>""),),0)),"")} | EK28: =IF(F27="Hybrid - Thrust + 2 connections",IF(COUNTIF($EK27:$FN27,EK27)>1,EK27,""),IF(COUNTIF($EK27:$FN27,EK27)>5,EK27,"")) | EL28: =IF(G27="Hybrid - Thrust + 2 connections",IF(COUNTIF($EK27:$FN27,EL27)>1,EL27,""),IF(COUNTIF($EK27:$FN27,EL27)>5,EL27,"")) | EM28: =IF(H27="Hybrid - Thrust + 2 connections",IF(COUNTIF($EK27:$FN27,EM27)>1,EM27,""),IF(COUNTIF($EK27:$FN27,EM27)>5,EM27,"")) | EN28: =IF(I27="Hybrid - Thrust + 2 connections",IF(COUNTIF($EK27:$FN27,EN27)>1,EN27,""),IF(COUNTIF($EK27:$FN27,EN27)>5,EN27,"")) | EO28: =IF(J27="Hybrid - Thrust + 2 connections",IF(COUNTIF($EK27:$FN27,EO27)>1,EO27,""),IF(COUNTIF($EK27:$FN27,EO27)>5,EO27,"")) | EP28: =IF(K27="Hybrid - Thrust + 2 connections",IF(COUNTIF($EK27:$FN27,EP27)>1,EP27,""),IF(COUNTIF($EK27:$FN27,EP27)>5,EP27,"")) | EQ28: =IF(L27="Hybrid - Thrust + 2 connections",IF(COUNTIF($EK27:$FN27,EQ27)>1,EQ27,""),IF(COUNTIF($EK27:$FN27,EQ27)>5,EQ27,"")) | ER28: =IF(M27="Hybrid - Thrust + 2 connections",IF(COUNTIF($EK27:$FN27,ER27)>1,ER27,""),IF(COUNTIF($EK27:$FN27,ER27)>5,ER27,"")) | ... FN28: =IF(AI27="Hybrid - Thrust + 2 connections",IF(COUNTIF($EK27:$FN27,FN27)>1,FN27,""),IF(COUNTIF($EK27:$FN27,FN27)>5,FN27,"")) | FO28: =FO26+5 -> 20 | FP28: {=IF(FQ28<>"",LEFT(FQ28,FIND("*",FQ28)-1),INDEX($FP$75:$FP$172,FO28+1))} | FQ28: {=INDEX($FQ$75:$FQ$172,FO28+1)} | HD28: =IF($F27="Hybrid - Thrust + 2 connections",COUNTBLANK(J27:L27),"")
A29: =IF(AND(E27="",A27<>""),IF(CP27=$CP$18,"",IF(C27<>"",IF(D27=59,MINUTE(CP27)+1,MINUTE(CP27)),"")),"") | B29: =IF(AND(E27="",B27<>""),IF(CP27=$CP$18,"",IF(C27<>"",IF(D27=59,0,SECOND(CP27)+1),"")),"") | G29: =IF(F29<>"",IF(OR(F29="Transition",F29="Transition - Surface Connection"),0,MAX($G$19:G28)+1),"") | H29: =IFERROR(IF(E30="3","",IF(OR(F29="Hybrid - Choreography (DD = 1)",LEFT(F29,5)="Trans"),"No DD",CONCATENATE("BM = ",I30))),"") | AW29: =E30 | AX29: =IF(AY29=0,"",TIME(0,A29,B29)) | AY29: =TIME(0,C29,D29) -> 0 | AZ29: =IFERROR(AY29-AX29,"") | BA29: =IF($AX$17=0,"",IF(AND($C$10<>"",AW29="H",AZ29>$AX$17),"X","")) | BG29: =IFERROR(IF(F29<>"",INDEX(Parts_Active,MATCH(F29,Parts_Active,0)),""),"No") | BI29: =IF($E30="H",IF($F29="Hybrid - Thrust + 2 connections","Hybrid_Mix_Req",IF($F29="Hybrid - Choreography (DD = 1)","Hybrid_ChoHY","HybridDD_Code")),IF($E30=3,"TreDD_Code",IF($E30="PA","AcroPair_Code",IF(LEFT($F29,4)="Acro",CONCATENATE(BI$16,$E30,"_Code"),"Data!$BI$1:$BI$5")))) -> Data!$BI$1:$BI$5 | BJ29: =IF($E30="H",IF($F29="Hybrid - Thrust + 2 connections","Hybrid_Mix_Req",IF($F29="Hybrid - min 4 swimmers (no DD)","Data!$BI$1:$BI$5","HybridDD_Code")),IF($E30=3,"TreDD_Code",IF($E30="PA","AcroPair_Code",IF(LEFT($F29,4)="Acro",CONCATENATE(BJ$16,$E30,"_Code"),"Data!$BI$1:$BI$5")))) -> Data!$BI$1:$BI$5 | BK29: =IF($E30="H",IF($F29="Hybrid - Thrust + 2 connections","Hybrid_Mix_Req",IF($F29="Hybrid - min 4 swimmers (no DD)","Data!$BI$1:$BI$5","HybridDD_Code")),IF($E30=3,"TreDD_Code",IF($E30="PA","AcroPair_Code",IF(LEFT($F29,4)="Acro",CONCATENATE(BK$16,$E30,"_Code"),"Data!$BI$1:$BI$5")))) -> Data!$BI$1:$BI$5 | BL29: =IF($E30="H",IF($F29="Hybrid - Thrust + 2 connections","Hybrid_Mix_Req",IF($F29="Hybrid - min 4 swimmers (no DD)","Data!$BI$1:$BI$5","HybridDD_Code")),IF($E30=3,"TreDD_Code",IF($E30="PA","AcroPair_Code",IF(LEFT($F29,4)="Acro",CONCATENATE(BL$16,$E30,"_Code"),"Data!$BI$1:$BI$5")))) -> Data!$BI$1:$BI$5 | BM29: =IF($E30="H",IF($F29="Hybrid - Thrust + 2 connections","Hybrid_Mix_Req",IF($F29="Hybrid - min 4 swimmers (no DD)","Data!$BI$1:$BI$5","HybridDD_Code")),IF($E30=3,"TreDD_Code",IF($E30="PA","AcroPair_Code",IF(LEFT($F29,4)="Acro",CONCATENATE(BM$16,$E30,"_Code"),"Data!$BI$1:$BI$5")))) -> Data!$BI$1:$BI$5 | BN29: =IF($E30="H",IF($F29="Hybrid - Thrust + 2 connections","Hybrid_Mix_Req",IF($F29="Hybrid - min 4 swimmers (no DD)","Data!$BI$1:$BI$5","HybridDD_Code")),IF($E30=3,"TreDD_Code",IF($E30="PA","AcroPair_Code",IF(LEFT($F29,4)="Acro",CONCATENATE(BN$16,$E30,"_Code"),"Data!$BI$1:$BI$5")))) -> Data!$BI$1:$BI$5 | BO29: =IF($E30="H",IF($F29="Hybrid - Thrust + 2 connections","Hybrid_Mix_Req",IF($F29="Hybrid - min 4 swimmers (no DD)","Data!$BI$1:$BI$5","HybridDD_Code")),IF($E30=3,"TreDD_Code",IF($E30="PA","AcroPair_Code",IF(LEFT($F29,4)="Acro",CONCATENATE(BO$16,$E30,"_Code"),"Data!$BI$1:$BI$5")))) -> Data!$BI$1:$BI$5 | BP29: =IF($E30="H",IF($F29="Hybrid - Thrust + 2 connections","Hybrid_Mix_Req",IF($F29="Hybrid - min 4 swimmers (no DD)","Data!$BI$1:$BI$5","HybridDD_Code")),IF($E30=3,"TreDD_Code",IF($E30="PA","AcroPair_Code",IF(LEFT($F29,4)="Acro",CONCATENATE(BP$16,$E30,"_Code"),"Data!$BI$1:$BI$5")))) -> Data!$BI$1:$BI$5 | BQ29: =IF($E30="H",IF($F29="Hybrid - Thrust + 2 connections","Hybrid_Mix_Req",IF($F29="Hybrid - min 4 swimmers (no DD)","Data!$BI$1:$BI$5","HybridDD_Code")),IF($E30=3,"TreDD_Code",IF($E30="PA","AcroPair_Code",IF(LEFT($F29,4)="Acro",CONCATENATE(BQ$16,$E30,"_Code"),"Data!$BI$1:$BI$5")))) -> Data!$BI$1:$BI$5 | BR29: =IF($E30="H",IF($F29="Hybrid - Thrust + 2 connections","Data!$BI$1:$BI$5","HybridDD_Code"),"Data!$BI$1:$BI$5") -> Data!$BI$1:$BI$5 | BS29: =$BR29 -> Data!$BI$1:$BI$5 | BT29: =$BR29 -> Data!$BI$1:$BI$5 | BU29: =$BR29 -> Data!$BI$1:$BI$5 | BV29: =$BR29 -> Data!$BI$1:$BI$5 | BW29: =$BR29 -> Data!$BI$1:$BI$5 | BX29: =$BR29 -> Data!$BI$1:$BI$5 | BY29: =$BR29 -> Data!$BI$1:$BI$5 | BZ29: =$BR29 -> Data!$BI$1:$BI$5 | ... CL29: =$BR29 -> Data!$BI$1:$BI$5 | CO29: =IFERROR(TIME(0,A29,B29),"") | CP29: =IFERROR(TIME(0,C29,D29),"") -> 0 | CQ29: =IF(CP29>$D$12,"X","") | CR29: =IF(AND(F29="Hybrid - Thrust + 2 connections",OR(LEFT(J29,1)="T",LEFT(K29,1)="T",LEFT(L29,1)="T",LEFT(PB29,1)="T",LEFT(M29,1)="T",LEFT(N29,1)="T",LEFT(O29,1)="T",LEFT(P29,1)="T",LEFT(Q29,1)="T",LEFT(R29,1)="T",LEFT(S29,1)="T",LEFT(T29,1)="T",LEFT(U29,1)="T",LEFT(V29,1)="T",LEFT(W29,1)="T",LEFT(X29,1)="T",LEFT(AK29,1)="T",LEFT(AL29,1)="T",LEFT(AM29,1)="T")),IF(OR(LEN(J29)=2,LEN(K29)=2,LEN(L29)=2,LEN(M29)=2,LEN(N29)=2,LEN(O29)=2,LEN(P29)=2,LEN(Q29)=2,LEN(R29)=2,LEN(S29)=2,LEN(T29)=2,LEN(U29)=2,LEN(V29)=2,LEN(W29)=2,LEN(X29)=2,LEN(Y29)=2,LEN(Z29)=2,LEN(AK29)=2,LEN(AL29)=2,LEN(AM29)=2),"X",""),"") | CT29: =IF(LEFT(F29,4)="Acro",IF(AND(N29<>"",M29=RIGHT(N29,2)),"X","OK"),"") | CU29: =IFERROR(IF(AND(LEFT($F29,4)="Acro",INDEX(Requ_App,MATCH(BI29,Requ_Code,0))="No"),"X",""),"") | CV29: =IFERROR(IF(AND(LEFT($F29,4)="Acro",INDEX(Requ_App,MATCH(BJ29,Requ_Code,0))="No"),"X",""),"") | CW29: =IFERROR(IF(AND(LEFT($F29,4)="Acro",INDEX(Requ_App,MATCH(BK29,Requ_Code,0))="No"),"X",""),"") | CX29: =IFERROR(IF(AND(LEFT($F29,4)="Acro",INDEX(Requ_App,MATCH(BL29,Requ_Code,0))="No"),"X",""),"") | CY29: =IFERROR(IF(AND(LEFT($F29,4)="Acro",INDEX(Requ_App,MATCH(BM29,Requ_Code,0))="No"),"X",""),"") | CZ29: =IFERROR(IF(AND(LEFT($F29,4)="Acro",INDEX(Requ_App,MATCH(BN29,Requ_Code,0))="No"),"X",""),"") | DA29: =IFERROR(IF(AND(LEFT($F29,4)="Acro",INDEX(Requ_App,MATCH(BO29,Requ_Code,0))="No"),"X",""),"") | DB29: =IFERROR(IF(AND(LEFT($F29,4)="Acro",INDEX(Requ_App,MATCH(BP29,Requ_Code,0))="No"),"X",""),"") | DC29: =IFERROR(IF(AND(LEFT($F29,4)="Acro",INDEX(Requ_App,MATCH(BP29,Requ_Code,0))="No"),"X",""),"") | DD29: =IF(OR($E30="A",$E30="B",$E30="C",$E30="P"),"Z","") | DE29: =IF(OR($E30="B",$E30="P"),"Z","") | DF29: =IF(OR($E30="A",$E30="C"),"Z","") | DG29: =IF(OR($E30="A",$E30="B",$E30="C",$E30="P"),"Z","") | DK29: =IF(AND(E30="A",OR(Q29="Grip",Q29="Conn",Q29="Catch")),"A1",IF(AND(E30="A",OR(Q29="Hula",Q29="RetSq",Q29="RetPa")),"A2",IF(AND(E30="B",OR(Q29="Twirl",Q29="RotF")),"B1",IF(AND(E30="B",OR(Q29="Moon",Q29="Mov",Q29="Hold")),"B2",IF(AND(E30="P",OR(Q29="Porp",Q29="Splch")),"P1",IF(AND(E30="P",OR(Q29="Diva",Q29="Stand")),"P2",IF(AND(E30="P",OR(Q29="Spider",Q29="Climb")),"P3",IF(AND(E30="P",OR(Q29="Fall",Q29="FTurn")),"P4",IF(AND(E30="C",OR(Q29="Jump",Q29="Jump>",Q29="On1Foot",Q29="1F>1F")),"C1",IF(AND(E30="C",OR(Q29="Run",Q29="BRun")),"C2",1)))))))))) -> 1 | DL29: =IF(AND(E30="A",OR(R29="Grip",R29="Conn",R29="Catch")),"A1",IF(AND(E30="A",OR(R29="Hula",R29="RetSq",R29="RetPa")),"A2",IF(AND(E30="B",OR(R29="Twirl",R29="RotF")),"B1",IF(AND(E30="B",OR(R29="Moon",R29="Mov",R29="Hold")),"B2",IF(AND(E30="P",OR(R29="Porp",R29="Spich")),"P1",IF(AND(E30="P",OR(R29="Diva",R29="Stand")),"P2",IF(AND(E30="P",OR(R29="Spider",R29="Climb")),"P3",IF(AND(E30="P",OR(R29="Fall",R29="FTurn")),"P4",IF(AND(E30="C",OR(R29="Jump",R29="Jump>",R29="On1Foot",R29="1F>1F")),"C1",IF(AND(E30="C",OR(R29="Run",R29="BRun")),"C2",2)))))))))) -> 2 | DM29: =IF(AND(N29="",OR(Q29<>"",R29<>"")),"X",IF(AND(LEFT(F29,4)="Acro",Q29<>"",OR(Q29=R29,DK29=DL29)),IF(R29="C-Roll","","X"),IF(OR(AND(E30="A",Q29="Catch",R29<>"Dbl"),AND(E30="A",R29="Catch",Q29<>"Dbl")),"X",""))) | DN29: =IF(E30="PA",J29,"") | DO29: 11 | DQ29: =IF(AND($E30="A",COUNTIF($DZ$19:$EA$68,DZ29)>1),DZ29,"") | DR29: =IF(AND($E30="A",COUNTIF($DZ$19:$EA$68,EA29)>1),EA29,"") | DS29: =IF(AND($E30="B",COUNTIF($J$19:$J$68,J29)>1),J29,"") | DT29: =IF(AND($E30="B",COUNTIF($K$19:$K$68,K29)>1),K29,"") | DU29: =IF(AND($E30="C",COUNTIF($J$19:$J$68,J29)>1),J29,"") | DV29: =IF(AND($E30="P",COUNTIF($J$19:$J$68,J29)>1),J29,"") | DW29: =IF(AND($E30="P",COUNTIF($K$19:$K$68,K29)>1),K29,"") | DX29: =IF(AND($E30="P",COUNTIF($DZ$19:$EA$68,DZ29)>1),DZ29,"") | DY29: =IF(AND($E30="P",COUNTIF($DZ$19:$EA$68,EA29)>1),EA29,"") | DZ29: =IFERROR(IF(OR(E30="A",E30="P"),M29,""),"") | EA29: =IFERROR(IF(OR(E30="A",E30="P"),RIGHT(N29,2),""),"") | EB29: =IF(Q29="","",IF(AND($E30="P",COUNTIF($Q$19:$R$68,Q29)>1),Q29,"")) | EC29: =IF(R29="","",IF(AND($E30="P",COUNTIF($Q$19:$R$68,R29)>1),R29,"")) | ED29: =IF(AND(EB29<>"",COUNTIF(TeamAcro_P_Bonus,EB29)>1),EB29,"") | EE29: =IF(AND(EC29<>"",COUNTIF(TeamAcro_P_Bonus,EC29)>1),EC29,"") | EF29: =IF(AND(OR($F$8="Open Team Acrobatic",$F$8="Open Team Technical"),LEFT(F29,4)="Acro"),E30,"") | EG29: =IF(EF29="","",IFERROR(IF($F$8="Open Team Acrobatic",IF(HLOOKUP(EF29,$DQ$12:$DT$13,2,FALSE)>2,"X",""),IF(HLOOKUP(EF29,$DQ$12:$DT$13,2,FALSE)>1,"X","")),"")) | EI29: =IF(OR(AND(F29="Hybrid - Thrust + 2 connections",EI30="T"),AND(E30="H",EI30<>"",EI83="X")),"X","") | EK29: =IFERROR(IF(AND($E30="H",J29<>"",J29<>"ChoHY"),IF(OR(LEFT(J29,1)="T",LEFT(J29,1)="S",LEFT(J29,1)="A",LEFT(J29,1)="F",LEFT(J29,1)="C"),LEFT(J29,1),"R"),EK$18),"") -> 1 | EL29: =IFERROR(IF(AND($E30="H",K29<>""),IF(OR(LEFT(K29,1)="T",LEFT(K29,1)="S",LEFT(K29,1)="A",LEFT(K29,1)="F",LEFT(K29,1)="C"),LEFT(K29,1),"R"),EL$18),"") -> 2 | EM29: =IFERROR(IF(AND($E30="H",L29<>""),IF(OR(LEFT(L29,1)="T",LEFT(L29,1)="S",LEFT(L29,1)="A",LEFT(L29,1)="F",LEFT(L29,1)="C"),LEFT(L29,1),"R"),EM$18),"") -> 3 | EN29: =IFERROR(IF(AND($E30="H",M29<>""),IF(OR(LEFT(M29,1)="T",LEFT(M29,1)="S",LEFT(M29,1)="A",LEFT(M29,1)="F",LEFT(M29,1)="C"),LEFT(M29,1),"R"),EN$18),"") -> 4 | EO29: =IFERROR(IF(AND($E30="H",N29<>""),IF(OR(LEFT(N29,1)="T",LEFT(N29,1)="S",LEFT(N29,1)="A",LEFT(N29,1)="F",LEFT(N29,1)="C"),LEFT(N29,1),"R"),EO$18),"") -> 5 | EP29: =IFERROR(IF(AND($E30="H",O29<>""),IF(OR(LEFT(O29,1)="T",LEFT(O29,1)="S",LEFT(O29,1)="A",LEFT(O29,1)="F",LEFT(O29,1)="C"),LEFT(O29,1),"R"),EP$18),"") -> 6 | EQ29: =IFERROR(IF(AND($E30="H",P29<>""),IF(OR(LEFT(P29,1)="T",LEFT(P29,1)="S",LEFT(P29,1)="A",LEFT(P29,1)="F",LEFT(P29,1)="C"),LEFT(P29,1),"R"),EQ$18),"") -> 7 | ER29: =IFERROR(IF(AND($E30="H",Q29<>""),IF(OR(LEFT(Q29,1)="T",LEFT(Q29,1)="S",LEFT(Q29,1)="A",LEFT(Q29,1)="F",LEFT(Q29,1)="C"),LEFT(Q29,1),"R"),ER$18),"") -> 8 | ES29: =IFERROR(IF(AND($E30="H",R29<>""),IF(OR(LEFT(R29,1)="T",LEFT(R29,1)="S",LEFT(R29,1)="A",LEFT(R29,1)="F",LEFT(R29,1)="C"),LEFT(R29,1),"R"),ES$18),"") -> 9 | ... FN29: =IFERROR(IF(AND($E30="H",AM29<>""),IF(OR(LEFT(AM29,1)="T",LEFT(AM29,1)="S",LEFT(AM29,1)="A",LEFT(AM29,1)="F",LEFT(AM29,1)="C"),LEFT(AM29,1),"R"),FN$18),"") -> 30 | GW29: =COUNTIF($EK29:$FN29,GW$18) -> 0 | GX29: =COUNTIF($EK29:$FN29,GX$18) -> 0 | GY29: =COUNTIF($EK29:$FN29,GY$18) -> 0 | GZ29: =COUNTIF($EK29:$FN29,GZ$18) -> 0 | HA29: =COUNTIF($EK29:$FN29,HA$18) -> 0 | HB29: =COUNTIF($EK29:$FN29,HB$18) -> 0 | HD29: =IF(AND($F29="Hybrid - Thrust + 2 connections",HD30=0,LEFT($J29,1)="C",LEFT($K29,1)="C",LEFT($L29,1)="C"),"X","") | HI29: =IF(E30=3,IF(_xlfn.NUMBERVALUE(LEFT(J29,1))>0,_xlfn.NUMBERVALUE(LEFT(J29,1)),""),"") | HK29: =IF(OR(E30="B",E30="P"),E30,"") | HL29: =IF(AND(J29<>"",HK29<>""),IF(HK29="B",MATCH(J29,AcroDD!$U$3:$AE$3,0),MATCH(J29,AcroDD!$U$30:$AC$30,0)),"") | HM29: =IF(AND(K29<>"",HK29<>""),K29,"") | HN29: =_xlfn.LET(_xlpm.lista,IF(HK29="B",INDEX(AcroDD!$T$4:$AE$23,0,HL29+1),INDEX(AcroDD!$T$31:$AC$50,0,HL29+1)),IF(AND(OR(HK29="B",HK29="P"),HL29<>"",HM29<>""),IF(ISNUMBER(MATCH(HM29,_xlpm.lista,0)),"OK","X"),""))
E30: =IF(F29="Acrobatic - Pair","PA",IF(F29="Acrobatic Airborn","A",IF(F29="Acrobatic Balance","B",IF(F29="Acrobatic Combined","C",IF(F29="Acrobatic Platform","P",IF(F29="Technical Required Element",3,IF(LEFT(F29,4)="Hybr","H",""))))))) | F30: =IF(AND(F29="Hybrid - Thrust + 2 connections",CR29="X"),"Hybrid - Thrust",IF(OR(E30="A",E30="B",E30="C",E30="P"),"Acrobatic","")) | H30: =IF(E30="PA",IF(OR(LEFT(J29,1)="L",LEFT(J29,1)="S"),"A-Pair-Lift",IF(OR(LEFT(J29,1)="W",LEFT(J29,1)="T"),"A-Pair-Throw",IF(LEFT(J29,1)="J","A-Pair-Jump","A-Pair"))),IF(OR(E30="A",E30="B",E30="C",E30="P"),CONCATENATE("Acro-",E30),"")) | I30: =IF(OR(F29="Hybrid - Choreography (DD = 1)",LEFT(F29,5)="Trans"),0,INDEX($BY$3:$BY$9,MATCH(E30,$BX$3:$BX$9,0))) -> #N/A | J30: =IFERROR(IF($H29="No DD",IF(J29="ChoHY",1,0),IF(OR(ISBLANK(J29),J29="N/A"),0,INDEX(INDIRECT(BI30),MATCH(J29,INDIRECT(BI29),0)))),0) -> 0 | K30: =IFERROR(IF($H29="No DD",0,IF(OR(ISBLANK(K29),K29="N/A"),0,INDEX(INDIRECT(BJ30),MATCH(K29,INDIRECT(BJ29),0)))),0) -> 0 | L30: =IFERROR(IF($H29="No DD",0,IF(OR(ISBLANK(L29),L29="N/A"),0,INDEX(INDIRECT(BK30),MATCH(L29,INDIRECT(BK29),0)))),0) -> 0 | M30: =IFERROR(IF($H29="No DD",0,IF(OR(ISBLANK(M29),M29="N/A"),0,INDEX(INDIRECT(BL30),MATCH(M29,INDIRECT(BL29),0)))),0) -> 0 | N30: =IFERROR(IF($H29="No DD",0,IF(OR(ISBLANK(N29),N29="N/A"),0,INDEX(INDIRECT(BM30),MATCH(N29,INDIRECT(BM29),0)))),0) -> 0 | O30: =IFERROR(IF($H29="No DD",0,IF(OR(ISBLANK(O29),O29="N/A"),0,INDEX(INDIRECT(BN30),MATCH(O29,INDIRECT(BN29),0)))),0) -> 0 | P30: =IFERROR(IF($H29="No DD",0,IF(OR(ISBLANK(P29),P29="N/A"),0,INDEX(INDIRECT(BO30),MATCH(P29,INDIRECT(BO29),0)))),0) -> 0 | Q30: =IFERROR(IF($H29="No DD",0,IF(OR(ISBLANK(Q29),Q29="N/A"),0,INDEX(INDIRECT(BP30),MATCH(Q29,INDIRECT(BP29),0)))),0) -> 0 | R30: =IFERROR(IF($H29="No DD",0,IF(OR(ISBLANK(R29),R29="N/A"),0,INDEX(INDIRECT(BQ30),MATCH(R29,INDIRECT(BQ29),0)))),0) -> 0 | ... AM30: =IFERROR(IF($H29="No DD",0,IF(OR(ISBLANK(AM29),AM29="N/A"),0,INDEX(INDIRECT(CL30),MATCH(AM29,INDIRECT(CL29),0)))),0) -> 0 | AN30: =IFERROR(IF(E30="H",INDEX(HybridBonus_Value,MATCH(AN29,HybridBonus_Code,0)),""),"") | AO30: =IFERROR(SUM(I30:AN30),"") | BI30: =IF($E30="H",IF($F29="Hybrid - Thrust + 2 connections","Hybrid_Mix_Req_Value","HybridDD_Value"),IF($E30=3,"TreDD_Value",IF($E30="PA","AcroPair_Value",IF(LEFT($F29,4)="Acro",CONCATENATE(BI$16,$E30,"_Value"),"")))) | BJ30: =IF($E30="H",IF($F29="Hybrid - Thrust + 2 connections","Hybrid_Mix_Req_Value","HybridDD_Value"),IF($E30=3,"TreDD_Value",IF($E30="PA","AcroPair_Value",IF(LEFT($F29,4)="Acro",CONCATENATE(BJ$16,$E30,"_Value"),"")))) | BK30: =IF($E30="H",IF($F29="Hybrid - Thrust + 2 connections","Hybrid_Mix_Req_Value","HybridDD_Value"),IF($E30=3,"TreDD_Value",IF($E30="PA","AcroPair_Value",IF(LEFT($F29,4)="Acro",CONCATENATE(BK$16,$E30,"_Value"),"")))) | BL30: =IF($E30="H",IF($F29="Hybrid - Thrust + 2 connections","Hybrid_Mix_Req_Value","HybridDD_Value"),IF($E30=3,"TreDD_Value",IF($E30="PA","AcroPair_Value",IF(LEFT($F29,4)="Acro",CONCATENATE(BL$16,$E30,"_Value"),"")))) | BM30: =IF($E30="H",IF($F29="Hybrid - Thrust + 2 connections","Hybrid_Mix_Req_Value","HybridDD_Value"),IF($E30=3,"TreDD_Value",IF($E30="PA","AcroPair_Value",IF(LEFT($F29,4)="Acro",CONCATENATE(BM$16,$E30,"_Value"),"")))) | BN30: =IF($E30="H",IF($F29="Hybrid - Thrust + 2 connections","Hybrid_Mix_Req_Value","HybridDD_Value"),IF($E30=3,"TreDD_Value",IF($E30="PA","AcroPair_Value",IF(LEFT($F29,4)="Acro",CONCATENATE(BN$16,$E30,"_Value"),"")))) | BO30: =IF($E30="H",IF($F29="Hybrid - Thrust + 2 connections","Hybrid_Mix_Req_Value","HybridDD_Value"),IF($E30=3,"TreDD_Value",IF($E30="PA","AcroPair_Value",IF(LEFT($F29,4)="Acro",CONCATENATE(BO$16,$E30,"_Value"),"")))) | BP30: =IF($E30="H",IF($F29="Hybrid - Thrust + 2 connections","Hybrid_Mix_Req_Value","HybridDD_Value"),IF($E30=3,"TreDD_Value",IF($E30="PA","AcroPair_Value",IF(LEFT($F29,4)="Acro",CONCATENATE(BP$16,$E30,"_Value"),"")))) | BQ30: =IF($E30="H",IF($F29="Hybrid - Thrust + 2 connections","Hybrid_Mix_Req_Value","HybridDD_Value"),IF($E30=3,"TreDD_Value",IF($E30="PA","AcroPair_Value",IF(LEFT($F29,4)="Acro",CONCATENATE(BQ$16,$E30,"_Value"),"")))) | BR30: =IF($E30="H",IF($F29="Hybrid - Thrust + 2 connections","Data!$BI$1:$BI$5","HybridDD_Value"),"Data!$BI$1:$BI$5") -> Data!$BI$1:$BI$5 | BS30: =IF($E30="H",IF($F29="Hybrid - Thrust + 2 connections","Data!$BI$1:$BI$5","HybridDD_Value"),"Data!$BI$1:$BI$5") -> Data!$BI$1:$BI$5 | BT30: =IF($E30="H",IF($F29="Hybrid - Thrust + 2 connections","Data!$BI$1:$BI$5","HybridDD_Value"),"Data!$BI$1:$BI$5") -> Data!$BI$1:$BI$5 | BU30: =IF($E30="H",IF($F29="Hybrid - Thrust + 2 connections","Data!$BI$1:$BI$5","HybridDD_Value"),"Data!$BI$1:$BI$5") -> Data!$BI$1:$BI$5 | BV30: =IF($E30="H",IF($F29="Hybrid - Thrust + 2 connections","Data!$BI$1:$BI$5","HybridDD_Value"),"Data!$BI$1:$BI$5") -> Data!$BI$1:$BI$5 | BW30: =IF($E30="H",IF($F29="Hybrid - Thrust + 2 connections","Data!$BI$1:$BI$5","HybridDD_Value"),"Data!$BI$1:$BI$5") -> Data!$BI$1:$BI$5 | BX30: =IF($E30="H",IF($F29="Hybrid - Thrust + 2 connections","Data!$BI$1:$BI$5","HybridDD_Value"),"Data!$BI$1:$BI$5") -> Data!$BI$1:$BI$5 | BY30: =IF($E30="H",IF($F29="Hybrid - Thrust + 2 connections","Data!$BI$1:$BI$5","HybridDD_Value"),"Data!$BI$1:$BI$5") -> Data!$BI$1:$BI$5 | ... CL30: =IF($E30="H",IF($F29="Hybrid - Thrust + 2 connections","Data!$BI$1:$BI$5","HybridDD_Value"),"Data!$BI$1:$BI$5") -> Data!$BI$1:$BI$5 | CO30: =IFERROR(IF(AND($BV$6="T",$BV$8="T",LEFT(F29,4)="Acro",AO30>3),"X",IF($N$7="X",IF(AND(E30="C",AO30>$CN$6),"X",IF(AND(E30="A",AO30>$CN$4),"X",IF(AND(E30="B",AO30>$CN$5),"X",IF(AND(E30="P",AO30>$CN$7),"X","")))),"")),"") | DD30: =IF(OR($E31="A",$E31="B",$E31="C",$E31="P"),"Z","") | DE30: =IF(OR($E31="B",$E31="P"),"Z","") | DF30: =IF(OR($E31="A",$E31="C"),"Z","") | DG30: =IF(OR($E31="A",$E31="B",$E31="C",$E31="P"),"Z","") | DO30: 12 | ED30: =IF(AND(EB30<>"",COUNTIF(TeamAcro_P_Bonus,EB30)>1),EB30,"") | EE30: =IF(AND(EC30<>"",COUNTIF(TeamAcro_P_Bonus,EC30)>1),EC30,"") | EI30: {=IFERROR(INDEX(EK30:FN30,MATCH(TRUE,INDEX((EK30:FN30<>""),),0)),"")} | EK30: =IF(F29="Hybrid - Thrust + 2 connections",IF(COUNTIF($EK29:$FN29,EK29)>1,EK29,""),IF(COUNTIF($EK29:$FN29,EK29)>5,EK29,"")) | EL30: =IF(G29="Hybrid - Thrust + 2 connections",IF(COUNTIF($EK29:$FN29,EL29)>1,EL29,""),IF(COUNTIF($EK29:$FN29,EL29)>5,EL29,"")) | EM30: =IF(H29="Hybrid - Thrust + 2 connections",IF(COUNTIF($EK29:$FN29,EM29)>1,EM29,""),IF(COUNTIF($EK29:$FN29,EM29)>5,EM29,"")) | EN30: =IF(I29="Hybrid - Thrust + 2 connections",IF(COUNTIF($EK29:$FN29,EN29)>1,EN29,""),IF(COUNTIF($EK29:$FN29,EN29)>5,EN29,"")) | EO30: =IF(J29="Hybrid - Thrust + 2 connections",IF(COUNTIF($EK29:$FN29,EO29)>1,EO29,""),IF(COUNTIF($EK29:$FN29,EO29)>5,EO29,"")) | EP30: =IF(K29="Hybrid - Thrust + 2 connections",IF(COUNTIF($EK29:$FN29,EP29)>1,EP29,""),IF(COUNTIF($EK29:$FN29,EP29)>5,EP29,"")) | EQ30: =IF(L29="Hybrid - Thrust + 2 connections",IF(COUNTIF($EK29:$FN29,EQ29)>1,EQ29,""),IF(COUNTIF($EK29:$FN29,EQ29)>5,EQ29,"")) | ER30: =IF(M29="Hybrid - Thrust + 2 connections",IF(COUNTIF($EK29:$FN29,ER29)>1,ER29,""),IF(COUNTIF($EK29:$FN29,ER29)>5,ER29,"")) | ... FN30: =IF(AI29="Hybrid - Thrust + 2 connections",IF(COUNTIF($EK29:$FN29,FN29)>1,FN29,""),IF(COUNTIF($EK29:$FN29,FN29)>5,FN29,"")) | FO30: =FO28+5 -> 25 | FP30: {=IF(FQ30<>"",LEFT(FQ30,FIND("*",FQ30)-1),INDEX($FP$75:$FP$172,FO30+1))} | FQ30: {=INDEX($FQ$75:$FQ$172,FO30+1)} | HD30: =IF($F29="Hybrid - Thrust + 2 connections",COUNTBLANK(J29:L29),"")
A31: =IF(AND(E29="",A29<>""),IF(CP29=$CP$18,"",IF(C29<>"",IF(D29=59,MINUTE(CP29)+1,MINUTE(CP29)),"")),"") | B31: =IF(AND(E29="",B29<>""),IF(CP29=$CP$18,"",IF(C29<>"",IF(D29=59,0,SECOND(CP29)+1),"")),"") | G31: =IF(F31<>"",IF(OR(F31="Transition",F31="Transition - Surface Connection"),0,MAX($G$19:G30)+1),"") | H31: =IFERROR(IF(E32="3","",IF(OR(F31="Hybrid - Choreography (DD = 1)",LEFT(F31,5)="Trans"),"No DD",CONCATENATE("BM = ",I32))),"") | AW31: =E32 | AX31: =IF(AY31=0,"",TIME(0,A31,B31)) | AY31: =TIME(0,C31,D31) -> 0 | AZ31: =IFERROR(AY31-AX31,"") | BA31: =IF($AX$17=0,"",IF(AND($C$10<>"",AW31="H",AZ31>$AX$17),"X","")) | BG31: =IFERROR(IF(F31<>"",INDEX(Parts_Active,MATCH(F31,Parts_Active,0)),""),"No") | BI31: =IF($E32="H",IF($F31="Hybrid - Thrust + 2 connections","Hybrid_Mix_Req",IF($F31="Hybrid - Choreography (DD = 1)","Hybrid_ChoHY","HybridDD_Code")),IF($E32=3,"TreDD_Code",IF($E32="PA","AcroPair_Code",IF(LEFT($F31,4)="Acro",CONCATENATE(BI$16,$E32,"_Code"),"Data!$BI$1:$BI$5")))) -> Data!$BI$1:$BI$5 | BJ31: =IF($E32="H",IF($F31="Hybrid - Thrust + 2 connections","Hybrid_Mix_Req",IF($F31="Hybrid - min 4 swimmers (no DD)","Data!$BI$1:$BI$5","HybridDD_Code")),IF($E32=3,"TreDD_Code",IF($E32="PA","AcroPair_Code",IF(LEFT($F31,4)="Acro",CONCATENATE(BJ$16,$E32,"_Code"),"Data!$BI$1:$BI$5")))) -> Data!$BI$1:$BI$5 | BK31: =IF($E32="H",IF($F31="Hybrid - Thrust + 2 connections","Hybrid_Mix_Req",IF($F31="Hybrid - min 4 swimmers (no DD)","Data!$BI$1:$BI$5","HybridDD_Code")),IF($E32=3,"TreDD_Code",IF($E32="PA","AcroPair_Code",IF(LEFT($F31,4)="Acro",CONCATENATE(BK$16,$E32,"_Code"),"Data!$BI$1:$BI$5")))) -> Data!$BI$1:$BI$5 | BL31: =IF($E32="H",IF($F31="Hybrid - Thrust + 2 connections","Hybrid_Mix_Req",IF($F31="Hybrid - min 4 swimmers (no DD)","Data!$BI$1:$BI$5","HybridDD_Code")),IF($E32=3,"TreDD_Code",IF($E32="PA","AcroPair_Code",IF(LEFT($F31,4)="Acro",CONCATENATE(BL$16,$E32,"_Code"),"Data!$BI$1:$BI$5")))) -> Data!$BI$1:$BI$5 | BM31: =IF($E32="H",IF($F31="Hybrid - Thrust + 2 connections","Hybrid_Mix_Req",IF($F31="Hybrid - min 4 swimmers (no DD)","Data!$BI$1:$BI$5","HybridDD_Code")),IF($E32=3,"TreDD_Code",IF($E32="PA","AcroPair_Code",IF(LEFT($F31,4)="Acro",CONCATENATE(BM$16,$E32,"_Code"),"Data!$BI$1:$BI$5")))) -> Data!$BI$1:$BI$5 | BN31: =IF($E32="H",IF($F31="Hybrid - Thrust + 2 connections","Hybrid_Mix_Req",IF($F31="Hybrid - min 4 swimmers (no DD)","Data!$BI$1:$BI$5","HybridDD_Code")),IF($E32=3,"TreDD_Code",IF($E32="PA","AcroPair_Code",IF(LEFT($F31,4)="Acro",CONCATENATE(BN$16,$E32,"_Code"),"Data!$BI$1:$BI$5")))) -> Data!$BI$1:$BI$5 | BO31: =IF($E32="H",IF($F31="Hybrid - Thrust + 2 connections","Hybrid_Mix_Req",IF($F31="Hybrid - min 4 swimmers (no DD)","Data!$BI$1:$BI$5","HybridDD_Code")),IF($E32=3,"TreDD_Code",IF($E32="PA","AcroPair_Code",IF(LEFT($F31,4)="Acro",CONCATENATE(BO$16,$E32,"_Code"),"Data!$BI$1:$BI$5")))) -> Data!$BI$1:$BI$5 | BP31: =IF($E32="H",IF($F31="Hybrid - Thrust + 2 connections","Hybrid_Mix_Req",IF($F31="Hybrid - min 4 swimmers (no DD)","Data!$BI$1:$BI$5","HybridDD_Code")),IF($E32=3,"TreDD_Code",IF($E32="PA","AcroPair_Code",IF(LEFT($F31,4)="Acro",CONCATENATE(BP$16,$E32,"_Code"),"Data!$BI$1:$BI$5")))) -> Data!$BI$1:$BI$5 | BQ31: =IF($E32="H",IF($F31="Hybrid - Thrust + 2 connections","Hybrid_Mix_Req",IF($F31="Hybrid - min 4 swimmers (no DD)","Data!$BI$1:$BI$5","HybridDD_Code")),IF($E32=3,"TreDD_Code",IF($E32="PA","AcroPair_Code",IF(LEFT($F31,4)="Acro",CONCATENATE(BQ$16,$E32,"_Code"),"Data!$BI$1:$BI$5")))) -> Data!$BI$1:$BI$5 | BR31: =IF($E32="H",IF($F31="Hybrid - Thrust + 2 connections","Data!$BI$1:$BI$5","HybridDD_Code"),"Data!$BI$1:$BI$5") -> Data!$BI$1:$BI$5 | BS31: =$BR31 -> Data!$BI$1:$BI$5 | BT31: =$BR31 -> Data!$BI$1:$BI$5 | BU31: =$BR31 -> Data!$BI$1:$BI$5 | BV31: =$BR31 -> Data!$BI$1:$BI$5 | BW31: =$BR31 -> Data!$BI$1:$BI$5 | BX31: =$BR31 -> Data!$BI$1:$BI$5 | BY31: =$BR31 -> Data!$BI$1:$BI$5 | BZ31: =$BR31 -> Data!$BI$1:$BI$5 | ... CL31: =$BR31 -> Data!$BI$1:$BI$5 | CO31: =IFERROR(TIME(0,A31,B31),"") | CP31: =IFERROR(TIME(0,C31,D31),"") -> 0 | CQ31: =IF(CP31>$D$12,"X","") | CR31: =IF(AND(F31="Hybrid - Thrust + 2 connections",OR(LEFT(J31,1)="T",LEFT(K31,1)="T",LEFT(L31,1)="T",LEFT(PB31,1)="T",LEFT(M31,1)="T",LEFT(N31,1)="T",LEFT(O31,1)="T",LEFT(P31,1)="T",LEFT(Q31,1)="T",LEFT(R31,1)="T",LEFT(S31,1)="T",LEFT(T31,1)="T",LEFT(U31,1)="T",LEFT(V31,1)="T",LEFT(W31,1)="T",LEFT(X31,1)="T",LEFT(AK31,1)="T",LEFT(AL31,1)="T",LEFT(AM31,1)="T")),IF(OR(LEN(J31)=2,LEN(K31)=2,LEN(L31)=2,LEN(M31)=2,LEN(N31)=2,LEN(O31)=2,LEN(P31)=2,LEN(Q31)=2,LEN(R31)=2,LEN(S31)=2,LEN(T31)=2,LEN(U31)=2,LEN(V31)=2,LEN(W31)=2,LEN(X31)=2,LEN(Y31)=2,LEN(Z31)=2,LEN(AK31)=2,LEN(AL31)=2,LEN(AM31)=2),"X",""),"") | CT31: =IF(LEFT(F31,4)="Acro",IF(AND(N31<>"",M31=RIGHT(N31,2)),"X","OK"),"") | CU31: =IFERROR(IF(AND(LEFT($F31,4)="Acro",INDEX(Requ_App,MATCH(BI31,Requ_Code,0))="No"),"X",""),"") | CV31: =IFERROR(IF(AND(LEFT($F31,4)="Acro",INDEX(Requ_App,MATCH(BJ31,Requ_Code,0))="No"),"X",""),"") | CW31: =IFERROR(IF(AND(LEFT($F31,4)="Acro",INDEX(Requ_App,MATCH(BK31,Requ_Code,0))="No"),"X",""),"") | CX31: =IFERROR(IF(AND(LEFT($F31,4)="Acro",INDEX(Requ_App,MATCH(BL31,Requ_Code,0))="No"),"X",""),"") | CY31: =IFERROR(IF(AND(LEFT($F31,4)="Acro",INDEX(Requ_App,MATCH(BM31,Requ_Code,0))="No"),"X",""),"") | CZ31: =IFERROR(IF(AND(LEFT($F31,4)="Acro",INDEX(Requ_App,MATCH(BN31,Requ_Code,0))="No"),"X",""),"") | DA31: =IFERROR(IF(AND(LEFT($F31,4)="Acro",INDEX(Requ_App,MATCH(BO31,Requ_Code,0))="No"),"X",""),"") | DB31: =IFERROR(IF(AND(LEFT($F31,4)="Acro",INDEX(Requ_App,MATCH(BP31,Requ_Code,0))="No"),"X",""),"") | DC31: =IFERROR(IF(AND(LEFT($F31,4)="Acro",INDEX(Requ_App,MATCH(BP31,Requ_Code,0))="No"),"X",""),"") | DD31: =IF(OR($E32="A",$E32="B",$E32="C",$E32="P"),"Z","") | DE31: =IF(OR($E32="B",$E32="P"),"Z","") | DF31: =IF(OR($E32="A",$E32="C"),"Z","") | DG31: =IF(OR($E32="A",$E32="B",$E32="C",$E32="P"),"Z","") | DK31: =IF(AND(E32="A",OR(Q31="Grip",Q31="Conn",Q31="Catch")),"A1",IF(AND(E32="A",OR(Q31="Hula",Q31="RetSq",Q31="RetPa")),"A2",IF(AND(E32="B",OR(Q31="Twirl",Q31="RotF")),"B1",IF(AND(E32="B",OR(Q31="Moon",Q31="Mov",Q31="Hold")),"B2",IF(AND(E32="P",OR(Q31="Porp",Q31="Splch")),"P1",IF(AND(E32="P",OR(Q31="Diva",Q31="Stand")),"P2",IF(AND(E32="P",OR(Q31="Spider",Q31="Climb")),"P3",IF(AND(E32="P",OR(Q31="Fall",Q31="FTurn")),"P4",IF(AND(E32="C",OR(Q31="Jump",Q31="Jump>",Q31="On1Foot",Q31="1F>1F")),"C1",IF(AND(E32="C",OR(Q31="Run",Q31="BRun")),"C2",1)))))))))) -> 1 | DL31: =IF(AND(E32="A",OR(R31="Grip",R31="Conn",R31="Catch")),"A1",IF(AND(E32="A",OR(R31="Hula",R31="RetSq",R31="RetPa")),"A2",IF(AND(E32="B",OR(R31="Twirl",R31="RotF")),"B1",IF(AND(E32="B",OR(R31="Moon",R31="Mov",R31="Hold")),"B2",IF(AND(E32="P",OR(R31="Porp",R31="Spich")),"P1",IF(AND(E32="P",OR(R31="Diva",R31="Stand")),"P2",IF(AND(E32="P",OR(R31="Spider",R31="Climb")),"P3",IF(AND(E32="P",OR(R31="Fall",R31="FTurn")),"P4",IF(AND(E32="C",OR(R31="Jump",R31="Jump>",R31="On1Foot",R31="1F>1F")),"C1",IF(AND(E32="C",OR(R31="Run",R31="BRun")),"C2",2)))))))))) -> 2 | DM31: =IF(AND(N31="",OR(Q31<>"",R31<>"")),"X",IF(AND(LEFT(F31,4)="Acro",Q31<>"",OR(Q31=R31,DK31=DL31)),IF(R31="C-Roll","","X"),IF(OR(AND(E32="A",Q31="Catch",R31<>"Dbl"),AND(E32="A",R31="Catch",Q31<>"Dbl")),"X",""))) | DN31: =IF(E32="PA",J31,"") | DO31: 13 | DQ31: =IF(AND($E32="A",COUNTIF($DZ$19:$EA$68,DZ31)>1),DZ31,"") | DR31: =IF(AND($E32="A",COUNTIF($DZ$19:$EA$68,EA31)>1),EA31,"") | DS31: =IF(AND($E32="B",COUNTIF($J$19:$J$68,J31)>1),J31,"") | DT31: =IF(AND($E32="B",COUNTIF($K$19:$K$68,K31)>1),K31,"") | DU31: =IF(AND($E32="C",COUNTIF($J$19:$J$68,J31)>1),J31,"") | DV31: =IF(AND($E32="P",COUNTIF($J$19:$J$68,J31)>1),J31,"") | DW31: =IF(AND($E32="P",COUNTIF($K$19:$K$68,K31)>1),K31,"") | DX31: =IF(AND($E32="P",COUNTIF($DZ$19:$EA$68,DZ31)>1),DZ31,"") | DY31: =IF(AND($E32="P",COUNTIF($DZ$19:$EA$68,EA31)>1),EA31,"") | DZ31: =IFERROR(IF(OR(E32="A",E32="P"),M31,""),"") | EA31: =IFERROR(IF(OR(E32="A",E32="P"),RIGHT(N31,2),""),"") | EB31: =IF(Q31="","",IF(AND($E32="P",COUNTIF($Q$19:$R$68,Q31)>1),Q31,"")) | EC31: =IF(R31="","",IF(AND($E32="P",COUNTIF($Q$19:$R$68,R31)>1),R31,"")) | ED31: =IF(AND(EB31<>"",COUNTIF(TeamAcro_P_Bonus,EB31)>1),EB31,"") | EE31: =IF(AND(EC31<>"",COUNTIF(TeamAcro_P_Bonus,EC31)>1),EC31,"") | EF31: =IF(AND(OR($F$8="Open Team Acrobatic",$F$8="Open Team Technical"),LEFT(F31,4)="Acro"),E32,"") | EG31: =IF(EF31="","",IFERROR(IF($F$8="Open Team Acrobatic",IF(HLOOKUP(EF31,$DQ$12:$DT$13,2,FALSE)>2,"X",""),IF(HLOOKUP(EF31,$DQ$12:$DT$13,2,FALSE)>1,"X","")),"")) | EI31: =IF(OR(AND(F31="Hybrid - Thrust + 2 connections",EI32="T"),AND(E32="H",EI32<>"",EI85="X")),"X","") | EK31: =IFERROR(IF(AND($E32="H",J31<>"",J31<>"ChoHY"),IF(OR(LEFT(J31,1)="T",LEFT(J31,1)="S",LEFT(J31,1)="A",LEFT(J31,1)="F",LEFT(J31,1)="C"),LEFT(J31,1),"R"),EK$18),"") -> 1 | EL31: =IFERROR(IF(AND($E32="H",K31<>""),IF(OR(LEFT(K31,1)="T",LEFT(K31,1)="S",LEFT(K31,1)="A",LEFT(K31,1)="F",LEFT(K31,1)="C"),LEFT(K31,1),"R"),EL$18),"") -> 2 | EM31: =IFERROR(IF(AND($E32="H",L31<>""),IF(OR(LEFT(L31,1)="T",LEFT(L31,1)="S",LEFT(L31,1)="A",LEFT(L31,1)="F",LEFT(L31,1)="C"),LEFT(L31,1),"R"),EM$18),"") -> 3 | EN31: =IFERROR(IF(AND($E32="H",M31<>""),IF(OR(LEFT(M31,1)="T",LEFT(M31,1)="S",LEFT(M31,1)="A",LEFT(M31,1)="F",LEFT(M31,1)="C"),LEFT(M31,1),"R"),EN$18),"") -> 4 | EO31: =IFERROR(IF(AND($E32="H",N31<>""),IF(OR(LEFT(N31,1)="T",LEFT(N31,1)="S",LEFT(N31,1)="A",LEFT(N31,1)="F",LEFT(N31,1)="C"),LEFT(N31,1),"R"),EO$18),"") -> 5 | EP31: =IFERROR(IF(AND($E32="H",O31<>""),IF(OR(LEFT(O31,1)="T",LEFT(O31,1)="S",LEFT(O31,1)="A",LEFT(O31,1)="F",LEFT(O31,1)="C"),LEFT(O31,1),"R"),EP$18),"") -> 6 | EQ31: =IFERROR(IF(AND($E32="H",P31<>""),IF(OR(LEFT(P31,1)="T",LEFT(P31,1)="S",LEFT(P31,1)="A",LEFT(P31,1)="F",LEFT(P31,1)="C"),LEFT(P31,1),"R"),EQ$18),"") -> 7 | ER31: =IFERROR(IF(AND($E32="H",Q31<>""),IF(OR(LEFT(Q31,1)="T",LEFT(Q31,1)="S",LEFT(Q31,1)="A",LEFT(Q31,1)="F",LEFT(Q31,1)="C"),LEFT(Q31,1),"R"),ER$18),"") -> 8 | ES31: =IFERROR(IF(AND($E32="H",R31<>""),IF(OR(LEFT(R31,1)="T",LEFT(R31,1)="S",LEFT(R31,1)="A",LEFT(R31,1)="F",LEFT(R31,1)="C"),LEFT(R31,1),"R"),ES$18),"") -> 9 | ... FN31: =IFERROR(IF(AND($E32="H",AM31<>""),IF(OR(LEFT(AM31,1)="T",LEFT(AM31,1)="S",LEFT(AM31,1)="A",LEFT(AM31,1)="F",LEFT(AM31,1)="C"),LEFT(AM31,1),"R"),FN$18),"") -> 30 | GW31: =COUNTIF($EK31:$FN31,GW$18) -> 0 | GX31: =COUNTIF($EK31:$FN31,GX$18) -> 0 | GY31: =COUNTIF($EK31:$FN31,GY$18) -> 0 | GZ31: =COUNTIF($EK31:$FN31,GZ$18) -> 0 | HA31: =COUNTIF($EK31:$FN31,HA$18) -> 0 | HB31: =COUNTIF($EK31:$FN31,HB$18) -> 0 | HD31: =IF(AND($F31="Hybrid - Thrust + 2 connections",HD32=0,LEFT($J31,1)="C",LEFT($K31,1)="C",LEFT($L31,1)="C"),"X","") | HI31: =IF(E32=3,IF(_xlfn.NUMBERVALUE(LEFT(J31,1))>0,_xlfn.NUMBERVALUE(LEFT(J31,1)),""),"") | HK31: =IF(OR(E32="B",E32="P"),E32,"") | HL31: =IF(AND(J31<>"",HK31<>""),IF(HK31="B",MATCH(J31,AcroDD!$U$3:$AE$3,0),MATCH(J31,AcroDD!$U$30:$AC$30,0)),"") | HM31: =IF(AND(K31<>"",HK31<>""),K31,"") | HN31: =_xlfn.LET(_xlpm.lista,IF(HK31="B",INDEX(AcroDD!$T$4:$AE$23,0,HL31+1),INDEX(AcroDD!$T$31:$AC$50,0,HL31+1)),IF(AND(OR(HK31="B",HK31="P"),HL31<>"",HM31<>""),IF(ISNUMBER(MATCH(HM31,_xlpm.lista,0)),"OK","X"),""))
E32: =IF(F31="Acrobatic - Pair","PA",IF(F31="Acrobatic Airborn","A",IF(F31="Acrobatic Balance","B",IF(F31="Acrobatic Combined","C",IF(F31="Acrobatic Platform","P",IF(F31="Technical Required Element",3,IF(LEFT(F31,4)="Hybr","H",""))))))) | F32: =IF(AND(F31="Hybrid - Thrust + 2 connections",CR31="X"),"Hybrid - Thrust",IF(OR(E32="A",E32="B",E32="C",E32="P"),"Acrobatic","")) | H32: =IF(E32="PA",IF(OR(LEFT(J31,1)="L",LEFT(J31,1)="S"),"A-Pair-Lift",IF(OR(LEFT(J31,1)="W",LEFT(J31,1)="T"),"A-Pair-Throw",IF(LEFT(J31,1)="J","A-Pair-Jump","A-Pair"))),IF(OR(E32="A",E32="B",E32="C",E32="P"),CONCATENATE("Acro-",E32),"")) | I32: =IF(OR(F31="Hybrid - Choreography (DD = 1)",LEFT(F31,5)="Trans"),0,INDEX($BY$3:$BY$9,MATCH(E32,$BX$3:$BX$9,0))) -> #N/A | J32: =IFERROR(IF($H31="No DD",IF(J31="ChoHY",1,0),IF(OR(ISBLANK(J31),J31="N/A"),0,INDEX(INDIRECT(BI32),MATCH(J31,INDIRECT(BI31),0)))),0) -> 0 | K32: =IFERROR(IF($H31="No DD",0,IF(OR(ISBLANK(K31),K31="N/A"),0,INDEX(INDIRECT(BJ32),MATCH(K31,INDIRECT(BJ31),0)))),0) -> 0 | L32: =IFERROR(IF($H31="No DD",0,IF(OR(ISBLANK(L31),L31="N/A"),0,INDEX(INDIRECT(BK32),MATCH(L31,INDIRECT(BK31),0)))),0) -> 0 | M32: =IFERROR(IF($H31="No DD",0,IF(OR(ISBLANK(M31),M31="N/A"),0,INDEX(INDIRECT(BL32),MATCH(M31,INDIRECT(BL31),0)))),0) -> 0 | N32: =IFERROR(IF($H31="No DD",0,IF(OR(ISBLANK(N31),N31="N/A"),0,INDEX(INDIRECT(BM32),MATCH(N31,INDIRECT(BM31),0)))),0) -> 0 | O32: =IFERROR(IF($H31="No DD",0,IF(OR(ISBLANK(O31),O31="N/A"),0,INDEX(INDIRECT(BN32),MATCH(O31,INDIRECT(BN31),0)))),0) -> 0 | P32: =IFERROR(IF($H31="No DD",0,IF(OR(ISBLANK(P31),P31="N/A"),0,INDEX(INDIRECT(BO32),MATCH(P31,INDIRECT(BO31),0)))),0) -> 0 | Q32: =IFERROR(IF($H31="No DD",0,IF(OR(ISBLANK(Q31),Q31="N/A"),0,INDEX(INDIRECT(BP32),MATCH(Q31,INDIRECT(BP31),0)))),0) -> 0 | R32: =IFERROR(IF($H31="No DD",0,IF(OR(ISBLANK(R31),R31="N/A"),0,INDEX(INDIRECT(BQ32),MATCH(R31,INDIRECT(BQ31),0)))),0) -> 0 | ... AM32: =IFERROR(IF($H31="No DD",0,IF(OR(ISBLANK(AM31),AM31="N/A"),0,INDEX(INDIRECT(CL32),MATCH(AM31,INDIRECT(CL31),0)))),0) -> 0 | AN32: =IFERROR(IF(E32="H",INDEX(HybridBonus_Value,MATCH(AN31,HybridBonus_Code,0)),""),"") | AO32: =IFERROR(SUM(I32:AN32),"") | BI32: =IF($E32="H",IF($F31="Hybrid - Thrust + 2 connections","Hybrid_Mix_Req_Value","HybridDD_Value"),IF($E32=3,"TreDD_Value",IF($E32="PA","AcroPair_Value",IF(LEFT($F31,4)="Acro",CONCATENATE(BI$16,$E32,"_Value"),"")))) | BJ32: =IF($E32="H",IF($F31="Hybrid - Thrust + 2 connections","Hybrid_Mix_Req_Value","HybridDD_Value"),IF($E32=3,"TreDD_Value",IF($E32="PA","AcroPair_Value",IF(LEFT($F31,4)="Acro",CONCATENATE(BJ$16,$E32,"_Value"),"")))) | BK32: =IF($E32="H",IF($F31="Hybrid - Thrust + 2 connections","Hybrid_Mix_Req_Value","HybridDD_Value"),IF($E32=3,"TreDD_Value",IF($E32="PA","AcroPair_Value",IF(LEFT($F31,4)="Acro",CONCATENATE(BK$16,$E32,"_Value"),"")))) | BL32: =IF($E32="H",IF($F31="Hybrid - Thrust + 2 connections","Hybrid_Mix_Req_Value","HybridDD_Value"),IF($E32=3,"TreDD_Value",IF($E32="PA","AcroPair_Value",IF(LEFT($F31,4)="Acro",CONCATENATE(BL$16,$E32,"_Value"),"")))) | BM32: =IF($E32="H",IF($F31="Hybrid - Thrust + 2 connections","Hybrid_Mix_Req_Value","HybridDD_Value"),IF($E32=3,"TreDD_Value",IF($E32="PA","AcroPair_Value",IF(LEFT($F31,4)="Acro",CONCATENATE(BM$16,$E32,"_Value"),"")))) | BN32: =IF($E32="H",IF($F31="Hybrid - Thrust + 2 connections","Hybrid_Mix_Req_Value","HybridDD_Value"),IF($E32=3,"TreDD_Value",IF($E32="PA","AcroPair_Value",IF(LEFT($F31,4)="Acro",CONCATENATE(BN$16,$E32,"_Value"),"")))) | BO32: =IF($E32="H",IF($F31="Hybrid - Thrust + 2 connections","Hybrid_Mix_Req_Value","HybridDD_Value"),IF($E32=3,"TreDD_Value",IF($E32="PA","AcroPair_Value",IF(LEFT($F31,4)="Acro",CONCATENATE(BO$16,$E32,"_Value"),"")))) | BP32: =IF($E32="H",IF($F31="Hybrid - Thrust + 2 connections","Hybrid_Mix_Req_Value","HybridDD_Value"),IF($E32=3,"TreDD_Value",IF($E32="PA","AcroPair_Value",IF(LEFT($F31,4)="Acro",CONCATENATE(BP$16,$E32,"_Value"),"")))) | BQ32: =IF($E32="H",IF($F31="Hybrid - Thrust + 2 connections","Hybrid_Mix_Req_Value","HybridDD_Value"),IF($E32=3,"TreDD_Value",IF($E32="PA","AcroPair_Value",IF(LEFT($F31,4)="Acro",CONCATENATE(BQ$16,$E32,"_Value"),"")))) | BR32: =IF($E32="H",IF($F31="Hybrid - Thrust + 2 connections","Data!$BI$1:$BI$5","HybridDD_Value"),"Data!$BI$1:$BI$5") -> Data!$BI$1:$BI$5 | BS32: =IF($E32="H",IF($F31="Hybrid - Thrust + 2 connections","Data!$BI$1:$BI$5","HybridDD_Value"),"Data!$BI$1:$BI$5") -> Data!$BI$1:$BI$5 | BT32: =IF($E32="H",IF($F31="Hybrid - Thrust + 2 connections","Data!$BI$1:$BI$5","HybridDD_Value"),"Data!$BI$1:$BI$5") -> Data!$BI$1:$BI$5 | BU32: =IF($E32="H",IF($F31="Hybrid - Thrust + 2 connections","Data!$BI$1:$BI$5","HybridDD_Value"),"Data!$BI$1:$BI$5") -> Data!$BI$1:$BI$5 | BV32: =IF($E32="H",IF($F31="Hybrid - Thrust + 2 connections","Data!$BI$1:$BI$5","HybridDD_Value"),"Data!$BI$1:$BI$5") -> Data!$BI$1:$BI$5 | BW32: =IF($E32="H",IF($F31="Hybrid - Thrust + 2 connections","Data!$BI$1:$BI$5","HybridDD_Value"),"Data!$BI$1:$BI$5") -> Data!$BI$1:$BI$5 | BX32: =IF($E32="H",IF($F31="Hybrid - Thrust + 2 connections","Data!$BI$1:$BI$5","HybridDD_Value"),"Data!$BI$1:$BI$5") -> Data!$BI$1:$BI$5 | BY32: =IF($E32="H",IF($F31="Hybrid - Thrust + 2 connections","Data!$BI$1:$BI$5","HybridDD_Value"),"Data!$BI$1:$BI$5") -> Data!$BI$1:$BI$5 | ... CL32: =IF($E32="H",IF($F31="Hybrid - Thrust + 2 connections","Data!$BI$1:$BI$5","HybridDD_Value"),"Data!$BI$1:$BI$5") -> Data!$BI$1:$BI$5 | CO32: =IFERROR(IF(AND($BV$6="T",$BV$8="T",LEFT(F31,4)="Acro",AO32>3),"X",IF($N$7="X",IF(AND(E32="C",AO32>$CN$6),"X",IF(AND(E32="A",AO32>$CN$4),"X",IF(AND(E32="B",AO32>$CN$5),"X",IF(AND(E32="P",AO32>$CN$7),"X","")))),"")),"") | DD32: =IF(OR($E33="A",$E33="B",$E33="C",$E33="P"),"Z","") | DE32: =IF(OR($E33="B",$E33="P"),"Z","") | DF32: =IF(OR($E33="A",$E33="C"),"Z","") | DG32: =IF(OR($E33="A",$E33="B",$E33="C",$E33="P"),"Z","") | DO32: 14 | ED32: =IF(AND(EB32<>"",COUNTIF(TeamAcro_P_Bonus,EB32)>1),EB32,"") | EE32: =IF(AND(EC32<>"",COUNTIF(TeamAcro_P_Bonus,EC32)>1),EC32,"") | EI32: {=IFERROR(INDEX(EK32:FN32,MATCH(TRUE,INDEX((EK32:FN32<>""),),0)),"")} | EK32: =IF(F31="Hybrid - Thrust + 2 connections",IF(COUNTIF($EK31:$FN31,EK31)>1,EK31,""),IF(COUNTIF($EK31:$FN31,EK31)>5,EK31,"")) | EL32: =IF(G31="Hybrid - Thrust + 2 connections",IF(COUNTIF($EK31:$FN31,EL31)>1,EL31,""),IF(COUNTIF($EK31:$FN31,EL31)>5,EL31,"")) | EM32: =IF(H31="Hybrid - Thrust + 2 connections",IF(COUNTIF($EK31:$FN31,EM31)>1,EM31,""),IF(COUNTIF($EK31:$FN31,EM31)>5,EM31,"")) | EN32: =IF(I31="Hybrid - Thrust + 2 connections",IF(COUNTIF($EK31:$FN31,EN31)>1,EN31,""),IF(COUNTIF($EK31:$FN31,EN31)>5,EN31,"")) | EO32: =IF(J31="Hybrid - Thrust + 2 connections",IF(COUNTIF($EK31:$FN31,EO31)>1,EO31,""),IF(COUNTIF($EK31:$FN31,EO31)>5,EO31,"")) | EP32: =IF(K31="Hybrid - Thrust + 2 connections",IF(COUNTIF($EK31:$FN31,EP31)>1,EP31,""),IF(COUNTIF($EK31:$FN31,EP31)>5,EP31,"")) | EQ32: =IF(L31="Hybrid - Thrust + 2 connections",IF(COUNTIF($EK31:$FN31,EQ31)>1,EQ31,""),IF(COUNTIF($EK31:$FN31,EQ31)>5,EQ31,"")) | ER32: =IF(M31="Hybrid - Thrust + 2 connections",IF(COUNTIF($EK31:$FN31,ER31)>1,ER31,""),IF(COUNTIF($EK31:$FN31,ER31)>5,ER31,"")) | ... FN32: =IF(AI31="Hybrid - Thrust + 2 connections",IF(COUNTIF($EK31:$FN31,FN31)>1,FN31,""),IF(COUNTIF($EK31:$FN31,FN31)>5,FN31,"")) | FO32: =FO30+5 -> 30 | FP32: {=IF(FQ32<>"",LEFT(FQ32,FIND("*",FQ32)-1),INDEX($FP$75:$FP$172,FO32+1))} | FQ32: {=INDEX($FQ$75:$FQ$172,FO32+1)} | HD32: =IF($F31="Hybrid - Thrust + 2 connections",COUNTBLANK(J31:L31),"")
A33: =IF(AND(E31="",A31<>""),IF(CP31=$CP$18,"",IF(C31<>"",IF(D31=59,MINUTE(CP31)+1,MINUTE(CP31)),"")),"") | B33: =IF(AND(E31="",B31<>""),IF(CP31=$CP$18,"",IF(C31<>"",IF(D31=59,0,SECOND(CP31)+1),"")),"") | G33: =IF(F33<>"",IF(OR(F33="Transition",F33="Transition - Surface Connection"),0,MAX($G$19:G32)+1),"") | H33: =IFERROR(IF(E34="3","",IF(OR(F33="Hybrid - Choreography (DD = 1)",LEFT(F33,5)="Trans"),"No DD",CONCATENATE("BM = ",I34))),"") | AW33: =E34 | AX33: =IF(AY33=0,"",TIME(0,A33,B33)) | AY33: =TIME(0,C33,D33) -> 0 | AZ33: =IFERROR(AY33-AX33,"") | BA33: =IF($AX$17=0,"",IF(AND($C$10<>"",AW33="H",AZ33>$AX$17),"X","")) | BG33: =IFERROR(IF(F33<>"",INDEX(Parts_Active,MATCH(F33,Parts_Active,0)),""),"No") | BI33: =IF($E34="H",IF($F33="Hybrid - Thrust + 2 connections","Hybrid_Mix_Req",IF($F33="Hybrid - Choreography (DD = 1)","Hybrid_ChoHY","HybridDD_Code")),IF($E34=3,"TreDD_Code",IF($E34="PA","AcroPair_Code",IF(LEFT($F33,4)="Acro",CONCATENATE(BI$16,$E34,"_Code"),"Data!$BI$1:$BI$5")))) -> Data!$BI$1:$BI$5 | BJ33: =IF($E34="H",IF($F33="Hybrid - Thrust + 2 connections","Hybrid_Mix_Req",IF($F33="Hybrid - min 4 swimmers (no DD)","Data!$BI$1:$BI$5","HybridDD_Code")),IF($E34=3,"TreDD_Code",IF($E34="PA","AcroPair_Code",IF(LEFT($F33,4)="Acro",CONCATENATE(BJ$16,$E34,"_Code"),"Data!$BI$1:$BI$5")))) -> Data!$BI$1:$BI$5 | BK33: =IF($E34="H",IF($F33="Hybrid - Thrust + 2 connections","Hybrid_Mix_Req",IF($F33="Hybrid - min 4 swimmers (no DD)","Data!$BI$1:$BI$5","HybridDD_Code")),IF($E34=3,"TreDD_Code",IF($E34="PA","AcroPair_Code",IF(LEFT($F33,4)="Acro",CONCATENATE(BK$16,$E34,"_Code"),"Data!$BI$1:$BI$5")))) -> Data!$BI$1:$BI$5 | BL33: =IF($E34="H",IF($F33="Hybrid - Thrust + 2 connections","Hybrid_Mix_Req",IF($F33="Hybrid - min 4 swimmers (no DD)","Data!$BI$1:$BI$5","HybridDD_Code")),IF($E34=3,"TreDD_Code",IF($E34="PA","AcroPair_Code",IF(LEFT($F33,4)="Acro",CONCATENATE(BL$16,$E34,"_Code"),"Data!$BI$1:$BI$5")))) -> Data!$BI$1:$BI$5 | BM33: =IF($E34="H",IF($F33="Hybrid - Thrust + 2 connections","Hybrid_Mix_Req",IF($F33="Hybrid - min 4 swimmers (no DD)","Data!$BI$1:$BI$5","HybridDD_Code")),IF($E34=3,"TreDD_Code",IF($E34="PA","AcroPair_Code",IF(LEFT($F33,4)="Acro",CONCATENATE(BM$16,$E34,"_Code"),"Data!$BI$1:$BI$5")))) -> Data!$BI$1:$BI$5 | BN33: =IF($E34="H",IF($F33="Hybrid - Thrust + 2 connections","Hybrid_Mix_Req",IF($F33="Hybrid - min 4 swimmers (no DD)","Data!$BI$1:$BI$5","HybridDD_Code")),IF($E34=3,"TreDD_Code",IF($E34="PA","AcroPair_Code",IF(LEFT($F33,4)="Acro",CONCATENATE(BN$16,$E34,"_Code"),"Data!$BI$1:$BI$5")))) -> Data!$BI$1:$BI$5 | BO33: =IF($E34="H",IF($F33="Hybrid - Thrust + 2 connections","Hybrid_Mix_Req",IF($F33="Hybrid - min 4 swimmers (no DD)","Data!$BI$1:$BI$5","HybridDD_Code")),IF($E34=3,"TreDD_Code",IF($E34="PA","AcroPair_Code",IF(LEFT($F33,4)="Acro",CONCATENATE(BO$16,$E34,"_Code"),"Data!$BI$1:$BI$5")))) -> Data!$BI$1:$BI$5 | BP33: =IF($E34="H",IF($F33="Hybrid - Thrust + 2 connections","Hybrid_Mix_Req",IF($F33="Hybrid - min 4 swimmers (no DD)","Data!$BI$1:$BI$5","HybridDD_Code")),IF($E34=3,"TreDD_Code",IF($E34="PA","AcroPair_Code",IF(LEFT($F33,4)="Acro",CONCATENATE(BP$16,$E34,"_Code"),"Data!$BI$1:$BI$5")))) -> Data!$BI$1:$BI$5 | BQ33: =IF($E34="H",IF($F33="Hybrid - Thrust + 2 connections","Hybrid_Mix_Req",IF($F33="Hybrid - min 4 swimmers (no DD)","Data!$BI$1:$BI$5","HybridDD_Code")),IF($E34=3,"TreDD_Code",IF($E34="PA","AcroPair_Code",IF(LEFT($F33,4)="Acro",CONCATENATE(BQ$16,$E34,"_Code"),"Data!$BI$1:$BI$5")))) -> Data!$BI$1:$BI$5 | BR33: =IF($E34="H",IF($F33="Hybrid - Thrust + 2 connections","Data!$BI$1:$BI$5","HybridDD_Code"),"Data!$BI$1:$BI$5") -> Data!$BI$1:$BI$5 | BS33: =$BR33 -> Data!$BI$1:$BI$5 | BT33: =$BR33 -> Data!$BI$1:$BI$5 | BU33: =$BR33 -> Data!$BI$1:$BI$5 | BV33: =$BR33 -> Data!$BI$1:$BI$5 | BW33: =$BR33 -> Data!$BI$1:$BI$5 | BX33: =$BR33 -> Data!$BI$1:$BI$5 | BY33: =$BR33 -> Data!$BI$1:$BI$5 | BZ33: =$BR33 -> Data!$BI$1:$BI$5 | ... CL33: =$BR33 -> Data!$BI$1:$BI$5 | CO33: =IFERROR(TIME(0,A33,B33),"") | CP33: =IFERROR(TIME(0,C33,D33),"") -> 0 | CQ33: =IF(CP33>$D$12,"X","") | CR33: =IF(AND(F33="Hybrid - Thrust + 2 connections",OR(LEFT(J33,1)="T",LEFT(K33,1)="T",LEFT(L33,1)="T",LEFT(PB33,1)="T",LEFT(M33,1)="T",LEFT(N33,1)="T",LEFT(O33,1)="T",LEFT(P33,1)="T",LEFT(Q33,1)="T",LEFT(R33,1)="T",LEFT(S33,1)="T",LEFT(T33,1)="T",LEFT(U33,1)="T",LEFT(V33,1)="T",LEFT(W33,1)="T",LEFT(X33,1)="T",LEFT(AK33,1)="T",LEFT(AL33,1)="T",LEFT(AM33,1)="T")),IF(OR(LEN(J33)=2,LEN(K33)=2,LEN(L33)=2,LEN(M33)=2,LEN(N33)=2,LEN(O33)=2,LEN(P33)=2,LEN(Q33)=2,LEN(R33)=2,LEN(S33)=2,LEN(T33)=2,LEN(U33)=2,LEN(V33)=2,LEN(W33)=2,LEN(X33)=2,LEN(Y33)=2,LEN(Z33)=2,LEN(AK33)=2,LEN(AL33)=2,LEN(AM33)=2),"X",""),"") | CT33: =IF(LEFT(F33,4)="Acro",IF(AND(N33<>"",M33=RIGHT(N33,2)),"X","OK"),"") | CU33: =IFERROR(IF(AND(LEFT($F33,4)="Acro",INDEX(Requ_App,MATCH(BI33,Requ_Code,0))="No"),"X",""),"") | CV33: =IFERROR(IF(AND(LEFT($F33,4)="Acro",INDEX(Requ_App,MATCH(BJ33,Requ_Code,0))="No"),"X",""),"") | CW33: =IFERROR(IF(AND(LEFT($F33,4)="Acro",INDEX(Requ_App,MATCH(BK33,Requ_Code,0))="No"),"X",""),"") | CX33: =IFERROR(IF(AND(LEFT($F33,4)="Acro",INDEX(Requ_App,MATCH(BL33,Requ_Code,0))="No"),"X",""),"") | CY33: =IFERROR(IF(AND(LEFT($F33,4)="Acro",INDEX(Requ_App,MATCH(BM33,Requ_Code,0))="No"),"X",""),"") | CZ33: =IFERROR(IF(AND(LEFT($F33,4)="Acro",INDEX(Requ_App,MATCH(BN33,Requ_Code,0))="No"),"X",""),"") | DA33: =IFERROR(IF(AND(LEFT($F33,4)="Acro",INDEX(Requ_App,MATCH(BO33,Requ_Code,0))="No"),"X",""),"") | DB33: =IFERROR(IF(AND(LEFT($F33,4)="Acro",INDEX(Requ_App,MATCH(BP33,Requ_Code,0))="No"),"X",""),"") | DC33: =IFERROR(IF(AND(LEFT($F33,4)="Acro",INDEX(Requ_App,MATCH(BP33,Requ_Code,0))="No"),"X",""),"") | DD33: =IF(OR($E34="A",$E34="B",$E34="C",$E34="P"),"Z","") | DE33: =IF(OR($E34="B",$E34="P"),"Z","") | DF33: =IF(OR($E34="A",$E34="C"),"Z","") | DG33: =IF(OR($E34="A",$E34="B",$E34="C",$E34="P"),"Z","") | DK33: =IF(AND(E34="A",OR(Q33="Grip",Q33="Conn",Q33="Catch")),"A1",IF(AND(E34="A",OR(Q33="Hula",Q33="RetSq",Q33="RetPa")),"A2",IF(AND(E34="B",OR(Q33="Twirl",Q33="RotF")),"B1",IF(AND(E34="B",OR(Q33="Moon",Q33="Mov",Q33="Hold")),"B2",IF(AND(E34="P",OR(Q33="Porp",Q33="Splch")),"P1",IF(AND(E34="P",OR(Q33="Diva",Q33="Stand")),"P2",IF(AND(E34="P",OR(Q33="Spider",Q33="Climb")),"P3",IF(AND(E34="P",OR(Q33="Fall",Q33="FTurn")),"P4",IF(AND(E34="C",OR(Q33="Jump",Q33="Jump>",Q33="On1Foot",Q33="1F>1F")),"C1",IF(AND(E34="C",OR(Q33="Run",Q33="BRun")),"C2",1)))))))))) -> 1 | DL33: =IF(AND(E34="A",OR(R33="Grip",R33="Conn",R33="Catch")),"A1",IF(AND(E34="A",OR(R33="Hula",R33="RetSq",R33="RetPa")),"A2",IF(AND(E34="B",OR(R33="Twirl",R33="RotF")),"B1",IF(AND(E34="B",OR(R33="Moon",R33="Mov",R33="Hold")),"B2",IF(AND(E34="P",OR(R33="Porp",R33="Spich")),"P1",IF(AND(E34="P",OR(R33="Diva",R33="Stand")),"P2",IF(AND(E34="P",OR(R33="Spider",R33="Climb")),"P3",IF(AND(E34="P",OR(R33="Fall",R33="FTurn")),"P4",IF(AND(E34="C",OR(R33="Jump",R33="Jump>",R33="On1Foot",R33="1F>1F")),"C1",IF(AND(E34="C",OR(R33="Run",R33="BRun")),"C2",2)))))))))) -> 2 | DM33: =IF(AND(N33="",OR(Q33<>"",R33<>"")),"X",IF(AND(LEFT(F33,4)="Acro",Q33<>"",OR(Q33=R33,DK33=DL33)),IF(R33="C-Roll","","X"),IF(OR(AND(E34="A",Q33="Catch",R33<>"Dbl"),AND(E34="A",R33="Catch",Q33<>"Dbl")),"X",""))) | DN33: =IF(E34="PA",J33,"") | DO33: 15 | DQ33: =IF(AND($E34="A",COUNTIF($DZ$19:$EA$68,DZ33)>1),DZ33,"") | DR33: =IF(AND($E34="A",COUNTIF($DZ$19:$EA$68,EA33)>1),EA33,"") | DS33: =IF(AND($E34="B",COUNTIF($J$19:$J$68,J33)>1),J33,"") | DT33: =IF(AND($E34="B",COUNTIF($K$19:$K$68,K33)>1),K33,"") | DU33: =IF(AND($E34="C",COUNTIF($J$19:$J$68,J33)>1),J33,"") | DV33: =IF(AND($E34="P",COUNTIF($J$19:$J$68,J33)>1),J33,"") | DW33: =IF(AND($E34="P",COUNTIF($K$19:$K$68,K33)>1),K33,"") | DX33: =IF(AND($E34="P",COUNTIF($DZ$19:$EA$68,DZ33)>1),DZ33,"") | DY33: =IF(AND($E34="P",COUNTIF($DZ$19:$EA$68,EA33)>1),EA33,"") | DZ33: =IFERROR(IF(OR(E34="A",E34="P"),M33,""),"") | EA33: =IFERROR(IF(OR(E34="A",E34="P"),RIGHT(N33,2),""),"") | EB33: =IF(Q33="","",IF(AND($E34="P",COUNTIF($Q$19:$R$68,Q33)>1),Q33,"")) | EC33: =IF(R33="","",IF(AND($E34="P",COUNTIF($Q$19:$R$68,R33)>1),R33,"")) | ED33: =IF(AND(EB33<>"",COUNTIF(TeamAcro_P_Bonus,EB33)>1),EB33,"") | EE33: =IF(AND(EC33<>"",COUNTIF(TeamAcro_P_Bonus,EC33)>1),EC33,"") | EF33: =IF(AND(OR($F$8="Open Team Acrobatic",$F$8="Open Team Technical"),LEFT(F33,4)="Acro"),E34,"") | EG33: =IF(EF33="","",IFERROR(IF($F$8="Open Team Acrobatic",IF(HLOOKUP(EF33,$DQ$12:$DT$13,2,FALSE)>2,"X",""),IF(HLOOKUP(EF33,$DQ$12:$DT$13,2,FALSE)>1,"X","")),"")) | EI33: =IF(OR(AND(F33="Hybrid - Thrust + 2 connections",EI34="T"),AND(E34="H",EI34<>"",EI87="X")),"X","") | EK33: =IFERROR(IF(AND($E34="H",J33<>"",J33<>"ChoHY"),IF(OR(LEFT(J33,1)="T",LEFT(J33,1)="S",LEFT(J33,1)="A",LEFT(J33,1)="F",LEFT(J33,1)="C"),LEFT(J33,1),"R"),EK$18),"") -> 1 | EL33: =IFERROR(IF(AND($E34="H",K33<>""),IF(OR(LEFT(K33,1)="T",LEFT(K33,1)="S",LEFT(K33,1)="A",LEFT(K33,1)="F",LEFT(K33,1)="C"),LEFT(K33,1),"R"),EL$18),"") -> 2 | EM33: =IFERROR(IF(AND($E34="H",L33<>""),IF(OR(LEFT(L33,1)="T",LEFT(L33,1)="S",LEFT(L33,1)="A",LEFT(L33,1)="F",LEFT(L33,1)="C"),LEFT(L33,1),"R"),EM$18),"") -> 3 | EN33: =IFERROR(IF(AND($E34="H",M33<>""),IF(OR(LEFT(M33,1)="T",LEFT(M33,1)="S",LEFT(M33,1)="A",LEFT(M33,1)="F",LEFT(M33,1)="C"),LEFT(M33,1),"R"),EN$18),"") -> 4 | EO33: =IFERROR(IF(AND($E34="H",N33<>""),IF(OR(LEFT(N33,1)="T",LEFT(N33,1)="S",LEFT(N33,1)="A",LEFT(N33,1)="F",LEFT(N33,1)="C"),LEFT(N33,1),"R"),EO$18),"") -> 5 | EP33: =IFERROR(IF(AND($E34="H",O33<>""),IF(OR(LEFT(O33,1)="T",LEFT(O33,1)="S",LEFT(O33,1)="A",LEFT(O33,1)="F",LEFT(O33,1)="C"),LEFT(O33,1),"R"),EP$18),"") -> 6 | EQ33: =IFERROR(IF(AND($E34="H",P33<>""),IF(OR(LEFT(P33,1)="T",LEFT(P33,1)="S",LEFT(P33,1)="A",LEFT(P33,1)="F",LEFT(P33,1)="C"),LEFT(P33,1),"R"),EQ$18),"") -> 7 | ER33: =IFERROR(IF(AND($E34="H",Q33<>""),IF(OR(LEFT(Q33,1)="T",LEFT(Q33,1)="S",LEFT(Q33,1)="A",LEFT(Q33,1)="F",LEFT(Q33,1)="C"),LEFT(Q33,1),"R"),ER$18),"") -> 8 | ES33: =IFERROR(IF(AND($E34="H",R33<>""),IF(OR(LEFT(R33,1)="T",LEFT(R33,1)="S",LEFT(R33,1)="A",LEFT(R33,1)="F",LEFT(R33,1)="C"),LEFT(R33,1),"R"),ES$18),"") -> 9 | ... FN33: =IFERROR(IF(AND($E34="H",AM33<>""),IF(OR(LEFT(AM33,1)="T",LEFT(AM33,1)="S",LEFT(AM33,1)="A",LEFT(AM33,1)="F",LEFT(AM33,1)="C"),LEFT(AM33,1),"R"),FN$18),"") -> 30 | GW33: =COUNTIF($EK33:$FN33,GW$18) -> 0 | GX33: =COUNTIF($EK33:$FN33,GX$18) -> 0 | GY33: =COUNTIF($EK33:$FN33,GY$18) -> 0 | GZ33: =COUNTIF($EK33:$FN33,GZ$18) -> 0 | HA33: =COUNTIF($EK33:$FN33,HA$18) -> 0 | HB33: =COUNTIF($EK33:$FN33,HB$18) -> 0 | HD33: =IF(AND($F33="Hybrid - Thrust + 2 connections",HD34=0,LEFT($J33,1)="C",LEFT($K33,1)="C",LEFT($L33,1)="C"),"X","") | HI33: =IF(E34=3,IF(_xlfn.NUMBERVALUE(LEFT(J33,1))>0,_xlfn.NUMBERVALUE(LEFT(J33,1)),""),"") | HK33: =IF(OR(E34="B",E34="P"),E34,"") | HL33: =IF(AND(J33<>"",HK33<>""),IF(HK33="B",MATCH(J33,AcroDD!$U$3:$AE$3,0),MATCH(J33,AcroDD!$U$30:$AC$30,0)),"") | HM33: =IF(AND(K33<>"",HK33<>""),K33,"") | HN33: =_xlfn.LET(_xlpm.lista,IF(HK33="B",INDEX(AcroDD!$T$4:$AE$23,0,HL33+1),INDEX(AcroDD!$T$31:$AC$50,0,HL33+1)),IF(AND(OR(HK33="B",HK33="P"),HL33<>"",HM33<>""),IF(ISNUMBER(MATCH(HM33,_xlpm.lista,0)),"OK","X"),""))
E34: =IF(F33="Acrobatic - Pair","PA",IF(F33="Acrobatic Airborn","A",IF(F33="Acrobatic Balance","B",IF(F33="Acrobatic Combined","C",IF(F33="Acrobatic Platform","P",IF(F33="Technical Required Element",3,IF(LEFT(F33,4)="Hybr","H",""))))))) | F34: =IF(AND(F33="Hybrid - Thrust + 2 connections",CR33="X"),"Hybrid - Thrust",IF(OR(E34="A",E34="B",E34="C",E34="P"),"Acrobatic","")) | H34: =IF(E34="PA",IF(OR(LEFT(J33,1)="L",LEFT(J33,1)="S"),"A-Pair-Lift",IF(OR(LEFT(J33,1)="W",LEFT(J33,1)="T"),"A-Pair-Throw",IF(LEFT(J33,1)="J","A-Pair-Jump","A-Pair"))),IF(OR(E34="A",E34="B",E34="C",E34="P"),CONCATENATE("Acro-",E34),"")) | I34: =IF(OR(F33="Hybrid - Choreography (DD = 1)",LEFT(F33,5)="Trans"),0,INDEX($BY$3:$BY$9,MATCH(E34,$BX$3:$BX$9,0))) -> #N/A | J34: =IFERROR(IF($H33="No DD",IF(J33="ChoHY",1,0),IF(OR(ISBLANK(J33),J33="N/A"),0,INDEX(INDIRECT(BI34),MATCH(J33,INDIRECT(BI33),0)))),0) -> 0 | K34: =IFERROR(IF($H33="No DD",0,IF(OR(ISBLANK(K33),K33="N/A"),0,INDEX(INDIRECT(BJ34),MATCH(K33,INDIRECT(BJ33),0)))),0) -> 0 | L34: =IFERROR(IF($H33="No DD",0,IF(OR(ISBLANK(L33),L33="N/A"),0,INDEX(INDIRECT(BK34),MATCH(L33,INDIRECT(BK33),0)))),0) -> 0 | M34: =IFERROR(IF($H33="No DD",0,IF(OR(ISBLANK(M33),M33="N/A"),0,INDEX(INDIRECT(BL34),MATCH(M33,INDIRECT(BL33),0)))),0) -> 0 | N34: =IFERROR(IF($H33="No DD",0,IF(OR(ISBLANK(N33),N33="N/A"),0,INDEX(INDIRECT(BM34),MATCH(N33,INDIRECT(BM33),0)))),0) -> 0 | O34: =IFERROR(IF($H33="No DD",0,IF(OR(ISBLANK(O33),O33="N/A"),0,INDEX(INDIRECT(BN34),MATCH(O33,INDIRECT(BN33),0)))),0) -> 0 | P34: =IFERROR(IF($H33="No DD",0,IF(OR(ISBLANK(P33),P33="N/A"),0,INDEX(INDIRECT(BO34),MATCH(P33,INDIRECT(BO33),0)))),0) -> 0 | Q34: =IFERROR(IF($H33="No DD",0,IF(OR(ISBLANK(Q33),Q33="N/A"),0,INDEX(INDIRECT(BP34),MATCH(Q33,INDIRECT(BP33),0)))),0) -> 0 | R34: =IFERROR(IF($H33="No DD",0,IF(OR(ISBLANK(R33),R33="N/A"),0,INDEX(INDIRECT(BQ34),MATCH(R33,INDIRECT(BQ33),0)))),0) -> 0 | ... AM34: =IFERROR(IF($H33="No DD",0,IF(OR(ISBLANK(AM33),AM33="N/A"),0,INDEX(INDIRECT(CL34),MATCH(AM33,INDIRECT(CL33),0)))),0) -> 0 | AN34: =IFERROR(IF(E34="H",INDEX(HybridBonus_Value,MATCH(AN33,HybridBonus_Code,0)),""),"") | AO34: =IFERROR(SUM(I34:AN34),"") | BI34: =IF($E34="H",IF($F33="Hybrid - Thrust + 2 connections","Hybrid_Mix_Req_Value","HybridDD_Value"),IF($E34=3,"TreDD_Value",IF($E34="PA","AcroPair_Value",IF(LEFT($F33,4)="Acro",CONCATENATE(BI$16,$E34,"_Value"),"")))) | BJ34: =IF($E34="H",IF($F33="Hybrid - Thrust + 2 connections","Hybrid_Mix_Req_Value","HybridDD_Value"),IF($E34=3,"TreDD_Value",IF($E34="PA","AcroPair_Value",IF(LEFT($F33,4)="Acro",CONCATENATE(BJ$16,$E34,"_Value"),"")))) | BK34: =IF($E34="H",IF($F33="Hybrid - Thrust + 2 connections","Hybrid_Mix_Req_Value","HybridDD_Value"),IF($E34=3,"TreDD_Value",IF($E34="PA","AcroPair_Value",IF(LEFT($F33,4)="Acro",CONCATENATE(BK$16,$E34,"_Value"),"")))) | BL34: =IF($E34="H",IF($F33="Hybrid - Thrust + 2 connections","Hybrid_Mix_Req_Value","HybridDD_Value"),IF($E34=3,"TreDD_Value",IF($E34="PA","AcroPair_Value",IF(LEFT($F33,4)="Acro",CONCATENATE(BL$16,$E34,"_Value"),"")))) | BM34: =IF($E34="H",IF($F33="Hybrid - Thrust + 2 connections","Hybrid_Mix_Req_Value","HybridDD_Value"),IF($E34=3,"TreDD_Value",IF($E34="PA","AcroPair_Value",IF(LEFT($F33,4)="Acro",CONCATENATE(BM$16,$E34,"_Value"),"")))) | BN34: =IF($E34="H",IF($F33="Hybrid - Thrust + 2 connections","Hybrid_Mix_Req_Value","HybridDD_Value"),IF($E34=3,"TreDD_Value",IF($E34="PA","AcroPair_Value",IF(LEFT($F33,4)="Acro",CONCATENATE(BN$16,$E34,"_Value"),"")))) | BO34: =IF($E34="H",IF($F33="Hybrid - Thrust + 2 connections","Hybrid_Mix_Req_Value","HybridDD_Value"),IF($E34=3,"TreDD_Value",IF($E34="PA","AcroPair_Value",IF(LEFT($F33,4)="Acro",CONCATENATE(BO$16,$E34,"_Value"),"")))) | BP34: =IF($E34="H",IF($F33="Hybrid - Thrust + 2 connections","Hybrid_Mix_Req_Value","HybridDD_Value"),IF($E34=3,"TreDD_Value",IF($E34="PA","AcroPair_Value",IF(LEFT($F33,4)="Acro",CONCATENATE(BP$16,$E34,"_Value"),"")))) | BQ34: =IF($E34="H",IF($F33="Hybrid - Thrust + 2 connections","Hybrid_Mix_Req_Value","HybridDD_Value"),IF($E34=3,"TreDD_Value",IF($E34="PA","AcroPair_Value",IF(LEFT($F33,4)="Acro",CONCATENATE(BQ$16,$E34,"_Value"),"")))) | BR34: =IF($E34="H",IF($F33="Hybrid - Thrust + 2 connections","Data!$BI$1:$BI$5","HybridDD_Value"),"Data!$BI$1:$BI$5") -> Data!$BI$1:$BI$5 | BS34: =IF($E34="H",IF($F33="Hybrid - Thrust + 2 connections","Data!$BI$1:$BI$5","HybridDD_Value"),"Data!$BI$1:$BI$5") -> Data!$BI$1:$BI$5 | BT34: =IF($E34="H",IF($F33="Hybrid - Thrust + 2 connections","Data!$BI$1:$BI$5","HybridDD_Value"),"Data!$BI$1:$BI$5") -> Data!$BI$1:$BI$5 | BU34: =IF($E34="H",IF($F33="Hybrid - Thrust + 2 connections","Data!$BI$1:$BI$5","HybridDD_Value"),"Data!$BI$1:$BI$5") -> Data!$BI$1:$BI$5 | BV34: =IF($E34="H",IF($F33="Hybrid - Thrust + 2 connections","Data!$BI$1:$BI$5","HybridDD_Value"),"Data!$BI$1:$BI$5") -> Data!$BI$1:$BI$5 | BW34: =IF($E34="H",IF($F33="Hybrid - Thrust + 2 connections","Data!$BI$1:$BI$5","HybridDD_Value"),"Data!$BI$1:$BI$5") -> Data!$BI$1:$BI$5 | BX34: =IF($E34="H",IF($F33="Hybrid - Thrust + 2 connections","Data!$BI$1:$BI$5","HybridDD_Value"),"Data!$BI$1:$BI$5") -> Data!$BI$1:$BI$5 | BY34: =IF($E34="H",IF($F33="Hybrid - Thrust + 2 connections","Data!$BI$1:$BI$5","HybridDD_Value"),"Data!$BI$1:$BI$5") -> Data!$BI$1:$BI$5 | ... CL34: =IF($E34="H",IF($F33="Hybrid - Thrust + 2 connections","Data!$BI$1:$BI$5","HybridDD_Value"),"Data!$BI$1:$BI$5") -> Data!$BI$1:$BI$5 | CO34: =IFERROR(IF(AND($BV$6="T",$BV$8="T",LEFT(F33,4)="Acro",AO34>3),"X",IF($N$7="X",IF(AND(E34="C",AO34>$CN$6),"X",IF(AND(E34="A",AO34>$CN$4),"X",IF(AND(E34="B",AO34>$CN$5),"X",IF(AND(E34="P",AO34>$CN$7),"X","")))),"")),"") | DD34: =IF(OR($E35="A",$E35="B",$E35="C",$E35="P"),"Z","") | DE34: =IF(OR($E35="B",$E35="P"),"Z","") | DF34: =IF(OR($E35="A",$E35="C"),"Z","") | DG34: =IF(OR($E35="A",$E35="B",$E35="C",$E35="P"),"Z","") | DO34: 16 | ED34: =IF(AND(EB34<>"",COUNTIF(TeamAcro_P_Bonus,EB34)>1),EB34,"") | EE34: =IF(AND(EC34<>"",COUNTIF(TeamAcro_P_Bonus,EC34)>1),EC34,"") | EI34: {=IFERROR(INDEX(EK34:FN34,MATCH(TRUE,INDEX((EK34:FN34<>""),),0)),"")} | EK34: =IF(F33="Hybrid - Thrust + 2 connections",IF(COUNTIF($EK33:$FN33,EK33)>1,EK33,""),IF(COUNTIF($EK33:$FN33,EK33)>5,EK33,"")) | EL34: =IF(G33="Hybrid - Thrust + 2 connections",IF(COUNTIF($EK33:$FN33,EL33)>1,EL33,""),IF(COUNTIF($EK33:$FN33,EL33)>5,EL33,"")) | EM34: =IF(H33="Hybrid - Thrust + 2 connections",IF(COUNTIF($EK33:$FN33,EM33)>1,EM33,""),IF(COUNTIF($EK33:$FN33,EM33)>5,EM33,"")) | EN34: =IF(I33="Hybrid - Thrust + 2 connections",IF(COUNTIF($EK33:$FN33,EN33)>1,EN33,""),IF(COUNTIF($EK33:$FN33,EN33)>5,EN33,"")) | EO34: =IF(J33="Hybrid - Thrust + 2 connections",IF(COUNTIF($EK33:$FN33,EO33)>1,EO33,""),IF(COUNTIF($EK33:$FN33,EO33)>5,EO33,"")) | EP34: =IF(K33="Hybrid - Thrust + 2 connections",IF(COUNTIF($EK33:$FN33,EP33)>1,EP33,""),IF(COUNTIF($EK33:$FN33,EP33)>5,EP33,"")) | EQ34: =IF(L33="Hybrid - Thrust + 2 connections",IF(COUNTIF($EK33:$FN33,EQ33)>1,EQ33,""),IF(COUNTIF($EK33:$FN33,EQ33)>5,EQ33,"")) | ER34: =IF(M33="Hybrid - Thrust + 2 connections",IF(COUNTIF($EK33:$FN33,ER33)>1,ER33,""),IF(COUNTIF($EK33:$FN33,ER33)>5,ER33,"")) | ... FN34: =IF(AI33="Hybrid - Thrust + 2 connections",IF(COUNTIF($EK33:$FN33,FN33)>1,FN33,""),IF(COUNTIF($EK33:$FN33,FN33)>5,FN33,"")) | FO34: =FO32+5 -> 35 | FP34: {=IF(FQ34<>"",LEFT(FQ34,FIND("*",FQ34)-1),INDEX($FP$75:$FP$172,FO34+1))} | FQ34: {=INDEX($FQ$75:$FQ$172,FO34+1)} | HD34: =IF($F33="Hybrid - Thrust + 2 connections",COUNTBLANK(J33:L33),"")
A35: =IF(AND(E33="",A33<>""),IF(CP33=$CP$18,"",IF(C33<>"",IF(D33=59,MINUTE(CP33)+1,MINUTE(CP33)),"")),"") | B35: =IF(AND(E33="",B33<>""),IF(CP33=$CP$18,"",IF(C33<>"",IF(D33=59,0,SECOND(CP33)+1),"")),"") | G35: =IF(F35<>"",IF(OR(F35="Transition",F35="Transition - Surface Connection"),0,MAX($G$19:G34)+1),"") | H35: =IFERROR(IF(E36="3","",IF(OR(F35="Hybrid - Choreography (DD = 1)",LEFT(F35,5)="Trans"),"No DD",CONCATENATE("BM = ",I36))),"") | AW35: =E36 | AX35: =IF(AY35=0,"",TIME(0,A35,B35)) | AY35: =TIME(0,C35,D35) -> 0 | AZ35: =IFERROR(AY35-AX35,"") | BA35: =IF($AX$17=0,"",IF(AND($C$10<>"",AW35="H",AZ35>$AX$17),"X","")) | BG35: =IFERROR(IF(F35<>"",INDEX(Parts_Active,MATCH(F35,Parts_Active,0)),""),"No") | BI35: =IF($E36="H",IF($F35="Hybrid - Thrust + 2 connections","Hybrid_Mix_Req",IF($F35="Hybrid - Choreography (DD = 1)","Hybrid_ChoHY","HybridDD_Code")),IF($E36=3,"TreDD_Code",IF($E36="PA","AcroPair_Code",IF(LEFT($F35,4)="Acro",CONCATENATE(BI$16,$E36,"_Code"),"Data!$BI$1:$BI$5")))) -> Data!$BI$1:$BI$5 | BJ35: =IF($E36="H",IF($F35="Hybrid - Thrust + 2 connections","Hybrid_Mix_Req",IF($F35="Hybrid - min 4 swimmers (no DD)","Data!$BI$1:$BI$5","HybridDD_Code")),IF($E36=3,"TreDD_Code",IF($E36="PA","AcroPair_Code",IF(LEFT($F35,4)="Acro",CONCATENATE(BJ$16,$E36,"_Code"),"Data!$BI$1:$BI$5")))) -> Data!$BI$1:$BI$5 | BK35: =IF($E36="H",IF($F35="Hybrid - Thrust + 2 connections","Hybrid_Mix_Req",IF($F35="Hybrid - min 4 swimmers (no DD)","Data!$BI$1:$BI$5","HybridDD_Code")),IF($E36=3,"TreDD_Code",IF($E36="PA","AcroPair_Code",IF(LEFT($F35,4)="Acro",CONCATENATE(BK$16,$E36,"_Code"),"Data!$BI$1:$BI$5")))) -> Data!$BI$1:$BI$5 | BL35: =IF($E36="H",IF($F35="Hybrid - Thrust + 2 connections","Hybrid_Mix_Req",IF($F35="Hybrid - min 4 swimmers (no DD)","Data!$BI$1:$BI$5","HybridDD_Code")),IF($E36=3,"TreDD_Code",IF($E36="PA","AcroPair_Code",IF(LEFT($F35,4)="Acro",CONCATENATE(BL$16,$E36,"_Code"),"Data!$BI$1:$BI$5")))) -> Data!$BI$1:$BI$5 | BM35: =IF($E36="H",IF($F35="Hybrid - Thrust + 2 connections","Hybrid_Mix_Req",IF($F35="Hybrid - min 4 swimmers (no DD)","Data!$BI$1:$BI$5","HybridDD_Code")),IF($E36=3,"TreDD_Code",IF($E36="PA","AcroPair_Code",IF(LEFT($F35,4)="Acro",CONCATENATE(BM$16,$E36,"_Code"),"Data!$BI$1:$BI$5")))) -> Data!$BI$1:$BI$5 | BN35: =IF($E36="H",IF($F35="Hybrid - Thrust + 2 connections","Hybrid_Mix_Req",IF($F35="Hybrid - min 4 swimmers (no DD)","Data!$BI$1:$BI$5","HybridDD_Code")),IF($E36=3,"TreDD_Code",IF($E36="PA","AcroPair_Code",IF(LEFT($F35,4)="Acro",CONCATENATE(BN$16,$E36,"_Code"),"Data!$BI$1:$BI$5")))) -> Data!$BI$1:$BI$5 | BO35: =IF($E36="H",IF($F35="Hybrid - Thrust + 2 connections","Hybrid_Mix_Req",IF($F35="Hybrid - min 4 swimmers (no DD)","Data!$BI$1:$BI$5","HybridDD_Code")),IF($E36=3,"TreDD_Code",IF($E36="PA","AcroPair_Code",IF(LEFT($F35,4)="Acro",CONCATENATE(BO$16,$E36,"_Code"),"Data!$BI$1:$BI$5")))) -> Data!$BI$1:$BI$5 | BP35: =IF($E36="H",IF($F35="Hybrid - Thrust + 2 connections","Hybrid_Mix_Req",IF($F35="Hybrid - min 4 swimmers (no DD)","Data!$BI$1:$BI$5","HybridDD_Code")),IF($E36=3,"TreDD_Code",IF($E36="PA","AcroPair_Code",IF(LEFT($F35,4)="Acro",CONCATENATE(BP$16,$E36,"_Code"),"Data!$BI$1:$BI$5")))) -> Data!$BI$1:$BI$5 | BQ35: =IF($E36="H",IF($F35="Hybrid - Thrust + 2 connections","Hybrid_Mix_Req",IF($F35="Hybrid - min 4 swimmers (no DD)","Data!$BI$1:$BI$5","HybridDD_Code")),IF($E36=3,"TreDD_Code",IF($E36="PA","AcroPair_Code",IF(LEFT($F35,4)="Acro",CONCATENATE(BQ$16,$E36,"_Code"),"Data!$BI$1:$BI$5")))) -> Data!$BI$1:$BI$5 | BR35: =IF($E36="H",IF($F35="Hybrid - Thrust + 2 connections","Data!$BI$1:$BI$5","HybridDD_Code"),"Data!$BI$1:$BI$5") -> Data!$BI$1:$BI$5 | BS35: =$BR35 -> Data!$BI$1:$BI$5 | BT35: =$BR35 -> Data!$BI$1:$BI$5 | BU35: =$BR35 -> Data!$BI$1:$BI$5 | BV35: =$BR35 -> Data!$BI$1:$BI$5 | BW35: =$BR35 -> Data!$BI$1:$BI$5 | BX35: =$BR35 -> Data!$BI$1:$BI$5 | BY35: =$BR35 -> Data!$BI$1:$BI$5 | BZ35: =$BR35 -> Data!$BI$1:$BI$5 | ... CL35: =$BR35 -> Data!$BI$1:$BI$5 | CO35: =IFERROR(TIME(0,A35,B35),"") | CP35: =IFERROR(TIME(0,C35,D35),"") -> 0 | CQ35: =IF(CP35>$D$12,"X","") | CR35: =IF(AND(F35="Hybrid - Thrust + 2 connections",OR(LEFT(J35,1)="T",LEFT(K35,1)="T",LEFT(L35,1)="T",LEFT(PB35,1)="T",LEFT(M35,1)="T",LEFT(N35,1)="T",LEFT(O35,1)="T",LEFT(P35,1)="T",LEFT(Q35,1)="T",LEFT(R35,1)="T",LEFT(S35,1)="T",LEFT(T35,1)="T",LEFT(U35,1)="T",LEFT(V35,1)="T",LEFT(W35,1)="T",LEFT(X35,1)="T",LEFT(AK35,1)="T",LEFT(AL35,1)="T",LEFT(AM35,1)="T")),IF(OR(LEN(J35)=2,LEN(K35)=2,LEN(L35)=2,LEN(M35)=2,LEN(N35)=2,LEN(O35)=2,LEN(P35)=2,LEN(Q35)=2,LEN(R35)=2,LEN(S35)=2,LEN(T35)=2,LEN(U35)=2,LEN(V35)=2,LEN(W35)=2,LEN(X35)=2,LEN(Y35)=2,LEN(Z35)=2,LEN(AK35)=2,LEN(AL35)=2,LEN(AM35)=2),"X",""),"") | CT35: =IF(LEFT(F35,4)="Acro",IF(AND(N35<>"",M35=RIGHT(N35,2)),"X","OK"),"") | CU35: =IFERROR(IF(AND(LEFT($F35,4)="Acro",INDEX(Requ_App,MATCH(BI35,Requ_Code,0))="No"),"X",""),"") | CV35: =IFERROR(IF(AND(LEFT($F35,4)="Acro",INDEX(Requ_App,MATCH(BJ35,Requ_Code,0))="No"),"X",""),"") | CW35: =IFERROR(IF(AND(LEFT($F35,4)="Acro",INDEX(Requ_App,MATCH(BK35,Requ_Code,0))="No"),"X",""),"") | CX35: =IFERROR(IF(AND(LEFT($F35,4)="Acro",INDEX(Requ_App,MATCH(BL35,Requ_Code,0))="No"),"X",""),"") | CY35: =IFERROR(IF(AND(LEFT($F35,4)="Acro",INDEX(Requ_App,MATCH(BM35,Requ_Code,0))="No"),"X",""),"") | CZ35: =IFERROR(IF(AND(LEFT($F35,4)="Acro",INDEX(Requ_App,MATCH(BN35,Requ_Code,0))="No"),"X",""),"") | DA35: =IFERROR(IF(AND(LEFT($F35,4)="Acro",INDEX(Requ_App,MATCH(BO35,Requ_Code,0))="No"),"X",""),"") | DB35: =IFERROR(IF(AND(LEFT($F35,4)="Acro",INDEX(Requ_App,MATCH(BP35,Requ_Code,0))="No"),"X",""),"") | DC35: =IFERROR(IF(AND(LEFT($F35,4)="Acro",INDEX(Requ_App,MATCH(BP35,Requ_Code,0))="No"),"X",""),"") | DD35: =IF(OR($E36="A",$E36="B",$E36="C",$E36="P"),"Z","") | DE35: =IF(OR($E36="B",$E36="P"),"Z","") | DF35: =IF(OR($E36="A",$E36="C"),"Z","") | DG35: =IF(OR($E36="A",$E36="B",$E36="C",$E36="P"),"Z","") | DK35: =IF(AND(E36="A",OR(Q35="Grip",Q35="Conn",Q35="Catch")),"A1",IF(AND(E36="A",OR(Q35="Hula",Q35="RetSq",Q35="RetPa")),"A2",IF(AND(E36="B",OR(Q35="Twirl",Q35="RotF")),"B1",IF(AND(E36="B",OR(Q35="Moon",Q35="Mov",Q35="Hold")),"B2",IF(AND(E36="P",OR(Q35="Porp",Q35="Splch")),"P1",IF(AND(E36="P",OR(Q35="Diva",Q35="Stand")),"P2",IF(AND(E36="P",OR(Q35="Spider",Q35="Climb")),"P3",IF(AND(E36="P",OR(Q35="Fall",Q35="FTurn")),"P4",IF(AND(E36="C",OR(Q35="Jump",Q35="Jump>",Q35="On1Foot",Q35="1F>1F")),"C1",IF(AND(E36="C",OR(Q35="Run",Q35="BRun")),"C2",1)))))))))) -> 1 | DL35: =IF(AND(E36="A",OR(R35="Grip",R35="Conn",R35="Catch")),"A1",IF(AND(E36="A",OR(R35="Hula",R35="RetSq",R35="RetPa")),"A2",IF(AND(E36="B",OR(R35="Twirl",R35="RotF")),"B1",IF(AND(E36="B",OR(R35="Moon",R35="Mov",R35="Hold")),"B2",IF(AND(E36="P",OR(R35="Porp",R35="Spich")),"P1",IF(AND(E36="P",OR(R35="Diva",R35="Stand")),"P2",IF(AND(E36="P",OR(R35="Spider",R35="Climb")),"P3",IF(AND(E36="P",OR(R35="Fall",R35="FTurn")),"P4",IF(AND(E36="C",OR(R35="Jump",R35="Jump>",R35="On1Foot",R35="1F>1F")),"C1",IF(AND(E36="C",OR(R35="Run",R35="BRun")),"C2",2)))))))))) -> 2 | DM35: =IF(AND(N35="",OR(Q35<>"",R35<>"")),"X",IF(AND(LEFT(F35,4)="Acro",Q35<>"",OR(Q35=R35,DK35=DL35)),IF(R35="C-Roll","","X"),IF(OR(AND(E36="A",Q35="Catch",R35<>"Dbl"),AND(E36="A",R35="Catch",Q35<>"Dbl")),"X",""))) | DN35: =IF(E36="PA",J35,"") | DO35: 17 | DQ35: =IF(AND($E36="A",COUNTIF($DZ$19:$EA$68,DZ35)>1),DZ35,"") | DR35: =IF(AND($E36="A",COUNTIF($DZ$19:$EA$68,EA35)>1),EA35,"") | DS35: =IF(AND($E36="B",COUNTIF($J$19:$J$68,J35)>1),J35,"") | DT35: =IF(AND($E36="B",COUNTIF($K$19:$K$68,K35)>1),K35,"") | DU35: =IF(AND($E36="C",COUNTIF($J$19:$J$68,J35)>1),J35,"") | DV35: =IF(AND($E36="P",COUNTIF($J$19:$J$68,J35)>1),J35,"") | DW35: =IF(AND($E36="P",COUNTIF($K$19:$K$68,K35)>1),K35,"") | DX35: =IF(AND($E36="P",COUNTIF($DZ$19:$EA$68,DZ35)>1),DZ35,"") | DY35: =IF(AND($E36="P",COUNTIF($DZ$19:$EA$68,EA35)>1),EA35,"") | DZ35: =IFERROR(IF(OR(E36="A",E36="P"),M35,""),"") | EA35: =IFERROR(IF(OR(E36="A",E36="P"),RIGHT(N35,2),""),"") | EB35: =IF(Q35="","",IF(AND($E36="P",COUNTIF($Q$19:$R$68,Q35)>1),Q35,"")) | EC35: =IF(R35="","",IF(AND($E36="P",COUNTIF($Q$19:$R$68,R35)>1),R35,"")) | ED35: =IF(AND(EB35<>"",COUNTIF(TeamAcro_P_Bonus,EB35)>1),EB35,"") | EE35: =IF(AND(EC35<>"",COUNTIF(TeamAcro_P_Bonus,EC35)>1),EC35,"") | EF35: =IF(AND(OR($F$8="Open Team Acrobatic",$F$8="Open Team Technical"),LEFT(F35,4)="Acro"),E36,"") | EG35: =IF(EF35="","",IFERROR(IF($F$8="Open Team Acrobatic",IF(HLOOKUP(EF35,$DQ$12:$DT$13,2,FALSE)>2,"X",""),IF(HLOOKUP(EF35,$DQ$12:$DT$13,2,FALSE)>1,"X","")),"")) | EI35: =IF(OR(AND(F35="Hybrid - Thrust + 2 connections",EI36="T"),AND(E36="H",EI36<>"",EI89="X")),"X","") | EK35: =IFERROR(IF(AND($E36="H",J35<>"",J35<>"ChoHY"),IF(OR(LEFT(J35,1)="T",LEFT(J35,1)="S",LEFT(J35,1)="A",LEFT(J35,1)="F",LEFT(J35,1)="C"),LEFT(J35,1),"R"),EK$18),"") -> 1 | EL35: =IFERROR(IF(AND($E36="H",K35<>""),IF(OR(LEFT(K35,1)="T",LEFT(K35,1)="S",LEFT(K35,1)="A",LEFT(K35,1)="F",LEFT(K35,1)="C"),LEFT(K35,1),"R"),EL$18),"") -> 2 | EM35: =IFERROR(IF(AND($E36="H",L35<>""),IF(OR(LEFT(L35,1)="T",LEFT(L35,1)="S",LEFT(L35,1)="A",LEFT(L35,1)="F",LEFT(L35,1)="C"),LEFT(L35,1),"R"),EM$18),"") -> 3 | EN35: =IFERROR(IF(AND($E36="H",M35<>""),IF(OR(LEFT(M35,1)="T",LEFT(M35,1)="S",LEFT(M35,1)="A",LEFT(M35,1)="F",LEFT(M35,1)="C"),LEFT(M35,1),"R"),EN$18),"") -> 4 | EO35: =IFERROR(IF(AND($E36="H",N35<>""),IF(OR(LEFT(N35,1)="T",LEFT(N35,1)="S",LEFT(N35,1)="A",LEFT(N35,1)="F",LEFT(N35,1)="C"),LEFT(N35,1),"R"),EO$18),"") -> 5 | EP35: =IFERROR(IF(AND($E36="H",O35<>""),IF(OR(LEFT(O35,1)="T",LEFT(O35,1)="S",LEFT(O35,1)="A",LEFT(O35,1)="F",LEFT(O35,1)="C"),LEFT(O35,1),"R"),EP$18),"") -> 6 | EQ35: =IFERROR(IF(AND($E36="H",P35<>""),IF(OR(LEFT(P35,1)="T",LEFT(P35,1)="S",LEFT(P35,1)="A",LEFT(P35,1)="F",LEFT(P35,1)="C"),LEFT(P35,1),"R"),EQ$18),"") -> 7 | ER35: =IFERROR(IF(AND($E36="H",Q35<>""),IF(OR(LEFT(Q35,1)="T",LEFT(Q35,1)="S",LEFT(Q35,1)="A",LEFT(Q35,1)="F",LEFT(Q35,1)="C"),LEFT(Q35,1),"R"),ER$18),"") -> 8 | ES35: =IFERROR(IF(AND($E36="H",R35<>""),IF(OR(LEFT(R35,1)="T",LEFT(R35,1)="S",LEFT(R35,1)="A",LEFT(R35,1)="F",LEFT(R35,1)="C"),LEFT(R35,1),"R"),ES$18),"") -> 9 | ... FN35: =IFERROR(IF(AND($E36="H",AM35<>""),IF(OR(LEFT(AM35,1)="T",LEFT(AM35,1)="S",LEFT(AM35,1)="A",LEFT(AM35,1)="F",LEFT(AM35,1)="C"),LEFT(AM35,1),"R"),FN$18),"") -> 30 | GW35: =COUNTIF($EK35:$FN35,GW$18) -> 0 | GX35: =COUNTIF($EK35:$FN35,GX$18) -> 0 | GY35: =COUNTIF($EK35:$FN35,GY$18) -> 0 | GZ35: =COUNTIF($EK35:$FN35,GZ$18) -> 0 | HA35: =COUNTIF($EK35:$FN35,HA$18) -> 0 | HB35: =COUNTIF($EK35:$FN35,HB$18) -> 0 | HD35: =IF(AND($F35="Hybrid - Thrust + 2 connections",HD36=0,LEFT($J35,1)="C",LEFT($K35,1)="C",LEFT($L35,1)="C"),"X","") | HI35: =IF(E36=3,IF(_xlfn.NUMBERVALUE(LEFT(J35,1))>0,_xlfn.NUMBERVALUE(LEFT(J35,1)),""),"") | HK35: =IF(OR(E36="B",E36="P"),E36,"") | HL35: =IF(AND(J35<>"",HK35<>""),IF(HK35="B",MATCH(J35,AcroDD!$U$3:$AE$3,0),MATCH(J35,AcroDD!$U$30:$AC$30,0)),"") | HM35: =IF(AND(K35<>"",HK35<>""),K35,"") | HN35: =_xlfn.LET(_xlpm.lista,IF(HK35="B",INDEX(AcroDD!$T$4:$AE$23,0,HL35+1),INDEX(AcroDD!$T$31:$AC$50,0,HL35+1)),IF(AND(OR(HK35="B",HK35="P"),HL35<>"",HM35<>""),IF(ISNUMBER(MATCH(HM35,_xlpm.lista,0)),"OK","X"),""))
E36: =IF(F35="Acrobatic - Pair","PA",IF(F35="Acrobatic Airborn","A",IF(F35="Acrobatic Balance","B",IF(F35="Acrobatic Combined","C",IF(F35="Acrobatic Platform","P",IF(F35="Technical Required Element",3,IF(LEFT(F35,4)="Hybr","H",""))))))) | F36: =IF(AND(F35="Hybrid - Thrust + 2 connections",CR35="X"),"Hybrid - Thrust",IF(OR(E36="A",E36="B",E36="C",E36="P"),"Acrobatic","")) | H36: =IF(E36="PA",IF(OR(LEFT(J35,1)="L",LEFT(J35,1)="S"),"A-Pair-Lift",IF(OR(LEFT(J35,1)="W",LEFT(J35,1)="T"),"A-Pair-Throw",IF(LEFT(J35,1)="J","A-Pair-Jump","A-Pair"))),IF(OR(E36="A",E36="B",E36="C",E36="P"),CONCATENATE("Acro-",E36),"")) | I36: =IF(OR(F35="Hybrid - Choreography (DD = 1)",LEFT(F35,5)="Trans"),0,INDEX($BY$3:$BY$9,MATCH(E36,$BX$3:$BX$9,0))) -> #N/A | J36: =IFERROR(IF($H35="No DD",IF(J35="ChoHY",1,0),IF(OR(ISBLANK(J35),J35="N/A"),0,INDEX(INDIRECT(BI36),MATCH(J35,INDIRECT(BI35),0)))),0) -> 0 | K36: =IFERROR(IF($H35="No DD",0,IF(OR(ISBLANK(K35),K35="N/A"),0,INDEX(INDIRECT(BJ36),MATCH(K35,INDIRECT(BJ35),0)))),0) -> 0 | L36: =IFERROR(IF($H35="No DD",0,IF(OR(ISBLANK(L35),L35="N/A"),0,INDEX(INDIRECT(BK36),MATCH(L35,INDIRECT(BK35),0)))),0) -> 0 | M36: =IFERROR(IF($H35="No DD",0,IF(OR(ISBLANK(M35),M35="N/A"),0,INDEX(INDIRECT(BL36),MATCH(M35,INDIRECT(BL35),0)))),0) -> 0 | N36: =IFERROR(IF($H35="No DD",0,IF(OR(ISBLANK(N35),N35="N/A"),0,INDEX(INDIRECT(BM36),MATCH(N35,INDIRECT(BM35),0)))),0) -> 0 | O36: =IFERROR(IF($H35="No DD",0,IF(OR(ISBLANK(O35),O35="N/A"),0,INDEX(INDIRECT(BN36),MATCH(O35,INDIRECT(BN35),0)))),0) -> 0 | P36: =IFERROR(IF($H35="No DD",0,IF(OR(ISBLANK(P35),P35="N/A"),0,INDEX(INDIRECT(BO36),MATCH(P35,INDIRECT(BO35),0)))),0) -> 0 | Q36: =IFERROR(IF($H35="No DD",0,IF(OR(ISBLANK(Q35),Q35="N/A"),0,INDEX(INDIRECT(BP36),MATCH(Q35,INDIRECT(BP35),0)))),0) -> 0 | R36: =IFERROR(IF($H35="No DD",0,IF(OR(ISBLANK(R35),R35="N/A"),0,INDEX(INDIRECT(BQ36),MATCH(R35,INDIRECT(BQ35),0)))),0) -> 0 | ... AM36: =IFERROR(IF($H35="No DD",0,IF(OR(ISBLANK(AM35),AM35="N/A"),0,INDEX(INDIRECT(CL36),MATCH(AM35,INDIRECT(CL35),0)))),0) -> 0 | AN36: =IFERROR(IF(E36="H",INDEX(HybridBonus_Value,MATCH(AN35,HybridBonus_Code,0)),""),"") | AO36: =IFERROR(SUM(I36:AN36),"") | BI36: =IF($E36="H",IF($F35="Hybrid - Thrust + 2 connections","Hybrid_Mix_Req_Value","HybridDD_Value"),IF($E36=3,"TreDD_Value",IF($E36="PA","AcroPair_Value",IF(LEFT($F35,4)="Acro",CONCATENATE(BI$16,$E36,"_Value"),"")))) | BJ36: =IF($E36="H",IF($F35="Hybrid - Thrust + 2 connections","Hybrid_Mix_Req_Value","HybridDD_Value"),IF($E36=3,"TreDD_Value",IF($E36="PA","AcroPair_Value",IF(LEFT($F35,4)="Acro",CONCATENATE(BJ$16,$E36,"_Value"),"")))) | BK36: =IF($E36="H",IF($F35="Hybrid - Thrust + 2 connections","Hybrid_Mix_Req_Value","HybridDD_Value"),IF($E36=3,"TreDD_Value",IF($E36="PA","AcroPair_Value",IF(LEFT($F35,4)="Acro",CONCATENATE(BK$16,$E36,"_Value"),"")))) | BL36: =IF($E36="H",IF($F35="Hybrid - Thrust + 2 connections","Hybrid_Mix_Req_Value","HybridDD_Value"),IF($E36=3,"TreDD_Value",IF($E36="PA","AcroPair_Value",IF(LEFT($F35,4)="Acro",CONCATENATE(BL$16,$E36,"_Value"),"")))) | BM36: =IF($E36="H",IF($F35="Hybrid - Thrust + 2 connections","Hybrid_Mix_Req_Value","HybridDD_Value"),IF($E36=3,"TreDD_Value",IF($E36="PA","AcroPair_Value",IF(LEFT($F35,4)="Acro",CONCATENATE(BM$16,$E36,"_Value"),"")))) | BN36: =IF($E36="H",IF($F35="Hybrid - Thrust + 2 connections","Hybrid_Mix_Req_Value","HybridDD_Value"),IF($E36=3,"TreDD_Value",IF($E36="PA","AcroPair_Value",IF(LEFT($F35,4)="Acro",CONCATENATE(BN$16,$E36,"_Value"),"")))) | BO36: =IF($E36="H",IF($F35="Hybrid - Thrust + 2 connections","Hybrid_Mix_Req_Value","HybridDD_Value"),IF($E36=3,"TreDD_Value",IF($E36="PA","AcroPair_Value",IF(LEFT($F35,4)="Acro",CONCATENATE(BO$16,$E36,"_Value"),"")))) | BP36: =IF($E36="H",IF($F35="Hybrid - Thrust + 2 connections","Hybrid_Mix_Req_Value","HybridDD_Value"),IF($E36=3,"TreDD_Value",IF($E36="PA","AcroPair_Value",IF(LEFT($F35,4)="Acro",CONCATENATE(BP$16,$E36,"_Value"),"")))) | BQ36: =IF($E36="H",IF($F35="Hybrid - Thrust + 2 connections","Hybrid_Mix_Req_Value","HybridDD_Value"),IF($E36=3,"TreDD_Value",IF($E36="PA","AcroPair_Value",IF(LEFT($F35,4)="Acro",CONCATENATE(BQ$16,$E36,"_Value"),"")))) | BR36: =IF($E36="H",IF($F35="Hybrid - Thrust + 2 connections","Data!$BI$1:$BI$5","HybridDD_Value"),"Data!$BI$1:$BI$5") -> Data!$BI$1:$BI$5 | BS36: =IF($E36="H",IF($F35="Hybrid - Thrust + 2 connections","Data!$BI$1:$BI$5","HybridDD_Value"),"Data!$BI$1:$BI$5") -> Data!$BI$1:$BI$5 | BT36: =IF($E36="H",IF($F35="Hybrid - Thrust + 2 connections","Data!$BI$1:$BI$5","HybridDD_Value"),"Data!$BI$1:$BI$5") -> Data!$BI$1:$BI$5 | BU36: =IF($E36="H",IF($F35="Hybrid - Thrust + 2 connections","Data!$BI$1:$BI$5","HybridDD_Value"),"Data!$BI$1:$BI$5") -> Data!$BI$1:$BI$5 | BV36: =IF($E36="H",IF($F35="Hybrid - Thrust + 2 connections","Data!$BI$1:$BI$5","HybridDD_Value"),"Data!$BI$1:$BI$5") -> Data!$BI$1:$BI$5 | BW36: =IF($E36="H",IF($F35="Hybrid - Thrust + 2 connections","Data!$BI$1:$BI$5","HybridDD_Value"),"Data!$BI$1:$BI$5") -> Data!$BI$1:$BI$5 | BX36: =IF($E36="H",IF($F35="Hybrid - Thrust + 2 connections","Data!$BI$1:$BI$5","HybridDD_Value"),"Data!$BI$1:$BI$5") -> Data!$BI$1:$BI$5 | BY36: =IF($E36="H",IF($F35="Hybrid - Thrust + 2 connections","Data!$BI$1:$BI$5","HybridDD_Value"),"Data!$BI$1:$BI$5") -> Data!$BI$1:$BI$5 | ... CL36: =IF($E36="H",IF($F35="Hybrid - Thrust + 2 connections","Data!$BI$1:$BI$5","HybridDD_Value"),"Data!$BI$1:$BI$5") -> Data!$BI$1:$BI$5 | CO36: =IFERROR(IF(AND($BV$6="T",$BV$8="T",LEFT(F35,4)="Acro",AO36>3),"X",IF($N$7="X",IF(AND(E36="C",AO36>$CN$6),"X",IF(AND(E36="A",AO36>$CN$4),"X",IF(AND(E36="B",AO36>$CN$5),"X",IF(AND(E36="P",AO36>$CN$7),"X","")))),"")),"") | DD36: =IF(OR($E37="A",$E37="B",$E37="C",$E37="P"),"Z","") | DE36: =IF(OR($E37="B",$E37="P"),"Z","") | DF36: =IF(OR($E37="A",$E37="C"),"Z","") | DG36: =IF(OR($E37="A",$E37="B",$E37="C",$E37="P"),"Z","") | DO36: 18 | ED36: =IF(AND(EB36<>"",COUNTIF(TeamAcro_P_Bonus,EB36)>1),EB36,"") | EE36: =IF(AND(EC36<>"",COUNTIF(TeamAcro_P_Bonus,EC36)>1),EC36,"") | EI36: {=IFERROR(INDEX(EK36:FN36,MATCH(TRUE,INDEX((EK36:FN36<>""),),0)),"")} | EK36: =IF(F35="Hybrid - Thrust + 2 connections",IF(COUNTIF($EK35:$FN35,EK35)>1,EK35,""),IF(COUNTIF($EK35:$FN35,EK35)>5,EK35,"")) | EL36: =IF(G35="Hybrid - Thrust + 2 connections",IF(COUNTIF($EK35:$FN35,EL35)>1,EL35,""),IF(COUNTIF($EK35:$FN35,EL35)>5,EL35,"")) | EM36: =IF(H35="Hybrid - Thrust + 2 connections",IF(COUNTIF($EK35:$FN35,EM35)>1,EM35,""),IF(COUNTIF($EK35:$FN35,EM35)>5,EM35,"")) | EN36: =IF(I35="Hybrid - Thrust + 2 connections",IF(COUNTIF($EK35:$FN35,EN35)>1,EN35,""),IF(COUNTIF($EK35:$FN35,EN35)>5,EN35,"")) | EO36: =IF(J35="Hybrid - Thrust + 2 connections",IF(COUNTIF($EK35:$FN35,EO35)>1,EO35,""),IF(COUNTIF($EK35:$FN35,EO35)>5,EO35,"")) | EP36: =IF(K35="Hybrid - Thrust + 2 connections",IF(COUNTIF($EK35:$FN35,EP35)>1,EP35,""),IF(COUNTIF($EK35:$FN35,EP35)>5,EP35,"")) | EQ36: =IF(L35="Hybrid - Thrust + 2 connections",IF(COUNTIF($EK35:$FN35,EQ35)>1,EQ35,""),IF(COUNTIF($EK35:$FN35,EQ35)>5,EQ35,"")) | ER36: =IF(M35="Hybrid - Thrust + 2 connections",IF(COUNTIF($EK35:$FN35,ER35)>1,ER35,""),IF(COUNTIF($EK35:$FN35,ER35)>5,ER35,"")) | ... FN36: =IF(AI35="Hybrid - Thrust + 2 connections",IF(COUNTIF($EK35:$FN35,FN35)>1,FN35,""),IF(COUNTIF($EK35:$FN35,FN35)>5,FN35,"")) | FO36: =FO34+5 -> 40 | FP36: {=IF(FQ36<>"",LEFT(FQ36,FIND("*",FQ36)-1),INDEX($FP$75:$FP$172,FO36+1))} | FQ36: {=INDEX($FQ$75:$FQ$172,FO36+1)} | HD36: =IF($F35="Hybrid - Thrust + 2 connections",COUNTBLANK(J35:L35),"")
A37: =IF(AND(E35="",A35<>""),IF(CP35=$CP$18,"",IF(C35<>"",IF(D35=59,MINUTE(CP35)+1,MINUTE(CP35)),"")),"") | B37: =IF(AND(E35="",B35<>""),IF(CP35=$CP$18,"",IF(C35<>"",IF(D35=59,0,SECOND(CP35)+1),"")),"") | G37: =IF(F37<>"",IF(OR(F37="Transition",F37="Transition - Surface Connection"),0,MAX($G$19:G36)+1),"") | H37: =IFERROR(IF(E38="3","",IF(OR(F37="Hybrid - Choreography (DD = 1)",LEFT(F37,5)="Trans"),"No DD",CONCATENATE("BM = ",I38))),"") | AW37: =E38 | AX37: =IF(AY37=0,"",TIME(0,A37,B37)) | AY37: =TIME(0,C37,D37) -> 0 | AZ37: =IFERROR(AY37-AX37,"") | BA37: =IF($AX$17=0,"",IF(AND($C$10<>"",AW37="H",AZ37>$AX$17),"X","")) | BG37: =IFERROR(IF(F37<>"",INDEX(Parts_Active,MATCH(F37,Parts_Active,0)),""),"No") | BI37: =IF($E38="H",IF($F37="Hybrid - Thrust + 2 connections","Hybrid_Mix_Req",IF($F37="Hybrid - Choreography (DD = 1)","Hybrid_ChoHY","HybridDD_Code")),IF($E38=3,"TreDD_Code",IF($E38="PA","AcroPair_Code",IF(LEFT($F37,4)="Acro",CONCATENATE(BI$16,$E38,"_Code"),"Data!$BI$1:$BI$5")))) -> Data!$BI$1:$BI$5 | BJ37: =IF($E38="H",IF($F37="Hybrid - Thrust + 2 connections","Hybrid_Mix_Req",IF($F37="Hybrid - min 4 swimmers (no DD)","Data!$BI$1:$BI$5","HybridDD_Code")),IF($E38=3,"TreDD_Code",IF($E38="PA","AcroPair_Code",IF(LEFT($F37,4)="Acro",CONCATENATE(BJ$16,$E38,"_Code"),"Data!$BI$1:$BI$5")))) -> Data!$BI$1:$BI$5 | BK37: =IF($E38="H",IF($F37="Hybrid - Thrust + 2 connections","Hybrid_Mix_Req",IF($F37="Hybrid - min 4 swimmers (no DD)","Data!$BI$1:$BI$5","HybridDD_Code")),IF($E38=3,"TreDD_Code",IF($E38="PA","AcroPair_Code",IF(LEFT($F37,4)="Acro",CONCATENATE(BK$16,$E38,"_Code"),"Data!$BI$1:$BI$5")))) -> Data!$BI$1:$BI$5 | BL37: =IF($E38="H",IF($F37="Hybrid - Thrust + 2 connections","Hybrid_Mix_Req",IF($F37="Hybrid - min 4 swimmers (no DD)","Data!$BI$1:$BI$5","HybridDD_Code")),IF($E38=3,"TreDD_Code",IF($E38="PA","AcroPair_Code",IF(LEFT($F37,4)="Acro",CONCATENATE(BL$16,$E38,"_Code"),"Data!$BI$1:$BI$5")))) -> Data!$BI$1:$BI$5 | BM37: =IF($E38="H",IF($F37="Hybrid - Thrust + 2 connections","Hybrid_Mix_Req",IF($F37="Hybrid - min 4 swimmers (no DD)","Data!$BI$1:$BI$5","HybridDD_Code")),IF($E38=3,"TreDD_Code",IF($E38="PA","AcroPair_Code",IF(LEFT($F37,4)="Acro",CONCATENATE(BM$16,$E38,"_Code"),"Data!$BI$1:$BI$5")))) -> Data!$BI$1:$BI$5 | BN37: =IF($E38="H",IF($F37="Hybrid - Thrust + 2 connections","Hybrid_Mix_Req",IF($F37="Hybrid - min 4 swimmers (no DD)","Data!$BI$1:$BI$5","HybridDD_Code")),IF($E38=3,"TreDD_Code",IF($E38="PA","AcroPair_Code",IF(LEFT($F37,4)="Acro",CONCATENATE(BN$16,$E38,"_Code"),"Data!$BI$1:$BI$5")))) -> Data!$BI$1:$BI$5 | BO37: =IF($E38="H",IF($F37="Hybrid - Thrust + 2 connections","Hybrid_Mix_Req",IF($F37="Hybrid - min 4 swimmers (no DD)","Data!$BI$1:$BI$5","HybridDD_Code")),IF($E38=3,"TreDD_Code",IF($E38="PA","AcroPair_Code",IF(LEFT($F37,4)="Acro",CONCATENATE(BO$16,$E38,"_Code"),"Data!$BI$1:$BI$5")))) -> Data!$BI$1:$BI$5 | BP37: =IF($E38="H",IF($F37="Hybrid - Thrust + 2 connections","Hybrid_Mix_Req",IF($F37="Hybrid - min 4 swimmers (no DD)","Data!$BI$1:$BI$5","HybridDD_Code")),IF($E38=3,"TreDD_Code",IF($E38="PA","AcroPair_Code",IF(LEFT($F37,4)="Acro",CONCATENATE(BP$16,$E38,"_Code"),"Data!$BI$1:$BI$5")))) -> Data!$BI$1:$BI$5 | BQ37: =IF($E38="H",IF($F37="Hybrid - Thrust + 2 connections","Hybrid_Mix_Req",IF($F37="Hybrid - min 4 swimmers (no DD)","Data!$BI$1:$BI$5","HybridDD_Code")),IF($E38=3,"TreDD_Code",IF($E38="PA","AcroPair_Code",IF(LEFT($F37,4)="Acro",CONCATENATE(BQ$16,$E38,"_Code"),"Data!$BI$1:$BI$5")))) -> Data!$BI$1:$BI$5 | BR37: =IF($E38="H",IF($F37="Hybrid - Thrust + 2 connections","Data!$BI$1:$BI$5","HybridDD_Code"),"Data!$BI$1:$BI$5") -> Data!$BI$1:$BI$5 | BS37: =$BR37 -> Data!$BI$1:$BI$5 | BT37: =$BR37 -> Data!$BI$1:$BI$5 | BU37: =$BR37 -> Data!$BI$1:$BI$5 | BV37: =$BR37 -> Data!$BI$1:$BI$5 | BW37: =$BR37 -> Data!$BI$1:$BI$5 | BX37: =$BR37 -> Data!$BI$1:$BI$5 | BY37: =$BR37 -> Data!$BI$1:$BI$5 | BZ37: =$BR37 -> Data!$BI$1:$BI$5 | ... CL37: =$BR37 -> Data!$BI$1:$BI$5 | CO37: =IFERROR(TIME(0,A37,B37),"") | CP37: =IFERROR(TIME(0,C37,D37),"") -> 0 | CQ37: =IF(CP37>$D$12,"X","") | CR37: =IF(AND(F37="Hybrid - Thrust + 2 connections",OR(LEFT(J37,1)="T",LEFT(K37,1)="T",LEFT(L37,1)="T",LEFT(PB37,1)="T",LEFT(M37,1)="T",LEFT(N37,1)="T",LEFT(O37,1)="T",LEFT(P37,1)="T",LEFT(Q37,1)="T",LEFT(R37,1)="T",LEFT(S37,1)="T",LEFT(T37,1)="T",LEFT(U37,1)="T",LEFT(V37,1)="T",LEFT(W37,1)="T",LEFT(X37,1)="T",LEFT(AK37,1)="T",LEFT(AL37,1)="T",LEFT(AM37,1)="T")),IF(OR(LEN(J37)=2,LEN(K37)=2,LEN(L37)=2,LEN(M37)=2,LEN(N37)=2,LEN(O37)=2,LEN(P37)=2,LEN(Q37)=2,LEN(R37)=2,LEN(S37)=2,LEN(T37)=2,LEN(U37)=2,LEN(V37)=2,LEN(W37)=2,LEN(X37)=2,LEN(Y37)=2,LEN(Z37)=2,LEN(AK37)=2,LEN(AL37)=2,LEN(AM37)=2),"X",""),"") | CT37: =IF(LEFT(F37,4)="Acro",IF(AND(N37<>"",M37=RIGHT(N37,2)),"X","OK"),"") | CU37: =IFERROR(IF(AND(LEFT($F37,4)="Acro",INDEX(Requ_App,MATCH(BI37,Requ_Code,0))="No"),"X",""),"") | CV37: =IFERROR(IF(AND(LEFT($F37,4)="Acro",INDEX(Requ_App,MATCH(BJ37,Requ_Code,0))="No"),"X",""),"") | CW37: =IFERROR(IF(AND(LEFT($F37,4)="Acro",INDEX(Requ_App,MATCH(BK37,Requ_Code,0))="No"),"X",""),"") | CX37: =IFERROR(IF(AND(LEFT($F37,4)="Acro",INDEX(Requ_App,MATCH(BL37,Requ_Code,0))="No"),"X",""),"") | CY37: =IFERROR(IF(AND(LEFT($F37,4)="Acro",INDEX(Requ_App,MATCH(BM37,Requ_Code,0))="No"),"X",""),"") | CZ37: =IFERROR(IF(AND(LEFT($F37,4)="Acro",INDEX(Requ_App,MATCH(BN37,Requ_Code,0))="No"),"X",""),"") | DA37: =IFERROR(IF(AND(LEFT($F37,4)="Acro",INDEX(Requ_App,MATCH(BO37,Requ_Code,0))="No"),"X",""),"") | DB37: =IFERROR(IF(AND(LEFT($F37,4)="Acro",INDEX(Requ_App,MATCH(BP37,Requ_Code,0))="No"),"X",""),"") | DC37: =IFERROR(IF(AND(LEFT($F37,4)="Acro",INDEX(Requ_App,MATCH(BP37,Requ_Code,0))="No"),"X",""),"") | DD37: =IF(OR($E38="A",$E38="B",$E38="C",$E38="P"),"Z","") | DE37: =IF(OR($E38="B",$E38="P"),"Z","") | DF37: =IF(OR($E38="A",$E38="C"),"Z","") | DG37: =IF(OR($E38="A",$E38="B",$E38="C",$E38="P"),"Z","") | DK37: =IF(AND(E38="A",OR(Q37="Grip",Q37="Conn",Q37="Catch")),"A1",IF(AND(E38="A",OR(Q37="Hula",Q37="RetSq",Q37="RetPa")),"A2",IF(AND(E38="B",OR(Q37="Twirl",Q37="RotF")),"B1",IF(AND(E38="B",OR(Q37="Moon",Q37="Mov",Q37="Hold")),"B2",IF(AND(E38="P",OR(Q37="Porp",Q37="Splch")),"P1",IF(AND(E38="P",OR(Q37="Diva",Q37="Stand")),"P2",IF(AND(E38="P",OR(Q37="Spider",Q37="Climb")),"P3",IF(AND(E38="P",OR(Q37="Fall",Q37="FTurn")),"P4",IF(AND(E38="C",OR(Q37="Jump",Q37="Jump>",Q37="On1Foot",Q37="1F>1F")),"C1",IF(AND(E38="C",OR(Q37="Run",Q37="BRun")),"C2",1)))))))))) -> 1 | DL37: =IF(AND(E38="A",OR(R37="Grip",R37="Conn",R37="Catch")),"A1",IF(AND(E38="A",OR(R37="Hula",R37="RetSq",R37="RetPa")),"A2",IF(AND(E38="B",OR(R37="Twirl",R37="RotF")),"B1",IF(AND(E38="B",OR(R37="Moon",R37="Mov",R37="Hold")),"B2",IF(AND(E38="P",OR(R37="Porp",R37="Spich")),"P1",IF(AND(E38="P",OR(R37="Diva",R37="Stand")),"P2",IF(AND(E38="P",OR(R37="Spider",R37="Climb")),"P3",IF(AND(E38="P",OR(R37="Fall",R37="FTurn")),"P4",IF(AND(E38="C",OR(R37="Jump",R37="Jump>",R37="On1Foot",R37="1F>1F")),"C1",IF(AND(E38="C",OR(R37="Run",R37="BRun")),"C2",2)))))))))) -> 2 | DM37: =IF(AND(N37="",OR(Q37<>"",R37<>"")),"X",IF(AND(LEFT(F37,4)="Acro",Q37<>"",OR(Q37=R37,DK37=DL37)),IF(R37="C-Roll","","X"),IF(OR(AND(E38="A",Q37="Catch",R37<>"Dbl"),AND(E38="A",R37="Catch",Q37<>"Dbl")),"X",""))) | DN37: =IF(E38="PA",J37,"") | DO37: 19 | DQ37: =IF(AND($E38="A",COUNTIF($DZ$19:$EA$68,DZ37)>1),DZ37,"") | DR37: =IF(AND($E38="A",COUNTIF($DZ$19:$EA$68,EA37)>1),EA37,"") | DS37: =IF(AND($E38="B",COUNTIF($J$19:$J$68,J37)>1),J37,"") | DT37: =IF(AND($E38="B",COUNTIF($K$19:$K$68,K37)>1),K37,"") | DU37: =IF(AND($E38="C",COUNTIF($J$19:$J$68,J37)>1),J37,"") | DV37: =IF(AND($E38="P",COUNTIF($J$19:$J$68,J37)>1),J37,"") | DW37: =IF(AND($E38="P",COUNTIF($K$19:$K$68,K37)>1),K37,"") | DX37: =IF(AND($E38="P",COUNTIF($DZ$19:$EA$68,DZ37)>1),DZ37,"") | DY37: =IF(AND($E38="P",COUNTIF($DZ$19:$EA$68,EA37)>1),EA37,"") | DZ37: =IFERROR(IF(OR(E38="A",E38="P"),M37,""),"") | EA37: =IFERROR(IF(OR(E38="A",E38="P"),RIGHT(N37,2),""),"") | EB37: =IF(Q37="","",IF(AND($E38="P",COUNTIF($Q$19:$R$68,Q37)>1),Q37,"")) | EC37: =IF(R37="","",IF(AND($E38="P",COUNTIF($Q$19:$R$68,R37)>1),R37,"")) | ED37: =IF(AND(EB37<>"",COUNTIF(TeamAcro_P_Bonus,EB37)>1),EB37,"") | EE37: =IF(AND(EC37<>"",COUNTIF(TeamAcro_P_Bonus,EC37)>1),EC37,"") | EF37: =IF(AND(OR($F$8="Open Team Acrobatic",$F$8="Open Team Technical"),LEFT(F37,4)="Acro"),E38,"") | EG37: =IF(EF37="","",IFERROR(IF($F$8="Open Team Acrobatic",IF(HLOOKUP(EF37,$DQ$12:$DT$13,2,FALSE)>2,"X",""),IF(HLOOKUP(EF37,$DQ$12:$DT$13,2,FALSE)>1,"X","")),"")) | EI37: =IF(OR(AND(F37="Hybrid - Thrust + 2 connections",EI38="T"),AND(E38="H",EI38<>"",EI91="X")),"X","") | EK37: =IFERROR(IF(AND($E38="H",J37<>"",J37<>"ChoHY"),IF(OR(LEFT(J37,1)="T",LEFT(J37,1)="S",LEFT(J37,1)="A",LEFT(J37,1)="F",LEFT(J37,1)="C"),LEFT(J37,1),"R"),EK$18),"") -> 1 | EL37: =IFERROR(IF(AND($E38="H",K37<>""),IF(OR(LEFT(K37,1)="T",LEFT(K37,1)="S",LEFT(K37,1)="A",LEFT(K37,1)="F",LEFT(K37,1)="C"),LEFT(K37,1),"R"),EL$18),"") -> 2 | EM37: =IFERROR(IF(AND($E38="H",L37<>""),IF(OR(LEFT(L37,1)="T",LEFT(L37,1)="S",LEFT(L37,1)="A",LEFT(L37,1)="F",LEFT(L37,1)="C"),LEFT(L37,1),"R"),EM$18),"") -> 3 | EN37: =IFERROR(IF(AND($E38="H",M37<>""),IF(OR(LEFT(M37,1)="T",LEFT(M37,1)="S",LEFT(M37,1)="A",LEFT(M37,1)="F",LEFT(M37,1)="C"),LEFT(M37,1),"R"),EN$18),"") -> 4 | EO37: =IFERROR(IF(AND($E38="H",N37<>""),IF(OR(LEFT(N37,1)="T",LEFT(N37,1)="S",LEFT(N37,1)="A",LEFT(N37,1)="F",LEFT(N37,1)="C"),LEFT(N37,1),"R"),EO$18),"") -> 5 | EP37: =IFERROR(IF(AND($E38="H",O37<>""),IF(OR(LEFT(O37,1)="T",LEFT(O37,1)="S",LEFT(O37,1)="A",LEFT(O37,1)="F",LEFT(O37,1)="C"),LEFT(O37,1),"R"),EP$18),"") -> 6 | EQ37: =IFERROR(IF(AND($E38="H",P37<>""),IF(OR(LEFT(P37,1)="T",LEFT(P37,1)="S",LEFT(P37,1)="A",LEFT(P37,1)="F",LEFT(P37,1)="C"),LEFT(P37,1),"R"),EQ$18),"") -> 7 | ER37: =IFERROR(IF(AND($E38="H",Q37<>""),IF(OR(LEFT(Q37,1)="T",LEFT(Q37,1)="S",LEFT(Q37,1)="A",LEFT(Q37,1)="F",LEFT(Q37,1)="C"),LEFT(Q37,1),"R"),ER$18),"") -> 8 | ES37: =IFERROR(IF(AND($E38="H",R37<>""),IF(OR(LEFT(R37,1)="T",LEFT(R37,1)="S",LEFT(R37,1)="A",LEFT(R37,1)="F",LEFT(R37,1)="C"),LEFT(R37,1),"R"),ES$18),"") -> 9 | ... FN37: =IFERROR(IF(AND($E38="H",AM37<>""),IF(OR(LEFT(AM37,1)="T",LEFT(AM37,1)="S",LEFT(AM37,1)="A",LEFT(AM37,1)="F",LEFT(AM37,1)="C"),LEFT(AM37,1),"R"),FN$18),"") -> 30 | GW37: =COUNTIF($EK37:$FN37,GW$18) -> 0 | GX37: =COUNTIF($EK37:$FN37,GX$18) -> 0 | GY37: =COUNTIF($EK37:$FN37,GY$18) -> 0 | GZ37: =COUNTIF($EK37:$FN37,GZ$18) -> 0 | HA37: =COUNTIF($EK37:$FN37,HA$18) -> 0 | HB37: =COUNTIF($EK37:$FN37,HB$18) -> 0 | HD37: =IF(AND($F37="Hybrid - Thrust + 2 connections",HD38=0,LEFT($J37,1)="C",LEFT($K37,1)="C",LEFT($L37,1)="C"),"X","") | HI37: =IF(E38=3,IF(_xlfn.NUMBERVALUE(LEFT(J37,1))>0,_xlfn.NUMBERVALUE(LEFT(J37,1)),""),"") | HK37: =IF(OR(E38="B",E38="P"),E38,"") | HL37: =IF(AND(J37<>"",HK37<>""),IF(HK37="B",MATCH(J37,AcroDD!$U$3:$AE$3,0),MATCH(J37,AcroDD!$U$30:$AC$30,0)),"") | HM37: =IF(AND(K37<>"",HK37<>""),K37,"") | HN37: =_xlfn.LET(_xlpm.lista,IF(HK37="B",INDEX(AcroDD!$T$4:$AE$23,0,HL37+1),INDEX(AcroDD!$T$31:$AC$50,0,HL37+1)),IF(AND(OR(HK37="B",HK37="P"),HL37<>"",HM37<>""),IF(ISNUMBER(MATCH(HM37,_xlpm.lista,0)),"OK","X"),""))
