BEGIN:VCALENDAR
VERSION:2.0
PRODID:-//Natation 13 - ECPv6.15.18//NONSGML v1.0//EN
CALSCALE:GREGORIAN
METHOD:PUBLISH
X-WR-CALNAME:Natation 13
X-ORIGINAL-URL:https://natation13.org
X-WR-CALDESC:Évènements pour Natation 13
REFRESH-INTERVAL;VALUE=DURATION:PT1H
X-Robots-Tag:noindex
X-PUBLISHED-TTL:PT1H
BEGIN:VTIMEZONE
TZID:Europe/Paris
BEGIN:DAYLIGHT
TZOFFSETFROM:+0100
TZOFFSETTO:+0200
TZNAME:CEST
DTSTART:20210328T010000
END:DAYLIGHT
BEGIN:STANDARD
TZOFFSETFROM:+0200
TZOFFSETTO:+0100
TZNAME:CET
DTSTART:20211031T010000
END:STANDARD
BEGIN:DAYLIGHT
TZOFFSETFROM:+0100
TZOFFSETTO:+0200
TZNAME:CEST
DTSTART:20220327T010000
END:DAYLIGHT
BEGIN:STANDARD
TZOFFSETFROM:+0200
TZOFFSETTO:+0100
TZNAME:CET
DTSTART:20221030T010000
END:STANDARD
BEGIN:DAYLIGHT
TZOFFSETFROM:+0100
TZOFFSETTO:+0200
TZNAME:CEST
DTSTART:20230326T010000
END:DAYLIGHT
BEGIN:STANDARD
TZOFFSETFROM:+0200
TZOFFSETTO:+0100
TZNAME:CET
DTSTART:20231029T010000
END:STANDARD
END:VTIMEZONE
BEGIN:VEVENT
DTSTART;VALUE=DATE:20221204
DTEND;VALUE=DATE:20221205
DTSTAMP:20260425T030321
CREATED:20221117T162935Z
LAST-MODIFIED:20221201T135119Z
UID:4297-1670112000-1670198399@natation13.org
SUMMARY:Championnats Départementaux Open 13 (Maîtres)
DESCRIPTION:Attention !! Modification des horaires (voir plus bas) \n\n\n\nChampionnats Départementaux Open 13 (Maîtres)\n\n\n\nDate :  Dimanche 04 décembre 2022\nNb poules : 1\n\n\nNb réunions :   2\nLieux :   Le Puy Ste Réparade\n\n\n\nBassin :   25 m\nCat :   Maitres  (D25+\,M25+)\n\n\nNb lignes :   5 lignes\nGenre :   Animation\n\n\nDate limite engt :\nLundi 28 novembre 2022\nTarifs :    Indiv. : 3\,50 €\nRelais : 5\,00 €\n\n\n\n\n\n\nEngagements\n\n\n\n\nStarts list :\n\nListe des engagements : Pdf\nListe des engagements par structure : Pdf\n\n\nProgrammes & planning :\n\nPlanning de la compétition : Pdf\nProgramme : Pdf\nLive\n\n\n\n\n\n\nInscription des officiels\n\n\n\nLiens :  Inscription   /  Consultation \n\n\n\nRèglement\n\n\n\nLes nageurs âgés de 25 ans et plus \nAttention en fonction de la participation certaines épreuves pourront être déplacées ou regroupées avec d’autres épreuves \n\n\n\nProgramme\n\n\n\nLes horaires sont susceptibles d’être modifiés en fonction de la participation et des horaires de mise à disposition des piscines   \n1° Réunion : Dimanche 04 décembre 2022 – OP : 08h00 08h45– DE : 09h00 09h45 (*)\nRelais 4×50 NL Mixtes\n200 Dos Dames & Messieurs\n100 Papillon Dames & Messieurs\n50 Brasse Dames & Messieurs\n2004 N Dames & Messieurs\n800 NL Dames & Messieurs\n1500 NL Dames & Messieurs\n200 Brasse Dames & Messieurs\n50 Dos Dames & Messieurs\n100 NL Dames & Messieurs\n200 Papillon Dames & Messieurs \n2° Réunion : Dimanche 04 décembre 2022 – OP : 14h00 – DE : 15h00 (*)\n100 4 N Dames & Messieurs\n400 NL Dames & Messieurs\n50 Papillon Dames & Messieurs\n100 Dos Dames & Messieurs\n400 4 N Dames & Messieurs\n200 NL Dames & Messieurs\n100 Brasse Dames & Messieurs\n50 NL Dames & Messieurs\nRelais 4 x 50 4 N Mixtes \n(*) OP : Ouverture des Portes – DE : Début des Épreuves \n\n\n\nRécompenses\n\n\n\n Les meilleures performances toutes catégories (4O\, 4A\, 4 B)\n \n\n\n\nRésultats\n\n\n\n\nRésultats  :\n\nFormat pdf\nFormat FFNex\nFormat CSV
URL:https://natation13.org/event/4297/
LOCATION:Le Puy Ste Réparade
CATEGORIES:Evènements Natation
ATTACH;FMTTYPE=image/png:https://natation13.org/wp-content/uploads/2018/01/maitres_50.png
ORGANIZER;CN="CD13 Natation":MAILTO:ffn-cd13@wanadoo.fr
END:VEVENT
END:VCALENDAR