BEGIN:VCALENDAR
VERSION:2.0
PRODID:-//Natation 13 - ECPv6.15.18//NONSGML v1.0//EN
CALSCALE:GREGORIAN
METHOD:PUBLISH
X-ORIGINAL-URL:https://natation13.org
X-WR-CALDESC:Évènements pour Natation 13
REFRESH-INTERVAL;VALUE=DURATION:PT1H
X-Robots-Tag:noindex
X-PUBLISHED-TTL:PT1H
BEGIN:VTIMEZONE
TZID:Europe/Paris
BEGIN:DAYLIGHT
TZOFFSETFROM:+0100
TZOFFSETTO:+0200
TZNAME:CEST
DTSTART:20210328T010000
END:DAYLIGHT
BEGIN:STANDARD
TZOFFSETFROM:+0200
TZOFFSETTO:+0100
TZNAME:CET
DTSTART:20211031T010000
END:STANDARD
BEGIN:DAYLIGHT
TZOFFSETFROM:+0100
TZOFFSETTO:+0200
TZNAME:CEST
DTSTART:20220327T010000
END:DAYLIGHT
BEGIN:STANDARD
TZOFFSETFROM:+0200
TZOFFSETTO:+0100
TZNAME:CET
DTSTART:20221030T010000
END:STANDARD
BEGIN:DAYLIGHT
TZOFFSETFROM:+0100
TZOFFSETTO:+0200
TZNAME:CEST
DTSTART:20230326T010000
END:DAYLIGHT
BEGIN:STANDARD
TZOFFSETFROM:+0200
TZOFFSETTO:+0100
TZNAME:CET
DTSTART:20231029T010000
END:STANDARD
END:VTIMEZONE
BEGIN:VEVENT
DTSTART;TZID=Europe/Paris:20221112T181500
DTEND;TZID=Europe/Paris:20221112T223000
DTSTAMP:20260425T044630
CREATED:20221102T163228Z
LAST-MODIFIED:20221102T202412Z
UID:4222-1668276900-1668292200@natation13.org
SUMMARY:Soirée Open des Maitres (étape 1)
DESCRIPTION:Soirée Open des Maitres (étape 1)\n\n\nDate :  Samedi  12 novembre 2022\nNb poules : 1\n\n\nNb réunions :   1\nLieux :   ?\n\n\n\nBassin :   25 m\nCat :   Maitres  (D25+\,M25+)\n\n\nNb lignes :   X lignes\nGenre :   Animation\n\n\nDate limite engt :\nLundi 07 novembre 2022\nTarifs :    Indiv. : 3\,50 €\nRelais : 5\,00 €\n\n\n\n\n\n\nEngagements\n\n\n\n\nStarts list :\n\nListe des engagements : Pdf\nListe des engagements par structure : Pdf\n\n\nProgrammes & planning :\n\nPlanning de la compétition : Pdf\nSamedi : pdf\nLive\n\n\n\n\n\n\nInscription des officiels\n\n\n\nLiens :  Inscription   /  Consultation \n\n\n\nRèglement\n\n\n\nLes nageurs âgés de 25 ans et plus \nAttention en fonction de la participation certaines épreuves pourront être déplacées ou regroupées avec d’autres épreuves \nla participation à l’australienne nécessite d’être engagé à la compétition \n\n\n\nProgramme\n\n\n\nLes horaires sont susceptibles d’être modifiés en fonction de la participation et des horaires de mise à disposition des piscines   \n1° Réunion : samedi 12 novembre 2022 – OP : 18h15 – DE : 19h00 (*) \n50 Brasse Dames & Messieurs\n200 NL Dames & Messieurs\n100 Dos Dames & Messieurs\n50 Papillon Dames & Messieurs\n200 Brasse Dames & Messieurs\n400 4 Nages Dames & Messieurs\n50 Dos Dames & Messieurs\n100 Papillon Dames & Messieurs\n50 NL Dames & Messieurs\n100 4N Dames & Messieurs \n(*) OP : Ouverture des Portes – DE : Début des Epreuves \n\n\n\nRécompenses\n\n\n\n  \n\n\n\nRésultats\n\n\n\n\nRésultats  :\n\nFormat pdf\nFormat FFNex\nFormat CSV
URL:https://natation13.org/event/soiree-open-des-maitres-etape-1/
CATEGORIES:Evènements Natation
ATTACH;FMTTYPE=image/png:https://natation13.org/wp-content/uploads/2018/01/maitres_50.png
ORGANIZER;CN="CD13 Natation":MAILTO:ffn-cd13@wanadoo.fr
END:VEVENT
END:VCALENDAR