BEGIN:VCALENDAR
VERSION:2.0
PRODID:-//Natation 13 - ECPv6.15.18//NONSGML v1.0//EN
CALSCALE:GREGORIAN
METHOD:PUBLISH
X-ORIGINAL-URL:https://natation13.org
X-WR-CALDESC:Évènements pour Natation 13
REFRESH-INTERVAL;VALUE=DURATION:PT1H
X-Robots-Tag:noindex
X-PUBLISHED-TTL:PT1H
BEGIN:VTIMEZONE
TZID:Europe/Paris
BEGIN:DAYLIGHT
TZOFFSETFROM:+0100
TZOFFSETTO:+0200
TZNAME:CEST
DTSTART:20210328T010000
END:DAYLIGHT
BEGIN:STANDARD
TZOFFSETFROM:+0200
TZOFFSETTO:+0100
TZNAME:CET
DTSTART:20211031T010000
END:STANDARD
BEGIN:DAYLIGHT
TZOFFSETFROM:+0100
TZOFFSETTO:+0200
TZNAME:CEST
DTSTART:20220327T010000
END:DAYLIGHT
BEGIN:STANDARD
TZOFFSETFROM:+0200
TZOFFSETTO:+0100
TZNAME:CET
DTSTART:20221030T010000
END:STANDARD
BEGIN:DAYLIGHT
TZOFFSETFROM:+0100
TZOFFSETTO:+0200
TZNAME:CEST
DTSTART:20230326T010000
END:DAYLIGHT
BEGIN:STANDARD
TZOFFSETFROM:+0200
TZOFFSETTO:+0100
TZNAME:CET
DTSTART:20231029T010000
END:STANDARD
END:VTIMEZONE
BEGIN:VEVENT
DTSTART;VALUE=DATE:20220619
DTEND;VALUE=DATE:20220620
DTSTAMP:20260421T114445
CREATED:20220513T081625Z
LAST-MODIFIED:20220513T081625Z
UID:3900-1655596800-1655683199@natation13.org
SUMMARY:Trophée Martigues-Etang de Berre
DESCRIPTION:Trophée Martigues-Etang de Berre \n\n\n\nDate\nLieu\nCompétition\nÉpreuves\nprix\nInformations\n\n\n\ndimanche 19 juin 2022 \n\nMartigues\n\nTrophée Martigues-Etang de Berre \n\n500m et/ou 1000m\n2\,5 kms\n5 kms coupe de France\, Aqua challenge\nrelais 4 X 500m\n \nhttp://www.trophee-meb.com/
URL:https://natation13.org/event/trophee-martigues-etang-de-berre-3/
CATEGORIES:Calendrier,Evènements Eau Libre
ATTACH;FMTTYPE=image/png:https://natation13.org/wp-content/uploads/2018/01/eau-libre_50.png
END:VEVENT
END:VCALENDAR