BEGIN:VCALENDAR
VERSION:2.0
PRODID:-//Natation 13 - ECPv6.15.18//NONSGML v1.0//EN
CALSCALE:GREGORIAN
METHOD:PUBLISH
X-ORIGINAL-URL:https://natation13.org
X-WR-CALDESC:Évènements pour Natation 13
REFRESH-INTERVAL;VALUE=DURATION:PT1H
X-Robots-Tag:noindex
X-PUBLISHED-TTL:PT1H
BEGIN:VTIMEZONE
TZID:Europe/Paris
BEGIN:DAYLIGHT
TZOFFSETFROM:+0100
TZOFFSETTO:+0200
TZNAME:CEST
DTSTART:20210328T010000
END:DAYLIGHT
BEGIN:STANDARD
TZOFFSETFROM:+0200
TZOFFSETTO:+0100
TZNAME:CET
DTSTART:20211031T010000
END:STANDARD
BEGIN:DAYLIGHT
TZOFFSETFROM:+0100
TZOFFSETTO:+0200
TZNAME:CEST
DTSTART:20220327T010000
END:DAYLIGHT
BEGIN:STANDARD
TZOFFSETFROM:+0200
TZOFFSETTO:+0100
TZNAME:CET
DTSTART:20221030T010000
END:STANDARD
BEGIN:DAYLIGHT
TZOFFSETFROM:+0100
TZOFFSETTO:+0200
TZNAME:CEST
DTSTART:20230326T010000
END:DAYLIGHT
BEGIN:STANDARD
TZOFFSETFROM:+0200
TZOFFSETTO:+0100
TZNAME:CET
DTSTART:20231029T010000
END:STANDARD
END:VTIMEZONE
BEGIN:VEVENT
DTSTART;VALUE=DATE:20220611
DTEND;VALUE=DATE:20220612
DTSTAMP:20260420T193230
CREATED:20220513T081357Z
LAST-MODIFIED:20220513T085109Z
UID:3898-1654905600-1654991999@natation13.org
SUMMARY:Traversée de la Corniche
DESCRIPTION:Traversée de la Corniche \n\n\n\nDate\nLieu\nCompétition\nÉpreuves\nprix\nInformations\n\n\nSamedi 11 juin 2022\nMarseille\nTraversée de la Corniche\n3400m\n1500m\nrelais 4 X 500m\n32€\n21€\n21€\nsur Facebook\nTraversée de la corniche \n\n\n\nInscriptions via KMS \nhttps://www.kms.fr/v5/public/blog/?p=4814
URL:https://natation13.org/event/traversee-de-la-corniche-2/
CATEGORIES:Calendrier,Evènements Eau Libre
ATTACH;FMTTYPE=image/png:https://natation13.org/wp-content/uploads/2018/01/eau-libre_50.png
END:VEVENT
END:VCALENDAR