BEGIN:VCALENDAR
VERSION:2.0
PRODID:-//Natation 13 - ECPv6.15.18//NONSGML v1.0//EN
CALSCALE:GREGORIAN
METHOD:PUBLISH
X-ORIGINAL-URL:https://natation13.org
X-WR-CALDESC:Évènements pour Natation 13
REFRESH-INTERVAL;VALUE=DURATION:PT1H
X-Robots-Tag:noindex
X-PUBLISHED-TTL:PT1H
BEGIN:VTIMEZONE
TZID:Europe/Paris
BEGIN:DAYLIGHT
TZOFFSETFROM:+0100
TZOFFSETTO:+0200
TZNAME:CEST
DTSTART:20210328T010000
END:DAYLIGHT
BEGIN:STANDARD
TZOFFSETFROM:+0200
TZOFFSETTO:+0100
TZNAME:CET
DTSTART:20211031T010000
END:STANDARD
BEGIN:DAYLIGHT
TZOFFSETFROM:+0100
TZOFFSETTO:+0200
TZNAME:CEST
DTSTART:20220327T010000
END:DAYLIGHT
BEGIN:STANDARD
TZOFFSETFROM:+0200
TZOFFSETTO:+0100
TZNAME:CET
DTSTART:20221030T010000
END:STANDARD
BEGIN:DAYLIGHT
TZOFFSETFROM:+0100
TZOFFSETTO:+0200
TZNAME:CEST
DTSTART:20230326T010000
END:DAYLIGHT
BEGIN:STANDARD
TZOFFSETFROM:+0200
TZOFFSETTO:+0100
TZNAME:CET
DTSTART:20231029T010000
END:STANDARD
END:VTIMEZONE
BEGIN:VEVENT
DTSTART;VALUE=DATE:20220605
DTEND;VALUE=DATE:20220606
DTSTAMP:20260421T001452
CREATED:20220513T080746Z
LAST-MODIFIED:20220513T081045Z
UID:3892-1654387200-1654473599@natation13.org
SUMMARY:Cap Naio
DESCRIPTION:CAP NAIO \n\n\n\nDate\nLieu\nCompétition\nÉpreuves\nprix\nInformations\n\n\ndimanche 5 juin 2022\nCassis\nCap Naio\n3\,5 km  circuit départemental\n5 kms circuit régional\n17€\n23€\nhttps://www.ffneaulibre.fr/evenements/voir/5952/cap-naio-2022-cassis
URL:https://natation13.org/event/cap-naio/
CATEGORIES:Evènemants Eau Libre 1,Evènements Eau Libre
ATTACH;FMTTYPE=image/png:https://natation13.org/wp-content/uploads/2018/01/eau-libre_50.png
END:VEVENT
END:VCALENDAR