BEGIN:VCALENDAR
VERSION:2.0
PRODID:-//Natation 13 - ECPv6.15.18//NONSGML v1.0//EN
CALSCALE:GREGORIAN
METHOD:PUBLISH
X-ORIGINAL-URL:https://natation13.org
X-WR-CALDESC:Évènements pour Natation 13
REFRESH-INTERVAL;VALUE=DURATION:PT1H
X-Robots-Tag:noindex
X-PUBLISHED-TTL:PT1H
BEGIN:VTIMEZONE
TZID:Europe/Paris
BEGIN:DAYLIGHT
TZOFFSETFROM:+0100
TZOFFSETTO:+0200
TZNAME:CEST
DTSTART:20200329T010000
END:DAYLIGHT
BEGIN:STANDARD
TZOFFSETFROM:+0200
TZOFFSETTO:+0100
TZNAME:CET
DTSTART:20201025T010000
END:STANDARD
BEGIN:DAYLIGHT
TZOFFSETFROM:+0100
TZOFFSETTO:+0200
TZNAME:CEST
DTSTART:20210328T010000
END:DAYLIGHT
BEGIN:STANDARD
TZOFFSETFROM:+0200
TZOFFSETTO:+0100
TZNAME:CET
DTSTART:20211031T010000
END:STANDARD
BEGIN:DAYLIGHT
TZOFFSETFROM:+0100
TZOFFSETTO:+0200
TZNAME:CEST
DTSTART:20220327T010000
END:DAYLIGHT
BEGIN:STANDARD
TZOFFSETFROM:+0200
TZOFFSETTO:+0100
TZNAME:CET
DTSTART:20221030T010000
END:STANDARD
END:VTIMEZONE
BEGIN:VEVENT
DTSTART;TZID=Europe/Paris:20210919T070000
DTEND;TZID=Europe/Paris:20210919T140000
DTSTAMP:20260424T032755
CREATED:20210908T122457Z
LAST-MODIFIED:20210909T104854Z
UID:3027-1632034800-1632060000@natation13.org
SUMMARY:Traversée de la Corniche - Marseille
DESCRIPTION:SCCM__fiche_Etape_eau_libre_2021
URL:https://natation13.org/event/traversee-de-la-corniche-marseille/
LOCATION:Société Nautique de la Corniche\, 15\, traverse de la fausse monnaie\, Marseillle\, 13007\, France
CATEGORIES:Calendrier,Evènements Eau Libre
ORGANIZER;CN="Sporting Club la Corniche  Marseille":MAILTO:president@sccmarseille-dauphins.fr
END:VEVENT
END:VCALENDAR