BEGIN:VCALENDAR
VERSION:2.0
PRODID:-//Natation 13 - ECPv6.15.18//NONSGML v1.0//EN
CALSCALE:GREGORIAN
METHOD:PUBLISH
X-WR-CALNAME:Natation 13
X-ORIGINAL-URL:https://natation13.org
X-WR-CALDESC:Évènements pour Natation 13
REFRESH-INTERVAL;VALUE=DURATION:PT1H
X-Robots-Tag:noindex
X-PUBLISHED-TTL:PT1H
BEGIN:VTIMEZONE
TZID:Europe/Paris
BEGIN:DAYLIGHT
TZOFFSETFROM:+0100
TZOFFSETTO:+0200
TZNAME:CEST
DTSTART:20230326T010000
END:DAYLIGHT
BEGIN:STANDARD
TZOFFSETFROM:+0200
TZOFFSETTO:+0100
TZNAME:CET
DTSTART:20231029T010000
END:STANDARD
BEGIN:DAYLIGHT
TZOFFSETFROM:+0100
TZOFFSETTO:+0200
TZNAME:CEST
DTSTART:20240331T010000
END:DAYLIGHT
BEGIN:STANDARD
TZOFFSETFROM:+0200
TZOFFSETTO:+0100
TZNAME:CET
DTSTART:20241027T010000
END:STANDARD
BEGIN:DAYLIGHT
TZOFFSETFROM:+0100
TZOFFSETTO:+0200
TZNAME:CEST
DTSTART:20250330T010000
END:DAYLIGHT
BEGIN:STANDARD
TZOFFSETFROM:+0200
TZOFFSETTO:+0100
TZNAME:CET
DTSTART:20251026T010000
END:STANDARD
END:VTIMEZONE
BEGIN:VEVENT
DTSTART;VALUE=DATE:20240204
DTEND;VALUE=DATE:20240205
DTSTAMP:20260419T160912
CREATED:20240111T143710Z
LAST-MODIFIED:20240203T225943Z
UID:5838-1707004800-1707091199@natation13.org
SUMMARY:Meeting Départemental Open du Sprint
DESCRIPTION:Meeting Départemental Open du Sprint\n\n\nDate :  Dimanche  4 février 2024\nNb poules :   1\n\n\nNb réunions :   2\nLieux :  Berre l’Etang\n\n\nBassin :   25 m\nCat :   Benjamins / Avenirs (13-\,2011-)\n\n\nNb lignes :   8 lignes\nGenre :   Animation\n\n\nDate limite engt :\nLundi 29 janvier 2024\nTarifs :    Indiv. : 3\,50 €\nRelais : 5\,00 €\n\n\n\n– ATTENTION : Ouverture des portes à 8h30 au lieu de 8h00\n \n\n\n\nEngagements\n\n\n\n– Ouverture des engagements : du lundi 22 janvier 2024 à 00h00\n– Clôture des engagements : le lundi 29 janvier 2024 à 23h59 \n\nStarts list :\n\nListe des engagements :   Pdf\nListe des engagements par structure :    Pdf\nProgrammes & planning :\n\nPlanning de la compétition :  Pdf\n\nDimanche :    Pdf\n\n\n\n\n\nLive\n\n\n\n\n\nInscription des officiels\n\n\n\nLiens   :  Inscription   /  Consultation \n\n\n\nRèglement\n\n\n\nCette compétition est ouverte aux nageurs des catégories Benjamins et Avenirs .\nChaque nageur peut nager 2 courses maximum par réunion\nLes horaires sont susceptibles d’être modifiés en fonction de la participation et de la mise à disposition de la piscine (merci de consulter le site) \n\n\n\nProgramme\n\n\n\nLes horaires sont susceptibles d’évoluer en fonction de la participation \n1° Réunion : Dimanche 4 Février 2024 – OP : 08h30 – DE : 09h30 (*)\n50 Papillon Dames & Messieurs\,\n100 Dos Dames & Messieurs\,\n50 Brasse Dames & Messieurs\,\n100 Nage Libre Dames & Messieurs\, \n2° Réunion : Dimanche 4 Février 2024 – OP : 13h30 – DE : 14h30 (*)\n100 Papillon Dames & Messieurs\,\n50 Dos Dames & Messieurs\,\n100 Brasse Dames & Messieurs\,\n50 Nage Libre Dames & Messieurs\, \n(*) OP : Ouverture des Portes – DE : Début des Épreuves \n\n\n\nRécompenses\n\n\n\nRécompenses aux 3 premiers Benjamins\, Avenirs 2\, et Avenirs 1 et moins ( 48or\, 48 ag 48br) \n\n\n\nRésultats\n\n\n\n\nRésultats  :\n\nFormat  Pdf\nFormat  FFNex\n\nFormat  CSV
URL:https://natation13.org/event/meeting-departemental-open-du-sprint/
LOCATION:Piscine Claude Jouve – Berre\, 774 Avenue des Hydravions\, Berre-l'Étang\, 13030\, France
CATEGORIES:Calendrier,Evènements Natation
ATTACH;FMTTYPE=image/png:https://natation13.org/wp-content/uploads/2017/12/natation_100.png
ORGANIZER;CN="CD13 Natation":MAILTO:ffn-cd13@wanadoo.fr
END:VEVENT
END:VCALENDAR