BEGIN:VCALENDAR
VERSION:2.0
PRODID:-//Natation 13 - ECPv6.15.18//NONSGML v1.0//EN
CALSCALE:GREGORIAN
METHOD:PUBLISH
X-WR-CALNAME:Natation 13
X-ORIGINAL-URL:https://natation13.org
X-WR-CALDESC:Évènements pour Natation 13
REFRESH-INTERVAL;VALUE=DURATION:PT1H
X-Robots-Tag:noindex
X-PUBLISHED-TTL:PT1H
BEGIN:VTIMEZONE
TZID:Europe/Paris
BEGIN:DAYLIGHT
TZOFFSETFROM:+0100
TZOFFSETTO:+0200
TZNAME:CEST
DTSTART:20230326T010000
END:DAYLIGHT
BEGIN:STANDARD
TZOFFSETFROM:+0200
TZOFFSETTO:+0100
TZNAME:CET
DTSTART:20231029T010000
END:STANDARD
BEGIN:DAYLIGHT
TZOFFSETFROM:+0100
TZOFFSETTO:+0200
TZNAME:CEST
DTSTART:20240331T010000
END:DAYLIGHT
BEGIN:STANDARD
TZOFFSETFROM:+0200
TZOFFSETTO:+0100
TZNAME:CET
DTSTART:20241027T010000
END:STANDARD
BEGIN:DAYLIGHT
TZOFFSETFROM:+0100
TZOFFSETTO:+0200
TZNAME:CEST
DTSTART:20250330T010000
END:DAYLIGHT
BEGIN:STANDARD
TZOFFSETFROM:+0200
TZOFFSETTO:+0100
TZNAME:CET
DTSTART:20251026T010000
END:STANDARD
END:VTIMEZONE
BEGIN:VEVENT
DTSTART;TZID=Europe/Paris:20240112T080000
DTEND;TZID=Europe/Paris:20240112T170000
DTSTAMP:20260419T224915
CREATED:20240112T101852Z
LAST-MODIFIED:20240112T101852Z
UID:5889-1705046400-1705078800@natation13.org
SUMMARY:Meeting Départemental de l’été
DESCRIPTION:Meeting Départemental de l’été\n\n\nDate :  Samedi 22 & Dimanche 23 juin 2024\nNb poules :  1\n\n\nNb réunions :   4\nLieux :  Fos Sur Mer\n\n\n\nBassin :   50 m\nCat : Avenirs & +\n\n\n\nNb lignes :   8 lignes\nGenre :   Animation\n\n\nDate limite engt :\nLundi 17 juin 2024\nTarifs :    Indiv. :  €\nRelais :  €\n\n\n\n\n\n\nEngagements\n\n\n\n– Ouverture des engagements   :   du lundi 10 juin 2024 à 00h00\n– Clôture des engagements   :   le lundi 17 juin 2024 à 23h59 \n\nStarts list :\n\nListe des engagements :  Pdf\nListe des engagements par structure :  Pdf\nProgrammes & planning :\n\nPlanning de la compétition : Pdf \nDimanche matin :   Pdf  \nDimanche Après Midi :  Pdf  \n\n\n\n\nLive\n\n\n\n\n\nInscription des officiels\n\n\n\nLiens :  Inscription   /  Consultation \n\n\n\nRèglement\n\n\n\n  \n\n\n\nProgramme\n\n\n\nLes horaires sont susceptibles d’évoluer en fonction de la participation \n  \n(*) OP : Ouverture des Portes – DE : Début des Épreuves \n\n\n\nRécompenses\n\n\n\n  \n\n\n\nRésultats\n\n\n\n\nRésultats  :\n\nFormat Pdf\nFormat  FFNex\n\nFormat CSV
URL:https://natation13.org/event/meeting-departemental-de-lete-3/
CATEGORIES:Calendrier,Evènements Natation
ATTACH;FMTTYPE=image/png:https://natation13.org/wp-content/uploads/2017/12/natation_100.png
END:VEVENT
END:VCALENDAR