BEGIN:VCALENDAR
VERSION:2.0
PRODID:-//Natation 13 - ECPv6.15.18//NONSGML v1.0//EN
CALSCALE:GREGORIAN
METHOD:PUBLISH
X-ORIGINAL-URL:https://natation13.org
X-WR-CALDESC:Évènements pour Natation 13
REFRESH-INTERVAL;VALUE=DURATION:PT1H
X-Robots-Tag:noindex
X-PUBLISHED-TTL:PT1H
BEGIN:VTIMEZONE
TZID:Europe/Paris
BEGIN:DAYLIGHT
TZOFFSETFROM:+0100
TZOFFSETTO:+0200
TZNAME:CEST
DTSTART:20220327T010000
END:DAYLIGHT
BEGIN:STANDARD
TZOFFSETFROM:+0200
TZOFFSETTO:+0100
TZNAME:CET
DTSTART:20221030T010000
END:STANDARD
BEGIN:DAYLIGHT
TZOFFSETFROM:+0100
TZOFFSETTO:+0200
TZNAME:CEST
DTSTART:20230326T010000
END:DAYLIGHT
BEGIN:STANDARD
TZOFFSETFROM:+0200
TZOFFSETTO:+0100
TZNAME:CET
DTSTART:20231029T010000
END:STANDARD
BEGIN:DAYLIGHT
TZOFFSETFROM:+0100
TZOFFSETTO:+0200
TZNAME:CEST
DTSTART:20240331T010000
END:DAYLIGHT
BEGIN:STANDARD
TZOFFSETFROM:+0200
TZOFFSETTO:+0100
TZNAME:CET
DTSTART:20241027T010000
END:STANDARD
END:VTIMEZONE
BEGIN:VEVENT
DTSTART;VALUE=DATE:20231119
DTEND;VALUE=DATE:20231120
DTSTAMP:20260420T123654
CREATED:20231013T090419Z
LAST-MODIFIED:20231117T161959Z
UID:5420-1700352000-1700438399@natation13.org
SUMMARY:Interclubs Départementaux TC – Poule C
DESCRIPTION:Interclubs Départementaux TC – Poule C\n\n\nDate :  Dimanche 19 novembre 2023\nNb poules : 1\n\n\nNb réunions :   2\nLieux :  Fos Sur Mer \n\n\n\nBassin :   25 m\nCat :   Ttes Cat (F0+\, G0+-)\n\n\nNb lignes :   6 lignes\nGenre : Équipe Animation\n\n\nDate limite engt :\nLundi 13 novembre 2022\nTarifs :   Équipe : 35\,00 €\n\n\n\n\n\n\nEngagements\n\n\n\n– Ouverture des engagements  :    du lundi 06 novembre 2023 à 00h00\n– Clôture des engagements  :    le lundi 13 novembre 2023 à 23h59 \n\nStarts list :\n\nListe des engagements :  Pdf\nListe des engagements par structure :   Pdf\n\n\nProgrammes & planning :\n\nPlanning de la compétition :  Pdf\nDimanche matin :   Pdf\nDimanche Après Midi :   Pdf\n\n\nLive\n\n\n\n\nInscription des officiels\n\n\n\nLiens :  Inscription   /  Consultation \n\n\n\nRèglement\n\n\n\nCes Championnats sont ouverts à toutes les catégories d’âge.\n– Cette compétition s’adresse aux équipes non qualifiées aux poules A et B régionales\n– Une épreuve réservée au remplaçant de chaque équipe sera organisée (une ou deux courses par nageur correspondant aux épreuves de la compétition distance maximum 200m en fonction du timing et du nombre de remplaçants). Inscription pour les remplaçants via bordereau qui sera envoyé au comité par mail avant la date de clôture des engagements\n–  Un nageur nageant en poule A ou B ne pourra nager en poule C.\nPour le règlement complet cf annuel règlement FFN. \nMerci de communiquer avant le 30 octobre au comité départemental le nombre d’équipes Dames et Messieurs que vous prévoyez d’engager aux interclubs TC en poule C afin de nous puissions organiser dans de meilleures conditions la manifestation.\n Merci. \n\n\n\nProgramme\n\n\n\nLes horaires sont susceptibles d’évoluer en fonction de la participation \n1° Réunion : Dimanche 19 novembre 2023 – OP : 08h00 – DE : 09h00 (*)\n10×50 nage libre dames & messieurs\n100 dos dames\n200 dos messieurs\n100 brasse dames\n200 brasse messieurs\n100 nage libre dames\n400 nage libre messieurs\n100 papillon dames\n200 papillon messieurs\n100 4 nages dames\n200 4 nages messieurs\nPause 15′ (course des remplaçants)\n4×200 nage libre dames \n2° Réunion : Dimanche 19 novembre 2023 – OP : 14h00 – DE : 15h00 (*)\n4×200 nage libre messieurs\n200 dos dames\n100 dos messieurs\n200 brasse dames\n100 brasse messieurs\n400 nage libre dames\n100 nage libre messieurs\n200 papillon dames\n100 papillon messieurs\n200 4 nages dames\n100 4 nages messieurs\nPause 15′ (course des remplaçants)\n4×100 4 nages dames\n4×100 4 nages messieurs \n(*) OP : Ouverture des Portes – DE : Début des Épreuves \n\n\n\nClassement\n\n\n\nPour être classée une équipe doit participer à toutes les épreuves (individuelles et relais) conformément au règlement.\nLe classement des équipes s’effectue à la table de cotation fédérale. En cas d’égalité\, l’addition des temps des relais (4×100 4 Nages\, 4×200 NL et 10×50 NL) servira à départager les équipes. \nA l’issue des Championnats interclubs un seul classement général est établi pour les clubs de la région PACA. Les 16 premières équipes PACA dames et messieurs seront sélectionnées pour disputer les Championnats Interclubs l’année suivante dans la poule A\, Les équipes suivantes seront qualifiées dans la poule B (est ou ouest) et les autres équipes en poule C départementale. \nATTENTION : chaque club est limité au maximum pour les poules A et B à 2 équipes par sexe et par poule. Le nombre d’équipes pourra varier selon les mesures sanitaires en vigueur. \nCette compétition compte pour le classement national des clubs. Pour plus de renseignement cf. l’annuel règlement fédéral. \n\n\n\nRécompenses\n\n\n\n3 Meilleures performances Dames et Messieurs toutes catégories(2O\,2Ag\,2bz) \n\n\n\nRésultats\n\n\n\n\nRésultats  :\n\nFormat Pdf\nFormat FFNex\n\nFormat CSV
URL:https://natation13.org/event/interclubs-departementaux-tc-poule-c-5/
LOCATION:Fos Sur Mer\, Avenue René Cassin\, Fos-sur-Mer\, 13270\, France
CATEGORIES:Calendrier,Evènements Natation
ATTACH;FMTTYPE=image/png:https://natation13.org/wp-content/uploads/2017/12/natation_100.png
ORGANIZER;CN="CD13 Natation":MAILTO:ffn-cd13@wanadoo.fr
END:VEVENT
END:VCALENDAR