BEGIN:VCALENDAR
VERSION:2.0
PRODID:-//Natation 13 - ECPv6.15.18//NONSGML v1.0//EN
CALSCALE:GREGORIAN
METHOD:PUBLISH
X-WR-CALNAME:Natation 13
X-ORIGINAL-URL:https://natation13.org
X-WR-CALDESC:Évènements pour Natation 13
REFRESH-INTERVAL;VALUE=DURATION:PT1H
X-Robots-Tag:noindex
X-PUBLISHED-TTL:PT1H
BEGIN:VTIMEZONE
TZID:Europe/Paris
BEGIN:DAYLIGHT
TZOFFSETFROM:+0100
TZOFFSETTO:+0200
TZNAME:CEST
DTSTART:20220327T010000
END:DAYLIGHT
BEGIN:STANDARD
TZOFFSETFROM:+0200
TZOFFSETTO:+0100
TZNAME:CET
DTSTART:20221030T010000
END:STANDARD
BEGIN:DAYLIGHT
TZOFFSETFROM:+0100
TZOFFSETTO:+0200
TZNAME:CEST
DTSTART:20230326T010000
END:DAYLIGHT
BEGIN:STANDARD
TZOFFSETFROM:+0200
TZOFFSETTO:+0100
TZNAME:CET
DTSTART:20231029T010000
END:STANDARD
BEGIN:DAYLIGHT
TZOFFSETFROM:+0100
TZOFFSETTO:+0200
TZNAME:CEST
DTSTART:20240331T010000
END:DAYLIGHT
BEGIN:STANDARD
TZOFFSETFROM:+0200
TZOFFSETTO:+0100
TZNAME:CET
DTSTART:20241027T010000
END:STANDARD
END:VTIMEZONE
BEGIN:VEVENT
DTSTART;VALUE=DATE:20231015
DTEND;VALUE=DATE:20231016
DTSTAMP:20260420T090421
CREATED:20231002T083656Z
LAST-MODIFIED:20231013T101651Z
UID:5398-1697328000-1697414399@natation13.org
SUMMARY:Biathlon Benjamins / Avenirs N°1
DESCRIPTION:Biathlon Benjamins / Avenirs N°1\n\n\nDate :  Dimanche  15 octobre 2023\nNb poules : 2\n\n\nNb réunions :   2\nLieux :  Fos / Martigues\n\n\n\nBassin :   25 m\nCat :   Benjamins / Avenirs (F13-\, G14-)\n\n\nNb lignes :   6 lignes\nGenre :   Animation\n\n\nDate limite engt :\nLundi 09 octobre 2023\nTarifs :    Indiv. : 3\,50 €\nRelais : 5\,00 €\n\n\n\n\n\n\nEngagements\n\n\n\n– Ouverture des engagements : du lundi 02 octobre 2023 à 00h00\n– Clôture des engagements : le lundi 09 octobre 2023 à 23h59 \n\nStarts list :\n\nListe des engagements   Fos   /   Martigues\nListe des engagements par structure   Fos  /  Martigues\nProgrammes & planning :\n\nPlanning de la compétition :   Fos /   Martigues\nDimanche matin :    Fos   /   Martigues\nDimanche Après Midi :  Fos  /   Martigues\n\n\n\n\nLive \n\n\n\n\n\nInscription des officiels\n\n\n\nLiens Fos :  Inscription   /  Consultation\nLiens   Martigues   :  Inscription   /  Consultation \n\n\n\nRèglement\n\n\n\nCette compétition est ouverte aux nageurs des catégories Benjamins et Avenirs. Elle se déroulera en 2 Zones quel que soit les piscines mise à disposition (cf Répartition des clubs par zones ou poules)\nLes horaires sont susceptibles d’être modifiés en fonction de la participation (merci de consulter le site)\nTrophée Avenir : possibilité de concourir au trophée national du 4 nageurs et nageurs complets (Cf classement ci-dessous)\no 4 nageurs 13 et FFN : Cumul points 25 pap + 25 Dos + 25 Brasse + 25 NL\no Nageur complet FFN : 25 de spécialité + 100 4 Nages et 200 Nage Libre\nLes Avenirs peuvent nager ttes les épreuves et les Benjamins ne peuvent pas nager les 25m. \n\n\n\nPoules\n\n\n\n–  Fos sur Mer :\nCN Marseille\, Rognac\, Berre l’étang\, Istres\, Salon de Provence\, Marignane\, Vitrolles\, Team Marseille\, Fos\, Marseille Nord\, La Crau et Arles \n– Martigues  :\nLes Pennes Mirabeau\, Pays Aix Natation \, La Ciotat\, Le Puy sainte Reparade\, Aubagne\, ASPTT Marseille\, Martigues\, Allauch\, Bouc Bel Air\, USCGB\, CSM Marseille \n\n\n\nProgramme\n\n\n\nLes horaires sont susceptibles d’évoluer en fonction de la participation \n1° Réunion : Dimanche 15 octobre 2023 – OP : 08h30 – DE : 09h15 (*) \nRelais 4×50 Nage Libre TC Filles & Garçons\n25 Nage Libre Filles & Garçons Avenirs uniquement\,\n100 4 Nages Filles & Garçons\,\n200 4 Nages Filles & Garçons\,\n25 Brasse Filles & Garçons Avenirs uniquement\, \n2° Réunion : Dimanche 15 octobre 2023 – OP : 14h00 – DE : 14h45 (*)\nRelais 4×50 4 Nages TC Filles\, Garçons\n25 Dos Filles & Garçons Avenirs uniquement\, \n100 Nage Libre Filles\, Garçons\,\n200 Nage Libre Filles\, Garçons\,\n25 Papillon Filles & Garçons Avenirs uniquement \n(*) OP : Ouverture des Portes – DE : Début des Épreuves \n\n\n\nRécompenses\n\n\n\nRelais : Cumul des points des 2 relais (récompenses des 3 premiers filles et garçons) (8or\,8ag\,8bz)\nCourses individuelles : Cumul des points sur\n–  100 4 Nages et 100 NL Médaille pour les 3ers : Benjamins et Avenirs (Filles et garçons) (4or\,4ag\,4 bz)\n–  200 4 Nages et 200 NL Médaille pour les 3ers : Benjamins et Avenirs (Filles et garçons) (4or\,4ag\,4 bz)\nTrophée Avenir 13 du 4 nageurs meilleure performance au cumul des 25m par catégorie avenirs A1\, A2\, A3 (6or) \n\n\n\nClassement\n\n\n\nLes Avenirs Titulaire du Sauv’nage ou Savoir Nager en Sécurité et d’une Licence « Compétiteurs » peuvent participer au 3eme trophée national Avenirs. L’objectif de ses trophées est de favoriser la pratique de toutes les nages au détriment de la spécialisation\nLa conquête de deux Trophées disputés sur la quasi totalité de la saison – entre le 1er janvier et le 18 décembre – que nous souhaitons inciter nageurs et entraîneurs\, à diversifier et élargir leurs compétences dans la maîtrise des quatre nages et des différents types d’effort que propose notre discipline : court et intense\, long et modéré\, varié.\nPrincipe\nLa poursuite de ces deux Trophées est laissée à la discrétion des nageurs et de leurs entraîneurs\, elle n’obéit à aucune obligation\, et reste donc en cela soumise à l’intérêt et à la motivation de chacun. Tout au long de la saison\, lors de chaque compétition (déclarée a minima par le Comité Départemental)\, les réussites aux épreuves composant l’un ou l’autre des deux Trophées seront compilées dans notre base fédérale\, sans considération de temps ou de points réalisés. Chaque Trophée sera automatiquement attribué à tout Avenir qui aura réussi les 4 épreuves du « 4 nageur » et/ ou les 3 épreuves du « nageur complet ».\nPour le classement de celle-ci.\n« Trophée Avenir du 4 nageur» : 25 papillon\, 25 dos\, 25 brasse et 25 nage libre.\n« Trophée Avenir du nageur complet» 25 de spécialité*\, 100 4 nages et 200 nage libre\nPour plus de détails cf le spécial règlement \n\n\n\nRésultats\n\n\n\n\nRésultats  :\n\nFormat Fos Pdf /  Pdf\nFormat FFNex Fos /  FFNex\n\nFormat CSV Fos /  CSV
URL:https://natation13.org/event/biathlon-etape-1-2/
LOCATION:Fos Sur Mer\, Avenue René Cassin\, Fos-sur-Mer\, 13270\, France
CATEGORIES:Calendrier,Evènements Natation
ATTACH;FMTTYPE=image/png:https://natation13.org/wp-content/uploads/2017/12/natation_100.png
ORGANIZER;CN="CD13 Natation":MAILTO:ffn-cd13@wanadoo.fr
END:VEVENT
END:VCALENDAR