BEGIN:VCALENDAR
VERSION:2.0
PRODID:-//Natation 13 - ECPv6.15.18//NONSGML v1.0//EN
CALSCALE:GREGORIAN
METHOD:PUBLISH
X-WR-CALNAME:Natation 13
X-ORIGINAL-URL:https://natation13.org
X-WR-CALDESC:Évènements pour Natation 13
REFRESH-INTERVAL;VALUE=DURATION:PT1H
X-Robots-Tag:noindex
X-PUBLISHED-TTL:PT1H
BEGIN:VTIMEZONE
TZID:Europe/Paris
BEGIN:DAYLIGHT
TZOFFSETFROM:+0100
TZOFFSETTO:+0200
TZNAME:CEST
DTSTART:20220327T010000
END:DAYLIGHT
BEGIN:STANDARD
TZOFFSETFROM:+0200
TZOFFSETTO:+0100
TZNAME:CET
DTSTART:20221030T010000
END:STANDARD
BEGIN:DAYLIGHT
TZOFFSETFROM:+0100
TZOFFSETTO:+0200
TZNAME:CEST
DTSTART:20230326T010000
END:DAYLIGHT
BEGIN:STANDARD
TZOFFSETFROM:+0200
TZOFFSETTO:+0100
TZNAME:CET
DTSTART:20231029T010000
END:STANDARD
BEGIN:DAYLIGHT
TZOFFSETFROM:+0100
TZOFFSETTO:+0200
TZNAME:CEST
DTSTART:20240331T010000
END:DAYLIGHT
BEGIN:STANDARD
TZOFFSETFROM:+0200
TZOFFSETTO:+0100
TZNAME:CET
DTSTART:20241027T010000
END:STANDARD
END:VTIMEZONE
BEGIN:VEVENT
DTSTART;VALUE=DATE:20230610
DTEND;VALUE=DATE:20230612
DTSTAMP:20260420T225442
CREATED:20230522T074436Z
LAST-MODIFIED:20230607T160224Z
UID:5131-1686355200-1686527999@natation13.org
SUMMARY:Meeting Lauwers
DESCRIPTION:Meeting Lauwers\n\n\nDate :  Samedi 10 & dimanche 11 juin 2023\nNb poules : 1\n\n\nNb réunions :   4\nLieux :  Salon de Provence\n\n\n\nBassin :   50 m\nCat :   Benjamins\, Juniors & Seniors\n\n\nNb lignes :   8 lignes\nGenre :   Animation\n\n\nDate limite engt :\nLundi 05 juin 2023\nTarifs :    Ind. : 5\,00 €\nRelais : 8\,00 €\n\n\n\n\n\n\nEngagements\n\n\n\nLes engagements seront ouverts du lundi 29 mai au lundi 05 juin 2023 inclus \n\nStarts list :\n\nListe des engagements : Pdf\nListe des engagements par structure : Pdf\n\n\nProgrammes & planning :\n\nPlanning de la compétition : Pdf\nProgramme samedi matin : Pdf\nProgramme samedi après-midi : Pdf\nLive\n\n\n\n\n\n\nInscription des officiels\n\n\n\nLien :  Inscription  /  Consultation \n\n\n\nRèglement\n\n\n\nCette compétition est ouverte aux nageurs des catégories Benjamins\, Juniors et Seniors.\n \n\n\n\nProgramme\n\n\n\nLes horaires sont susceptibles d’évoluer en fonction de la participation \n1° Réunion : Samedi 10 juin 2023 – OP : 08h00 – DE : 09h00 (*)\nAccueil officiels\, entraîneurs et bénévoles devant un petit déjeuner\n50 Dos Classement au temps\n100 Nage Libre Séries\n100 Brasse Séries\n200 4n Séries\n4×100 Nage Libre Classement au temps\nRemise des récompenses 50 dos\, 200 nl et 4×100 nl \n2° Réunion : Samedi 10 juin 2023- OP : 14h00 – DE : 15h00 (*)\n50 Pap Classement au temps\n100 Brasse Finales (Jeunes\, Juniors\, TC)\n100 Nage Libre Finales (Jeunes\, Juniors\, TC)\nRelais FREESTYLE « LA MISSOU » (10€ p/ équipe de 5\, dont 1 fille. Pas d’appartenance obligatoire au même Club…)\nRemise des récompenses 50 pap\, 100brasse\, 100 nage libre et freestyle \n3° Réunion : Dimanche 11 juin 2023 – OP : 08h00 – DE : 09h00 (*)\nAccueil officiels\, entraîneurs et bénévoles devant un petit déjeuner\n50 Nage Libre Classement au temps\n100 Pap Séries\n100 Dos Séries\n200 Nage Libre Classement au temps\n4×100 4n Classement au temps\nRemise des récompenses 50 nl et 4×100 4n \n4° Réunion : Dimanche 11 juin 2023- OP : 13h30 – DE : 14h30 (*)\n50 Brasse Classement au temps\n100 Dos Finales (Jeunes\, Juniors\, TC)\n100 Pap Finales (Jeunes\, Juniors\, TC)\n200 4n Finales (Jeunes\, Juniors\, TC)\nRemise des récompenses 50 brasse\, 100 dos\, 100 pap et 200 4n \n(*) OP : Ouverture des Portes – DE : Début des Épreuves \n\n\n\nRécompenses\n\n\n\n  \n\n\n\nRésultats\n\n\n\n\nRésultats  :\n\nFormat pdf\nFormat FFNex\nFormat CSV
URL:https://natation13.org/event/meeting-lauwers-2/
LOCATION:Stade Nautique Salon\, Avenue du Professeur Bourret\, Salon de Provence\, 13300\, France
CATEGORIES:Calendrier,Evènements Natation
ATTACH;FMTTYPE=image/png:https://natation13.org/wp-content/uploads/2018/01/natation_50.png
ORGANIZER;CN="CD13 Natation":MAILTO:ffn-cd13@wanadoo.fr
END:VEVENT
END:VCALENDAR