BEGIN:VCALENDAR
VERSION:2.0
PRODID:-//Natation 13 - ECPv6.15.18//NONSGML v1.0//EN
CALSCALE:GREGORIAN
METHOD:PUBLISH
X-ORIGINAL-URL:https://natation13.org
X-WR-CALDESC:Évènements pour Natation 13
REFRESH-INTERVAL;VALUE=DURATION:PT1H
X-Robots-Tag:noindex
X-PUBLISHED-TTL:PT1H
BEGIN:VTIMEZONE
TZID:Europe/Paris
BEGIN:DAYLIGHT
TZOFFSETFROM:+0100
TZOFFSETTO:+0200
TZNAME:CEST
DTSTART:20220327T010000
END:DAYLIGHT
BEGIN:STANDARD
TZOFFSETFROM:+0200
TZOFFSETTO:+0100
TZNAME:CET
DTSTART:20221030T010000
END:STANDARD
BEGIN:DAYLIGHT
TZOFFSETFROM:+0100
TZOFFSETTO:+0200
TZNAME:CEST
DTSTART:20230326T010000
END:DAYLIGHT
BEGIN:STANDARD
TZOFFSETFROM:+0200
TZOFFSETTO:+0100
TZNAME:CET
DTSTART:20231029T010000
END:STANDARD
BEGIN:DAYLIGHT
TZOFFSETFROM:+0100
TZOFFSETTO:+0200
TZNAME:CEST
DTSTART:20240331T010000
END:DAYLIGHT
BEGIN:STANDARD
TZOFFSETFROM:+0200
TZOFFSETTO:+0100
TZNAME:CET
DTSTART:20241027T010000
END:STANDARD
END:VTIMEZONE
BEGIN:VEVENT
DTSTART;VALUE=DATE:20230518
DTEND;VALUE=DATE:20230519
DTSTAMP:20260420T150726
CREATED:20230113T085739Z
LAST-MODIFIED:20230421T164733Z
UID:4523-1684368000-1684454399@natation13.org
SUMMARY:Inter Départemental Avenirs
DESCRIPTION:Inter Départemental Avenirs\n\n\n\nDate :  Jeudi 18 mai 2023\nNb poules : 1\n\n\nNb réunions :   2\nLieux :  Fos Sur Mer\n\n\n\nBassin :   25 m\nCat :  Avenirs (F11-\, G12-)\n\n\nNb lignes :   6 lignes\nGenre :   Sélection\n\n\nDate limite engt :\nTarifs :\n\n\n\n\n\n\nEngagements\n\n\n\n\nStarts list :\n\nListe des engagements : Pdf\n\nListe des engagements par structure : Pdf\n\n\n\nProgrammes & planning :\n\nPlanning de la compétition : Pdf\nProgramme jeudi matin : Pdf\n\nProgramme jeudi après-midi : Pdf\nLive\n\n\n\n\n\n\nInscription des officiels\n\n\n\nLien :  Inscription  /  Consultation \n\n\n\nRèglement\n\n\n\nLes équipes départementales sont composées de 10 nageurs dames et messieurs dans la catégorie avenirs.\nChaque nageur doit participer à 1 relais et 2 courses individuelles\, chacune des courses devra être nagée 4 fois (par ex 4 nageurs par équipe sont engagés sur le 100 papillon).\nLes équipes peuvent être accompagnées de 1 ou 2 remplaçants.\nLe lieu de la compétition changera de département tous les ans. \n\n\n\nProgramme\n\n\n\nLes horaires sont susceptibles d’évoluer en fonction de la participation \n1° Réunion : Jeudi 18 mai 2023 – OP : 09h30 – DE : 10h30 (*)\n10 x 50 NL Dames et Messieurs\nCourse des remplaçants 100 NL\n100 Papillon Dames et Messieurs\n100 dos Dames et Messieurs\n100 4N Dames et Messieurs \n2° Réunion : Jeudi 18 mai 2023 – OP : 14h00 – DE : 15h00 (*)\n100 brasse Dames et Messieurs\n100 NL Dames et Messieurs\nCourse des remplaçants 100 4 nages\n4 X 50 4N Dames et Messieurs \n(*) OP : Ouverture des Portes – DE : Début des Épreuves \n\n\n\nClassement\n\n\n\nChaque équipe est classée au cumul des épreuves à la table de cotation. En cas d’égalité le temps du relais 4 x 50 4N départagera les équipes. \n\n\n\nRécompenses\n\n\n\n−   Coupe pour les trois premières équipes dames\, messieurs et mixte.\n−   Coupe pour la meilleure performance à la table de cotation filles et garçons \n\n\n\nRésultats\n\n\n\n\nRésultats  :\n\nFormat pdf\nFormat FFNex\nFormat CSV
URL:https://natation13.org/event/inter-departemental-avenirs-4/
CATEGORIES:Calendrier,Evènements Natation
ATTACH;FMTTYPE=image/png:https://natation13.org/wp-content/uploads/2017/12/natation_100.png
END:VEVENT
END:VCALENDAR