BEGIN:VCALENDAR
VERSION:2.0
PRODID:-//Natation 13 - ECPv6.15.18//NONSGML v1.0//EN
CALSCALE:GREGORIAN
METHOD:PUBLISH
X-WR-CALNAME:Natation 13
X-ORIGINAL-URL:https://natation13.org
X-WR-CALDESC:Évènements pour Natation 13
REFRESH-INTERVAL;VALUE=DURATION:PT1H
X-Robots-Tag:noindex
X-PUBLISHED-TTL:PT1H
BEGIN:VTIMEZONE
TZID:Europe/Paris
BEGIN:DAYLIGHT
TZOFFSETFROM:+0100
TZOFFSETTO:+0200
TZNAME:CEST
DTSTART:20220327T010000
END:DAYLIGHT
BEGIN:STANDARD
TZOFFSETFROM:+0200
TZOFFSETTO:+0100
TZNAME:CET
DTSTART:20221030T010000
END:STANDARD
BEGIN:DAYLIGHT
TZOFFSETFROM:+0100
TZOFFSETTO:+0200
TZNAME:CEST
DTSTART:20230326T010000
END:DAYLIGHT
BEGIN:STANDARD
TZOFFSETFROM:+0200
TZOFFSETTO:+0100
TZNAME:CET
DTSTART:20231029T010000
END:STANDARD
BEGIN:DAYLIGHT
TZOFFSETFROM:+0100
TZOFFSETTO:+0200
TZNAME:CEST
DTSTART:20240331T010000
END:DAYLIGHT
BEGIN:STANDARD
TZOFFSETFROM:+0200
TZOFFSETTO:+0100
TZNAME:CET
DTSTART:20241027T010000
END:STANDARD
END:VTIMEZONE
BEGIN:VEVENT
DTSTART;VALUE=DATE:20230226
DTEND;VALUE=DATE:20230227
DTSTAMP:20260420T203239
CREATED:20230106T160626Z
LAST-MODIFIED:20230109T083137Z
UID:4452-1677369600-1677455999@natation13.org
SUMMARY:Après-midi des Maîtres Open 13 (n°2)
DESCRIPTION:Après-midi des Maîtres Open 13 (n°2)\n\n\n\nDate :  dimanche 26 février 2023\nNb poules : 1\n\n\nNb réunions :   1\nLieux :  A définir\n\n\n\nBassin :   25 m\nCat :   Maitres (D25+\,M25+)\n\n\nNb lignes :   ? lignes\nGenre :   Qualificatif\n\n\nDate limite engt :\nLundi 20 février 2023\nTarifs :    Indiv. : 4\,00 €\n\n\n\n\n\n\nEngagements\n\n\n\nLes engagements seront ouverts du lundi 13 février  au lundi 20 février 2023 inclus \n\nStarts list :\n\nListe des engagements : Pdf\n\nListe des engagements par structure : Pdf\n\n\n\nProgrammes & planning :\n\nPlanning de la compétition : Pdf\n\nProgramme : Pdf\nLive\n\n\n\n\n\n\nInscription des officiels\n\n\n\nLien  :  Inscription  /  Consultation \n\n\n\nRèglement\n\n\n\nLes nageurs âgés de 25 ans et plus\nAttention en fonction de la participation certaines épreuves pourront être déplacées ou regroupées avec d’autres épreuves\nla participation à l’australienne ou au relais nécessite d’être engagé à la compétition \n\n\n\nProgramme\n\n\n\nLes horaires sont susceptibles d’évoluer en fonction de la participation\nATTENTION !!! PAS ENCORE DE LIEU \n1° Réunion : dimanche 26 février 2023 – OP : 18h15 – DE : 19h00 (*) \nSi la première journée (12 novembre 2022) est annulée on fera le programme de la première soirée à la place de celui-ci\n\n1500 NL Dames & Messieurs\n800 NL Dames & Messieurs\n50 NL Dames & Messieurs\n200 Dos Dames & Messieurs\n50 Brasse Dames & Messieurs\n200 Papillon Dames & Messieurs\n50 Dos Dames & Messieurs\n100 NL Dames & Messieurs\n50 Papillon Dames & Messieurs\n100 Brasse Dames & Messieurs\nAustralienne ou Relais \n(*) OP : Ouverture des Portes – DE : Début des Épreuves \n\n\n\nRécompenses\n\n\n\nFilet garni au gagnant de l’australienne \n\n\n\nRésultats\n\n\n\n\nRésultats  :\n\nFormat pdf\nFormat FFNex\nFormat CSV
URL:https://natation13.org/event/apres-midi-des-maitres-open-13-n2/
CATEGORIES:Calendrier,Evènements Natation
ATTACH;FMTTYPE=image/png:https://natation13.org/wp-content/uploads/2018/01/maitres_50.png
ORGANIZER;CN="CD13 Natation":MAILTO:ffn-cd13@wanadoo.fr
END:VEVENT
BEGIN:VEVENT
DTSTART;VALUE=DATE:20230226
DTEND;VALUE=DATE:20230227
DTSTAMP:20260420T203239
CREATED:20230109T085010Z
LAST-MODIFIED:20230222T082444Z
UID:4462-1677369600-1677455999@natation13.org
SUMMARY:Meeting Départemental - Sardine Sprint
DESCRIPTION:Meeting Départemental – Sardine Sprint\n\n\n\nDate :  dimanche 26 février 2023\nNb poules : 1\n\n\nNb réunions :   2\nLieux :  Marseille (Piscine Vallier)\n\n\n\nBassin :   25 m\nCat :   Benjamins / Juniors / Seniors\n\n\nNb lignes :   6 lignes\nGenre :   Animation\n\n\nDate limite engt :\nLundi 20 février 2023\nTarifs :    Indiv. : 3\,00 €\nRelais : 6\,00 €\n\n\n\n\n\n\nEngagements\n\n\n\nLes engagements seront ouverts du lundi 13 février au lundi 20 février 2023 inclus \n\nStarts list :\n\nListe des engagements : Pdf\nListe des engagements par structure : Pdf\n\n\nProgrammes & planning :\n\nPlanning de la compétition : Pdf\n\nDimanche matin : Pdf\n\nDimanche après-midi :  Pdf\nLive\n\n\n\n\n\n\nInscription des officiels\n\n\n\nLien :  Inscription  /  Consultation \n\n\n\nRèglement\n\n\n\nCette compétition est ouverte aux nageurs des catégories Benjamins\, Juniors et Seniors.\nAIR SWIM CONTEST  :nager hors de l’eau en mimant un 100 4 N\, un jury de spécialiste élira le ou la meilleur(e) nageur(se).\n \nContact : 07.84.88.31.46 ou alexemelina@gmail.com \n\n\n\nProgramme\n\n\n\nLes horaires sont susceptibles d’évoluer en fonction de la participation \n1° Réunion : Dimanche 26 février 2023 – OP : 08h30 – DE : 09h30 (*)\n200 4n Challenge Laurent Botte seniors-jun\,benjamins F et H\nSéries du 50 pap séniors-juniors\,benjamins F et M\nSéries du 50 dos séniors-juniors\, benjamins F et M\nSéries du 50 brasse séniors-juniors\, benjamins F et M\nSéries du 50 crawl séniors-Juniors\, benjamins F et M\nAIR SWIM CONTEST\nSéries 4×50 4n mixtes 2 FILLES ET 2 GARCONS ( avec tirage au sort des nages) \n2° Réunion : Dimanche 26 février 2023 – OP : 13h30 – DE : 14h30 (*)\n400 nl Challenge Laurent Botte (seniors- jun \, benj F &M )\nFinales A des 50 m (Benjamins\,Juniors\, seniors H& F)\nFinale A du 4×50 4n mixtes 2 F ET 2 G ( avec tirage au sort des nages)\nAustralienne F et H ( les 6 meilleurs temps des 50M nage libre) \n(*) OP : Ouverture des Portes – DE : Début des Épreuves \n\n\n\nRécompenses\n\n\n\n\nRécompenses aux 3 premiers de chaque finale \, au vainqueur du Air swim contest et de l’australienne.\nTROPHÉE LAURENT BOTTE / SARDINE SPRINT 3 PREMIERS DU\nCUMUL 2004N ET 400NL Benjamins et juniors seniors H ET F\n\n\n\n\n\nRésultats\n\n\n\n\nRésultats  :\n\nFormat pdf\nFormat FFNex\nFormat CSV
URL:https://natation13.org/event/meeting-departemental-sardine-sprint/
LOCATION:Marseille Vallier\, 2 Boulevard Françoise Duparc\, MARSEILLE\, 13004\, France
CATEGORIES:Calendrier,Evènements Natation
ATTACH;FMTTYPE=image/png:https://natation13.org/wp-content/uploads/2017/12/natation_100.png
ORGANIZER;CN="CD13 Natation":MAILTO:ffn-cd13@wanadoo.fr
END:VEVENT
END:VCALENDAR