BEGIN:VCALENDAR
VERSION:2.0
PRODID:-//Natation 13 - ECPv6.15.18//NONSGML v1.0//EN
CALSCALE:GREGORIAN
METHOD:PUBLISH
X-ORIGINAL-URL:https://natation13.org
X-WR-CALDESC:Évènements pour Natation 13
REFRESH-INTERVAL;VALUE=DURATION:PT1H
X-Robots-Tag:noindex
X-PUBLISHED-TTL:PT1H
BEGIN:VTIMEZONE
TZID:Europe/Paris
BEGIN:DAYLIGHT
TZOFFSETFROM:+0100
TZOFFSETTO:+0200
TZNAME:CEST
DTSTART:20210328T010000
END:DAYLIGHT
BEGIN:STANDARD
TZOFFSETFROM:+0200
TZOFFSETTO:+0100
TZNAME:CET
DTSTART:20211031T010000
END:STANDARD
BEGIN:DAYLIGHT
TZOFFSETFROM:+0100
TZOFFSETTO:+0200
TZNAME:CEST
DTSTART:20220327T010000
END:DAYLIGHT
BEGIN:STANDARD
TZOFFSETFROM:+0200
TZOFFSETTO:+0100
TZNAME:CET
DTSTART:20221030T010000
END:STANDARD
BEGIN:DAYLIGHT
TZOFFSETFROM:+0100
TZOFFSETTO:+0200
TZNAME:CEST
DTSTART:20230326T010000
END:DAYLIGHT
BEGIN:STANDARD
TZOFFSETFROM:+0200
TZOFFSETTO:+0100
TZNAME:CET
DTSTART:20231029T010000
END:STANDARD
END:VTIMEZONE
BEGIN:VEVENT
DTSTART;TZID=Europe/Paris:20221210T180000
DTEND;TZID=Europe/Paris:20221210T210000
DTSTAMP:20260420T235217
CREATED:20221024T092626Z
LAST-MODIFIED:20221024T092626Z
UID:4104-1670695200-1670706000@natation13.org
SUMMARY:Soirée du 13 (étape 1)
DESCRIPTION:Soirée du 13 (étape 1)\n\n\nDate :  Samedi  10 décembre 2022\nNb poules : 1\n\n\nNb réunions :   1\nLieux :   ?\n\n\n\nBassin :   25 m\nCat :   Jeunes3/Juniors/Seniors (F13+\, G14+)\n\n\nNb lignes :   6 lignes\nGenre :   Animation\n\n\nDate limite engt :\nLundi 05 décembre 2022\nTarifs :    Indiv. : 3\,50 €\nRelais : 5\,00 €\n\n\n\n\n\n\nEngagements\n\n\n\nLes engagements seront ouverts du lundi 28 novembre  au lundi 05 décembre 2022 inclus \n\nStarts list :\n\nListe des engagements : Pdf\nListe des engagements par structure : Pdf\n\n\nProgrammes & planning :\n\nPlanning de la compétition : Pdf\nSamedi : pdf\nLive\n\n\n\n\n\n\nInscription des officiels\n\n\n\nLiens :  Inscription   /  Consultation \n\n\n\nRèglement\n\n\n\nCette compétition se déroule en 3 étapes\, un classement à chaque étape au cumul des points des 2 épreuves et lors de 3ème étape un classement au cumul des points des 3 étapes. \nCette compétition est ouverte aux nageurs de la catégorie Jeunes 3 / Juniors / Seniors.\nLes horaires sont susceptibles d’être modifiés en fonction de la participation et de la mise à disposition de la piscine (merci de consulter le site) \n\n\n\nProgramme\n\n\n\nLes horaires sont susceptibles d’évoluer en fonction de la participation \n1° Réunion : Samedi 10 décembre 2022 – OP : 18h00 – DE : 18h45 (*)\n100 4 Nages Dames & Messieurs\,\n200 Nage Libre Dames & Messieurs \n(*) OP : Ouverture des Portes – DE : Début des Épreuves \n\n\n\nRécompenses\n\n\n\nAu cumul des points des 2 épreuves par catégories : Ju1 et moins\, Ju2 & Ju3\, Ju4 et Se (6or\,6ag\,6bz) \n\n\n\nRésultats\n\n\n\n\nRésultats  :\n\nFormat pdf\nFormat FFNex\nFormat CSV
URL:https://natation13.org/event/soiree-du-13-etape-1/
CATEGORIES:Calendrier,Evènements Natation
ATTACH;FMTTYPE=image/png:https://natation13.org/wp-content/uploads/2017/12/natation_100.png
ORGANIZER;CN="CD13 Natation":MAILTO:ffn-cd13@wanadoo.fr
END:VEVENT
END:VCALENDAR