BEGIN:VCALENDAR
VERSION:2.0
PRODID:-//Natation 13 - ECPv6.15.18//NONSGML v1.0//EN
CALSCALE:GREGORIAN
METHOD:PUBLISH
X-WR-CALNAME:Natation 13
X-ORIGINAL-URL:https://natation13.org
X-WR-CALDESC:Évènements pour Natation 13
REFRESH-INTERVAL;VALUE=DURATION:PT1H
X-Robots-Tag:noindex
X-PUBLISHED-TTL:PT1H
BEGIN:VTIMEZONE
TZID:Europe/Paris
BEGIN:DAYLIGHT
TZOFFSETFROM:+0100
TZOFFSETTO:+0200
TZNAME:CEST
DTSTART:20210328T010000
END:DAYLIGHT
BEGIN:STANDARD
TZOFFSETFROM:+0200
TZOFFSETTO:+0100
TZNAME:CET
DTSTART:20211031T010000
END:STANDARD
BEGIN:DAYLIGHT
TZOFFSETFROM:+0100
TZOFFSETTO:+0200
TZNAME:CEST
DTSTART:20220327T010000
END:DAYLIGHT
BEGIN:STANDARD
TZOFFSETFROM:+0200
TZOFFSETTO:+0100
TZNAME:CET
DTSTART:20221030T010000
END:STANDARD
BEGIN:DAYLIGHT
TZOFFSETFROM:+0100
TZOFFSETTO:+0200
TZNAME:CEST
DTSTART:20230326T010000
END:DAYLIGHT
BEGIN:STANDARD
TZOFFSETFROM:+0200
TZOFFSETTO:+0100
TZNAME:CET
DTSTART:20231029T010000
END:STANDARD
END:VTIMEZONE
BEGIN:VEVENT
DTSTART;VALUE=DATE:20221126
DTEND;VALUE=DATE:20221128
DTSTAMP:20260421T012351
CREATED:20221024T092440Z
LAST-MODIFIED:20221124T134938Z
UID:4100-1669420800-1669593599@natation13.org
SUMMARY:Championnats Départementaux Hiver Open
DESCRIPTION:Championnats Départementaux Hiver Open\n\n\nDate :  Samedi 26 & dimanche 27 novembre 2022\nNb poules : 1\n\n\nNb réunions :   4\nLieux :  Cassis\n\n\n\nBassin :   25 m\nCat :   Jeunes 2 &+ (F12+\, G13+)\n\n\nNb lignes :   8 lignes\nGenre :   Qualificatif\n\n\nDate limite engt :\nLundi 21 novembre 2022\nTarifs :   Ind. : 3\,50 €\nRelais : 5\,00 €\n\n\n\nATTENTION !! Modification des horaires le samedi matin et le dimanche matin \n\n\n\nEngagements\n\n\n\nLes engagements seront ouverts du lundi 14 novembre  au lundi 21 novembre 2022 inclus \n\nStarts list :\n\nListe des engagements : Pdf\nListe des engagements par structure : Pdf\n\n\nProgrammes & planning :\n\nPlanning de la compétition : Pdf\nSamedi matin : Pdf\nSamedi après-midi : Pdf\nDimanche matin : Pdf\nDimanche Après Midi : Pdf\n\n\nLive\n\n\n\n\nInscription des officiels\n\n\n\nLiens :  Inscription   /  Consultation \n\n\n\nRèglement\n\n\n\nCette compétition permet :– aux jeunes de se qualifier en région– aux Juniors/seniors de se qualifier aux championnats RégionauxUne grille de qualification sera établie pour les jeunes.Les nageurs juniors/seniors pour nager 3 épreuves max par réunion\, 2 courses maxi pour les JeunesLes jeunes réalisant les temps de la grille de temps auront la possibilité de nager 2 épreuves complémentaires. Pour tt problème d’engagement Juniors ou Seniors merci de contacter le comitéAttention pour les épreuves de 400\, 800\, 1500NL et 400 4 Nagesil y aura les limites de temps suivantes : \n\n\n\nÉpreuves\nDames\nMessieurs\n\n\n400 Nage Libre\n6’30’’\n6’15’’\n\n\n800 Nage Libre\n12’00’’ \n11’30’’\n\n\n1500 Nage Libre\n 22’30’’\n 21’30’’\n\n\n400 4 Nages\n 7’00\n 6’45’’\n\n\n\nEn cas de dépassement de temps le nageur pourra être arrêté avant la fin de l’épreuve. \nC’est pour cela que nous demandons aux entraineurs de n’engager que les nageurs en capacité de réaliser les temps afin de ne pas pénaliser tout le monde. Merci \n\n\n\nProgramme\n\n\n\nLes horaires sont susceptibles d’évoluer en fonction de la participation \n1° Réunion : Samedi 26 novembre 2022 – OP : 08h00 08h45 – DE : 09h00 09h45 (*)1500 NL Dames800 NL Messieurs100 NL Dames100 Papillon Messieurs50 Brasse Dames – Messieurs200 Dos Dames200 NL Messieurs200 4 Nages Dames \n2° Réunion : Samedi 26 novembre 2022 – OP : 14h00 – DE : 15h00 (*)400 NL Dames400 4 nages Messieurs50 Dos Dames – Messieurs200 Brasse Dames – Messieurs100 Pap Dames100 NL Messieurs\n3° Réunion : Dimanche 27 novembre 2022 – OP : 08h00 08h15 – DE : 09h00 09h15 (*)1500 NL Messieurs800 NL Dames100 Brasse Messieurs – Dames50 Papillon Messieurs – Dames200 Dos Messieurs200 NL Dames200 4 Nages Messieurs\n4° Réunion : Dimanche 27 novembre 2022 – OP : 14h00 – DE : 15h00 (*)400 NL Messieurs400 4 nages Dames100 Dos Messieurs et Dames200 Pap Messieurs et Dames50 NL Messieurs et Dames \n(*) OP : Ouverture des Portes – DE : Début des Épreuves \n\n\n\nGrille de temps\n\n\n\n\nPour les nageurs de la catégorie des Jeunes en bassin de 25m \n\n\n\nFilles\nÉpreuves\nGarçons\n\n\n0.3292\n50 Nage Libre\n0.2959\n\n\n1.1139\n100 Nage Libre\n1.0514\n\n\n2.3048\n200 Nage Libre\n2.2119\n\n\n0.3889\n50 Dos\n0.3646\n\n\n1.2307\n100 Dos\n1.1679\n\n\n2.5319\n200 Dos\n2.4580\n\n\n0.4453\n50 Brasse\n0.4135\n\n\n1.3373\n100 Brasse\n1.2431\n\n\n3.1516\n200 Brasse\n2.5488\n\n\n0.3829\n50 Papillon\n0.3062\n\n\n1.3037\n100 Papillon\n1.2113\n\n\n3.1432\n200 Papillon\n2.4756\n\n\n2.5687\n200 4 Nages\n2.3782\n\n\n\n\n\n\nRécompenses\n\n\n\n3 premiers par épreuves toutes catégories (34o\,34a\,34b) \n\n\n\nRésultats\n\n\n\n\nRésultats  :\n\nFormat pdf\nFormat FFNex\nFormat CSV
URL:https://natation13.org/event/championnats-departementaux-hiver-open-4/
LOCATION:Cassis
CATEGORIES:Calendrier,Evènements Natation
ATTACH;FMTTYPE=image/png:https://natation13.org/wp-content/uploads/2017/12/natation_100.png
ORGANIZER;CN="CD13 Natation":MAILTO:ffn-cd13@wanadoo.fr
END:VEVENT
END:VCALENDAR