BEGIN:VCALENDAR
VERSION:2.0
PRODID:-//Natation 13 - ECPv6.15.18//NONSGML v1.0//EN
CALSCALE:GREGORIAN
METHOD:PUBLISH
X-WR-CALNAME:Natation 13
X-ORIGINAL-URL:https://natation13.org
X-WR-CALDESC:Évènements pour Natation 13
REFRESH-INTERVAL;VALUE=DURATION:PT1H
X-Robots-Tag:noindex
X-PUBLISHED-TTL:PT1H
BEGIN:VTIMEZONE
TZID:Europe/Paris
BEGIN:DAYLIGHT
TZOFFSETFROM:+0100
TZOFFSETTO:+0200
TZNAME:CEST
DTSTART:20210328T010000
END:DAYLIGHT
BEGIN:STANDARD
TZOFFSETFROM:+0200
TZOFFSETTO:+0100
TZNAME:CET
DTSTART:20211031T010000
END:STANDARD
BEGIN:DAYLIGHT
TZOFFSETFROM:+0100
TZOFFSETTO:+0200
TZNAME:CEST
DTSTART:20220327T010000
END:DAYLIGHT
BEGIN:STANDARD
TZOFFSETFROM:+0200
TZOFFSETTO:+0100
TZNAME:CET
DTSTART:20221030T010000
END:STANDARD
BEGIN:DAYLIGHT
TZOFFSETFROM:+0100
TZOFFSETTO:+0200
TZNAME:CEST
DTSTART:20230326T010000
END:DAYLIGHT
BEGIN:STANDARD
TZOFFSETFROM:+0200
TZOFFSETTO:+0100
TZNAME:CET
DTSTART:20231029T010000
END:STANDARD
END:VTIMEZONE
BEGIN:VEVENT
DTSTART;VALUE=DATE:20221120
DTEND;VALUE=DATE:20221121
DTSTAMP:20260421T012249
CREATED:20221024T092333Z
LAST-MODIFIED:20221120T110255Z
UID:4097-1668902400-1668988799@natation13.org
SUMMARY:Interclubs Départementaux TC – Poule C
DESCRIPTION:Interclubs Départementaux TC – Poule C\n\n\nDate :  Dimanche  20 novembre 2022\nNb poules : 1\n\n\nNb réunions :   2\nLieux :  Istres\n\n\n\nBassin :   25 m\nCat :   Ttes Cat (F0+\, G0+–)\n\n\nNb lignes :   8 lignes\nGenre :   Équipe Animation\n\n\nDate limite engt :\nLundi 14 novembre 2022\nTarifs :    Équipe : 35\,00 €\n\n\n\n\n\n\nEngagements\n\n\n\nLes engagements seront ouverts du lundi 07 novembre  au lundi 14 novembre 2022 inclus \n\nStarts list :\n\nListe des engagements : Pdf\nListe des engagements par structure : Pdf\n\n\nProgrammes & planning :\n\nPlanning de la compétition : Pdf\nDimanche matin : Pdf\nDimanche Après Midi : Pdf\n\n\nLive\n\n\n\n\nInscription des officiels\n\n\n\nLiens :  Inscription   /  Consultation \n\n\n\nRèglement\n\n\n\nCes Championnats sont ouverts à toutes les catégories d’âge.–Cette compétition s’adresse aux équipes non qualifiées aux poules A et B régionales–Une épreuve réservée au remplaçant de chaque équipe sera organisée (une seule course par nageur correspondant aux épreuves de la compétition\, distance maximum 200m). Inscription pour les remplaçants via le Bordereau qui sera envoyé au comité par mail avant la date de clôture des engagements.Pour le règlement complet cf annuel règlement FFN.Merci de communiquer avant le 19 octobre au comité départemental le nombre d’équipes Dames et Messieurs que vous prévoyez d’engager aux interclubs TC en poule C afin de nous puissions organiser dans de meilleures conditions la manifestation Merci. \n\n\n\nProgramme\n\n\n\nLes horaires sont susceptibles d’évoluer en fonction de la participation \n1° Réunion : Dimanche 20 novembre 2022 – OP : 08h00  09h00 – DE : 09h00 10h00 (*)10×50 nage libre dames & messieurs100 dos dames200 dos messieurs100 brasse dames200 brasse messieurs100 nage libre dames400 nage libre messieurs100 papillon dames200 papillon messieurs100 4 nages dames200 4 nages messieursPause 15′4×200 nage libre dames \n2° Réunion : Dimanche 20 novembre2022 – OP :  14h00 – DE :  15h00 (*)4×200 nage libre messieurs200 dos dames100 dos messieurs200 brasse dames100 brasse messieurs400 nage libre dames100 nage libre messieurs200 papillon dames100 papillon messieurs200 4 nages dames100 4nages messieursPause 15′4x100 4 nages dames4×100 4 nages messieurs \n(*) OP : Ouverture des Portes – DE : Début des Épreuves \n\n\n\nClassement\n\n\n\nPas de Classement \n\n\n\nRécompenses\n\n\n\n3 Meilleures performances Dames et Messieurs toutes catégories (2O\,2Ag\,2bz) \n\n\n\nRésultats\n\n\n\n\nRésultats  :\n\nFormat pdf\nFormat FFNex\nFormat CSV
URL:https://natation13.org/event/interclubs-departementaux-tc-poule-c-4/
LOCATION:Istres-Stade nautique\, 1 rue des Felibres\, Istres\, 13800
CATEGORIES:Calendrier,Evènements Natation
ATTACH;FMTTYPE=image/png:https://natation13.org/wp-content/uploads/2017/12/natation_100.png
ORGANIZER;CN="CD13 Natation":MAILTO:ffn-cd13@wanadoo.fr
END:VEVENT
END:VCALENDAR