BEGIN:VCALENDAR
VERSION:2.0
PRODID:-//Natation 13 - ECPv6.15.18//NONSGML v1.0//EN
CALSCALE:GREGORIAN
METHOD:PUBLISH
X-ORIGINAL-URL:https://natation13.org
X-WR-CALDESC:Évènements pour Natation 13
REFRESH-INTERVAL;VALUE=DURATION:PT1H
X-Robots-Tag:noindex
X-PUBLISHED-TTL:PT1H
BEGIN:VTIMEZONE
TZID:Europe/Paris
BEGIN:DAYLIGHT
TZOFFSETFROM:+0100
TZOFFSETTO:+0200
TZNAME:CEST
DTSTART:20210328T010000
END:DAYLIGHT
BEGIN:STANDARD
TZOFFSETFROM:+0200
TZOFFSETTO:+0100
TZNAME:CET
DTSTART:20211031T010000
END:STANDARD
BEGIN:DAYLIGHT
TZOFFSETFROM:+0100
TZOFFSETTO:+0200
TZNAME:CEST
DTSTART:20220327T010000
END:DAYLIGHT
BEGIN:STANDARD
TZOFFSETFROM:+0200
TZOFFSETTO:+0100
TZNAME:CET
DTSTART:20221030T010000
END:STANDARD
BEGIN:DAYLIGHT
TZOFFSETFROM:+0100
TZOFFSETTO:+0200
TZNAME:CEST
DTSTART:20230326T010000
END:DAYLIGHT
BEGIN:STANDARD
TZOFFSETFROM:+0200
TZOFFSETTO:+0100
TZNAME:CET
DTSTART:20231029T010000
END:STANDARD
END:VTIMEZONE
BEGIN:VEVENT
DTSTART;VALUE=DATE:20221106
DTEND;VALUE=DATE:20221107
DTSTAMP:20260421T012448
CREATED:20221024T092302Z
LAST-MODIFIED:20221106T203034Z
UID:4090-1667692800-1667779199@natation13.org
SUMMARY:Pré Saison Juniors / Seniors (Étape 2)
DESCRIPTION:Pré Saison Juniors / Seniors (Étape 2)\n\n\nDate :  Dimanche  06 novembre 2022\nNb poules : 1\n\n\nNb réunions :   2\nLieux :  Fos\n\n\n\nBassin :   25 m\nCat :   Juniors / Seniors (F14+\, G15+)\n\n\nNb lignes :   6 lignes\nGenre :   Animation\n\n\nDate limite engt :\nLundi 31 octobre 2022\nTarifs :    Indiv. : 3\,50 €\nRelais : 5\,00 €\n\n\n\n\n\n\nEngagements\n\n\n\nLes engagements seront ouverts du lundi 24 octobre  au lundi 31 octobre 2022 inclus \n\nStarts list :\n\nListe des engagements : Pdf\nListe des engagements par structure : Pdf\n\n\nProgrammes & planning :\n\nPlanning de la compétition : Pdf\nDimanche matin : pdf\nDimanche Après Midi : pdf\n\n\nLive\n\n\n\n\nInscription des officiels\n\n\n\nLiens :  Inscription   /  Consultation \n\n\n\nRèglement\n\n\n\nCette compétition est ouverte aux nageurs de la catégorie Juniors / Seniors.Chaque nageur est autorisé à faire 2 courses individuelles max par réunionLes horaires sont susceptibles d’être modifiés en fonction de la participation (merci de consulter le site)Les relais mixtes devront être composés de 2 Dames et 2 Messieurs \n\n\n\nProgramme\n\n\n\nLes horaires sont susceptibles d’évoluer en fonction de la participation \n1° Réunion : Dimanche 06 novembre 2022 – OP : 08h30 – DE : 09h15 (*)\n100 Papillon Dames\,100 Brasse Messieurs\,400 Nage Libre Dames\,400 4 Nages Messieurs\,100 Dos Dames\,100 Nage Libre Messieurs\,4×50 4N Mixte \n2° Réunion : Dimanche 06 novembre 2022 – OP : 13h30 14h00 – DE : 14h30 14h45 (*)\n100 Papillon Messieurs\,100Brasse Dames\,400 Nage Libre Messieurs\,400 4 Nages Dames\,100 Dos Messieurs\,100 Nage Libre Dames\,4×50 NL Mixte \n(*) OP : Ouverture des Portes – DE : Début des Épreuves \n\n\n\nRécompenses\n\n\n\nPas de récompenses\n \n\n\n\nRésultats\n\n\n\n\nRésultats  :\n\nFormat pdf\nFormat FFNex\nFormat CSV
URL:https://natation13.org/event/pre-saison-juniors-seniors-etape-2/
LOCATION:Fos Sur Mer\, Avenue René Cassin\, Fos-sur-Mer\, 13270\, France
CATEGORIES:Calendrier,Evènements Natation
ATTACH;FMTTYPE=image/png:https://natation13.org/wp-content/uploads/2017/12/natation_100.png
ORGANIZER;CN="CD13 Natation":MAILTO:ffn-cd13@wanadoo.fr
END:VEVENT
END:VCALENDAR