BEGIN:VCALENDAR
VERSION:2.0
PRODID:-//Natation 13 - ECPv6.15.18//NONSGML v1.0//EN
CALSCALE:GREGORIAN
METHOD:PUBLISH
X-WR-CALNAME:Natation 13
X-ORIGINAL-URL:https://natation13.org
X-WR-CALDESC:Évènements pour Natation 13
REFRESH-INTERVAL;VALUE=DURATION:PT1H
X-Robots-Tag:noindex
X-PUBLISHED-TTL:PT1H
BEGIN:VTIMEZONE
TZID:Europe/Paris
BEGIN:DAYLIGHT
TZOFFSETFROM:+0100
TZOFFSETTO:+0200
TZNAME:CEST
DTSTART:20210328T010000
END:DAYLIGHT
BEGIN:STANDARD
TZOFFSETFROM:+0200
TZOFFSETTO:+0100
TZNAME:CET
DTSTART:20211031T010000
END:STANDARD
BEGIN:DAYLIGHT
TZOFFSETFROM:+0100
TZOFFSETTO:+0200
TZNAME:CEST
DTSTART:20220327T010000
END:DAYLIGHT
BEGIN:STANDARD
TZOFFSETFROM:+0200
TZOFFSETTO:+0100
TZNAME:CET
DTSTART:20221030T010000
END:STANDARD
BEGIN:DAYLIGHT
TZOFFSETFROM:+0100
TZOFFSETTO:+0200
TZNAME:CEST
DTSTART:20230326T010000
END:DAYLIGHT
BEGIN:STANDARD
TZOFFSETFROM:+0200
TZOFFSETTO:+0100
TZNAME:CET
DTSTART:20231029T010000
END:STANDARD
END:VTIMEZONE
BEGIN:VEVENT
DTSTART;VALUE=DATE:20220625
DTEND;VALUE=DATE:20220627
DTSTAMP:20260423T143920
CREATED:20220329T141156Z
LAST-MODIFIED:20220624T122738Z
UID:3748-1656115200-1656287999@natation13.org
SUMMARY:Meeting Départemental de l'Été
DESCRIPTION:Pdf \n\n\n\nMeeting Départemental de l’Été\n\n\nDate :  Samedi 25  & Dimanche 26 juin 2022\nNb poules : 1\n\n\nNb réunions :   4\nLieux :   Fos sur Mer\n\n\nBassin :   50 m\nCat :  Avenirs\, Jeunes\, Juniors\, Seniors\n\n\n\nNb lignes :   8\nGenre :    Animation\n\n\nDate limite engt :\nLundi 20 juin 2022\nTarifs :    Indiv. : 4\,50 €\nRelais : 7\,00 €\n\n\n\n\n\n\nEngagements\n\n\n\nLes engagements seront ouverts du lundi 13 juin au lundi 20 juin 2022 inclus \n\nStarts list :\n\nListe des engagements : Pdf\nListe des engagements par structure : Pdf\n\n\nProgrammes & planning :\n\nPlanning de la compétition : Pdf\nSamedi matin : Pdf\nSamedi après midi : Pdf\nDimanche matin : Pdf\nDimanche après midi : Pdf\n\n\nLive\n\n\n\n\nInscription des officiels\n\n\n\nLiens :  Inscription   /  Consultation \n\n\n\nRèglement\n\n\n\n\nLe meeting est ouvert à tous les nageuses et nageurs appartenant aux 3 catégories d’âges indiquées ci-dessus\, régulièrement licenciés à la F.F.N. et possédant le Pass’Compétition. \nCe meeting\, se déroulera en bassin olympique de 50 mètres et sur 8 lignes avec chronométrage semi-automatique (à confirmer). \nDéroulement : Séries toutes catégories confondues\, finales par catégories d’âges (2 & 3). \nLe nombre de tous les officiels qui participent au Meeting est à inscrire sur le coupon réponse. 1 par club est un minimum jusqu’à 10 nageurs\, 2 au-delà de 10 nageurs compte tenu du nombre de lignes. \n\n\n\n\nProgramme\n\n\n\nLes horaires sont susceptibles d’évoluer en fonction de la participation \nSamedi 25 juin 2022\nMATIN : Échauffement 8h00\, début des épreuves 9h00 \n\n200 4N Dames et Messieurs\n100 Papillon Dames et Messieurs\nRemise des récompenses 200 4N\n400 NL Dames et Messieurs\n100 Brasse Dames et Messieurs\nRemise des récompenses 400 NL\n4×50 NL Mixte (Jeunes et – &Juniors / Séniors)\nRemise des récompenses 4×50 NL\n\nAPRES-MIDI : Échauffement à 14h00\, début des épreuves 15h00 \n\nFinales 100 Papillon Dames et Messieurs (Jeunes / Juniors et +)\nFinales 100 Brasse Dames et Messieurs (Jeunes / Juniors et +)\nRemise des récompenses 100 Papillon & 100 Brasse\n50 Dos Dames et Messieurs\n50 NL Dames et Messieurs\nRemise des récompenses 50 Dos & 50 NL\nRemise des récompenses au cumul des performances de la journée\n\nDimanche 26 juin 2022\nMATIN : Echauffement 8h00\, début des épreuves 9h00 \n\n200 NL Dames et Messieurs\n100 Dos Dames et Messieurs\nRemise des récompenses 200 NL\n400 4N Dames et Messieurs\n100 NL Dames et Messieurs\nRemise des récompenses 400 4N\n4×50 4 Nages Mixte (Jeunes et – & Juniors / Séniors)\nRemise des récompenses 4×50 4 Nages\n\nAPRES-MIDI : Echauffement à 14h00\, début des épreuves 15h00 \n\nFinales 100 Dos Dames et Messieurs\nFinales 100 NL Dames et Messieurs\n\nRemise des récompenses 100 Dos & 100 NL\n\n\n50 Papillon Dames et Messieurs\n50 Brasse Dames et Messieurs\n\nRemise des récompenses 50 Pap & 50 Brasse\nRemise des récompenses au cumul des performances de la journée.\nRemise des trophées aux 3 premiers clubs\n\n\n\n(*) OP : Ouverture des Portes – DE : Début des Épreuves \n\n\n\nRécompenses\n\n\n\n\n50m : Médailles aux 3 premiers du classement au temps par catégorie 1\, 2 & 3.\n200m : Médailles aux 3 premiers du classement au temps par catégorie 1 & 2.\n400m : Médailles aux 3 premiers du classement au temps par catégorie 1 & 2\n100m : Médailles aux trois premiers des finales pour catégories 1 & 2.\nRelais : Médailles à chaque participant des trois premiers relais pour catégories 1 & 2.\nRécompenses au cumul des performances à la table de cotation pour les catégories 1\, 2 & 3 par journée\nTrophée du Meeting au club obtenant le plus grand nombre de points\, coupes pour les 2 suivants.\n\n\n\n\nRésultats\n\n\n\n\nRésultats  :\n\nFormat pdf\nFormat FFNex\nFormat CSV
URL:https://natation13.org/event/meeting-departemental-de-lete/
LOCATION:Fos Sur Mer\, Avenue René Cassin\, Fos-sur-Mer\, 13270\, France
CATEGORIES:Calendrier,Evènements Natation
ATTACH;FMTTYPE=image/png:https://natation13.org/wp-content/uploads/2017/12/natation_100.png
ORGANIZER;CN="CD13 Natation":MAILTO:ffn-cd13@wanadoo.fr
END:VEVENT
END:VCALENDAR