BEGIN:VCALENDAR
VERSION:2.0
PRODID:-//Natation 13 - ECPv6.15.18//NONSGML v1.0//EN
CALSCALE:GREGORIAN
METHOD:PUBLISH
X-ORIGINAL-URL:https://natation13.org
X-WR-CALDESC:Évènements pour Natation 13
REFRESH-INTERVAL;VALUE=DURATION:PT1H
X-Robots-Tag:noindex
X-PUBLISHED-TTL:PT1H
BEGIN:VTIMEZONE
TZID:Europe/Paris
BEGIN:DAYLIGHT
TZOFFSETFROM:+0100
TZOFFSETTO:+0200
TZNAME:CEST
DTSTART:20210328T010000
END:DAYLIGHT
BEGIN:STANDARD
TZOFFSETFROM:+0200
TZOFFSETTO:+0100
TZNAME:CET
DTSTART:20211031T010000
END:STANDARD
BEGIN:DAYLIGHT
TZOFFSETFROM:+0100
TZOFFSETTO:+0200
TZNAME:CEST
DTSTART:20220327T010000
END:DAYLIGHT
BEGIN:STANDARD
TZOFFSETFROM:+0200
TZOFFSETTO:+0100
TZNAME:CET
DTSTART:20221030T010000
END:STANDARD
BEGIN:DAYLIGHT
TZOFFSETFROM:+0100
TZOFFSETTO:+0200
TZNAME:CEST
DTSTART:20230326T010000
END:DAYLIGHT
BEGIN:STANDARD
TZOFFSETFROM:+0200
TZOFFSETTO:+0100
TZNAME:CET
DTSTART:20231029T010000
END:STANDARD
END:VTIMEZONE
BEGIN:VEVENT
DTSTART;VALUE=DATE:20220514
DTEND;VALUE=DATE:20220516
DTSTAMP:20260423T130412
CREATED:20220208T105611Z
LAST-MODIFIED:20220510T083623Z
UID:3510-1652486400-1652659199@natation13.org
SUMMARY:Championnats Départementaux de Printemps Open Jeunes
DESCRIPTION:Championnats Départementaux de Printemps Open Jeunes\n\n\nDate :  Samedi 14 & Dimanche 15 mai 2022\nNb poules : 1\n\n\nNb réunions :   4\nLieux :   Venelles\n\n\nBassin :   25 m\nCat :   Jeunes\, (F11-13\, G12-14)\n\n\nNb lignes :   8\nGenre :    Qualificatif\n\n\nDate limite engt :\nLundi 09 Mai 2022\nTarifs :    Indiv. : 3\,50 €\nRelais : 5\,00 €\n\n\n\n\n\n\nEngagements\n\n\n\nLes engagements seront ouverts du lundi 02 mai  au lundi 09 mai 2022 inclus \n\nStarts list :\n\nListe des engagements : Pdf\nListe des engagements par structure : Pdf\n\n\nProgrammes & planning :\n\nPlanning de la compétition : Pdf\nSamedi matin : pdf\nSamedi Après Midi : pdf\nDimanche Matin : Pdf\nDimanche Après Midi : pdf\n\n\nLive\n\n\n\n\nInscription des officiels\n\n\n\nLiens :  Inscription   /  Consultation \n\n\n\nRèglement\n\n\n\n\nCette compétition permet :\n– Aux Jeunes de se qualifier aux chpts régionaux ou de France Jeunes\nFinales sur les 50\, 100 et 200M (A\, B jeunes) \n\n\n\n\nProgramme\n\n\n\nLes horaires sont susceptibles d’évoluer en fonction de la participation \n1° Réunion : Samedi 14 mai 2022 – OP : 08h00 – DE : 09h00 (*)\n50 Dos Dames – Messieurs\n200 4 Nages Dames – Messieurs\n400 NL (séries lentes) Dames – Messieurs\n200 Dos Dames – Messieurs\n100 Brasse Dames – Messieurs\n200 Papillon Dames – Messieurs\n100 NL Dames – Messieurs\nFinales B et A 50 dos\nRelais mixte 4×50 4 Nages\n2° Réunion : Samedi 14 mai 2022 – OP : 14h00 – DE : 15h00 (*)\n50 Brasse Dames – Messieurs\nFinales 200 4 Nages Dames – Messieurs\n400 NL (série rapide) Dames – Messieurs\nFinales 200 Dos Dames – Messieurs\nFinales 100 Brasse Dames – Messieurs\nFinales 200 Papillon Dames – Messieurs\nFinales 100 NL Dames – Messieurs\nFinales 50 Brasse Dames – Messieurs\n3° Réunion : Dimanche 15 mai 2022 – OP : 08h00 – DE : 09h00 (*)\n50 Papillon Dames – Messieurs\n400 4 Nages (séries lentes) Dames – Messieurs\n200 NL Dames – Messieurs\n100 Papillon Dames – Messieurs\n200 Brasse Dames – Messieurs\n100 Dos Dames – Messieurs\nFinales 50 Papillon Dames – Messieurs\n4° Réunion : Dimanche 15 mai 2022 – OP : 14h00 – DE : 15h00 (*)\n50 NL Dames – Messieurs\n400 4 Nages (série rapide) Dames – Messieurs\nFinales 200 NL Dames – Messieurs\nFinales 100 Papillon Dames – Messieurs\nFinales 200 Brasse Dames – Messieurs\nFinales 100 Dos Dames – Messieurs\nFinales 50 NL Dames – Messieurs \n(*) OP : Ouverture des Portes – DE : Début des Épreuves \n\n\n\nRécompenses\n\n\n\n3 Meilleures performances jeunes (2o 2a 2b)\nMédailles aux 3 premiers par cumul séries finales TC (26o\,26a\,26b) \n\n\n\nRésultats\n\n\n\n\nRésultats  :\n\nFormat pdf\nFormat FFNex\nFormat CSV\n\n\n\n 
URL:https://natation13.org/event/championnats-departementaux-de-printemps-open-jeunes/
LOCATION:Venelles
CATEGORIES:Calendrier,Evènements Natation
ATTACH;FMTTYPE=image/png:https://natation13.org/wp-content/uploads/2017/12/natation_100.png
ORGANIZER;CN="CD13 Natation":MAILTO:ffn-cd13@wanadoo.fr
END:VEVENT
END:VCALENDAR