BEGIN:VCALENDAR
VERSION:2.0
PRODID:-//Natation 13 - ECPv6.15.18//NONSGML v1.0//EN
CALSCALE:GREGORIAN
METHOD:PUBLISH
X-WR-CALNAME:Natation 13
X-ORIGINAL-URL:https://natation13.org
X-WR-CALDESC:Évènements pour Natation 13
REFRESH-INTERVAL;VALUE=DURATION:PT1H
X-Robots-Tag:noindex
X-PUBLISHED-TTL:PT1H
BEGIN:VTIMEZONE
TZID:Europe/Paris
BEGIN:DAYLIGHT
TZOFFSETFROM:+0100
TZOFFSETTO:+0200
TZNAME:CEST
DTSTART:20210328T010000
END:DAYLIGHT
BEGIN:STANDARD
TZOFFSETFROM:+0200
TZOFFSETTO:+0100
TZNAME:CET
DTSTART:20211031T010000
END:STANDARD
BEGIN:DAYLIGHT
TZOFFSETFROM:+0100
TZOFFSETTO:+0200
TZNAME:CEST
DTSTART:20220327T010000
END:DAYLIGHT
BEGIN:STANDARD
TZOFFSETFROM:+0200
TZOFFSETTO:+0100
TZNAME:CET
DTSTART:20221030T010000
END:STANDARD
BEGIN:DAYLIGHT
TZOFFSETFROM:+0100
TZOFFSETTO:+0200
TZNAME:CEST
DTSTART:20230326T010000
END:DAYLIGHT
BEGIN:STANDARD
TZOFFSETFROM:+0200
TZOFFSETTO:+0100
TZNAME:CET
DTSTART:20231029T010000
END:STANDARD
END:VTIMEZONE
BEGIN:VEVENT
DTSTART;VALUE=DATE:20220402
DTEND;VALUE=DATE:20220404
DTSTAMP:20260423T195942
CREATED:20220208T091659Z
LAST-MODIFIED:20220401T104018Z
UID:3504-1648857600-1649030399@natation13.org
SUMMARY:Championnats Départementaux Open Jeunes
DESCRIPTION:  \n\n\n\nChampionnats Départementaux Open Jeunes\n\n\nDate :  Samedi 02 & Dimanche 03 avril 2022\nNb poules : 1\n\n\nNb réunions :   4\nLieux :   Istres\n\n\nBassin :   25 m\nCat :   Jeunes (F11-13\, G12-14)\n\n\nNb lignes :   8\nGenre :    Qualificatif\n\n\nDate limite engt :\nLundi 28 Mars 2022\nTarifs :    Indiv. : 3\,50 €\nRelais : 5\,00 €\n\n\n\n\n\n\nEngagements\n\n\n\nLes engagements seront ouverts du lundi 21 mars  au lundi 28 mars 2022 inclus \n\nStarts list :\n\nListe des engagements : Pdf\nListe des engagements par structure : Pdf\n\n\nProgrammes & planning :\n\nPlanning de la compétition : Pdf\nSamedi matin : Pdf\nSamedi Après Midi : Pdf\nDimanche Matin : Pdf\nDimanche Après Midi : Pdf\n\n\nLive\n\n\n\n\nInscription des officiels\n\n\n\nLiens :  Inscription   /  Consultation \n\n\n\nRèglement\n\n\n\n\nCette compétition permet aux nageurs de la catégorie jeunes de se qualifier en région et aux championnats de France Jeunes\nLes 400\, 800 et 1500 (Filles & Garçons) pourront être nagés à 2 par ligne en fonction du nombre d’engagements\nLes nageurs et nageuses dépassant le temps limite de 12’30’’ au 800 NL\, de 23’00’’ au 1500 NL et de 7’30’’ au 400 m 4 Nages ne seront pas classés pour dépassement de temps et arrêtés. \n\n\n\n\nProgramme\n\n\n\nLes horaires sont susceptibles d’évoluer en fonction de la participation \n1° Réunion : Samedi 2 avril 2022 – OP : 08h00 08h30 – DE : 09h00 09h30 (*)\n1500 NL Dames\n800 NL Messieurs\n100 NL Dames\n100 Papillon Messieurs\n50 Brasse Dames – Messieurs\n200 Dos Dames\n200 NL Messieurs\n200 4 Nages Dames\n2° Réunion : Samedi 2 avril 2022- OP : 14h00 – DE : 15h00 (*)\n400 4N Dames\n400 NL Messieurs\n100 Dos Dames – Messieurs\n50 NL Dames – Messieurs\n200 Papillon Dames – Messieurs\n3° Réunion : Dimanche 3 avril 2022 – OP : 08h00 08h30 – DE : 09h00 09h30 (*)\n1500 NL Messieurs\n800 NL Dames\n100 Brasse Messieurs – Dames\n50 Papillon Messieurs – Dames\n200 Dos Messieurs\n200 NL Dames\n200 4 Nages Messieurs\n4° Réunion : Dimanche 3 avril 2022 – OP : 14h00 – DE : 15h00 (*)\n400 4N Messieurs\n400 NL Dames\n50 Dos Messieurs – Dames\n200 Brasse Messieurs – Dames\n100 NL Messieurs\n100 Papillon Dames \n(*) OP : Ouverture des Portes – DE : Début des Épreuves \n\n\n\nRécompenses\n\n\n\n3 Meilleures performances par année d’âge (6o\,6a\,6b) \n\n\n\nRésultats\n\n\n\n\nRésultats  :\n\nFormat pdf\nFormat FFNex\nFormat CSV\n\n\n\n\n\n\nProtocole Sanitaire
URL:https://natation13.org/event/championnats-departementaux-open-jeunes-4/
LOCATION:Istres-Stade nautique\, 1 rue des Felibres\, Istres\, 13800
CATEGORIES:Calendrier,Evènements Natation
ATTACH;FMTTYPE=image/png:https://natation13.org/wp-content/uploads/2017/12/natation_100.png
ORGANIZER;CN="CD13 Natation":MAILTO:ffn-cd13@wanadoo.fr
END:VEVENT
END:VCALENDAR