BEGIN:VCALENDAR
VERSION:2.0
PRODID:-//Natation 13 - ECPv6.15.18//NONSGML v1.0//EN
CALSCALE:GREGORIAN
METHOD:PUBLISH
X-WR-CALNAME:Natation 13
X-ORIGINAL-URL:https://natation13.org
X-WR-CALDESC:Évènements pour Natation 13
REFRESH-INTERVAL;VALUE=DURATION:PT1H
X-Robots-Tag:noindex
X-PUBLISHED-TTL:PT1H
BEGIN:VTIMEZONE
TZID:Europe/Paris
BEGIN:DAYLIGHT
TZOFFSETFROM:+0100
TZOFFSETTO:+0200
TZNAME:CEST
DTSTART:20210328T010000
END:DAYLIGHT
BEGIN:STANDARD
TZOFFSETFROM:+0200
TZOFFSETTO:+0100
TZNAME:CET
DTSTART:20211031T010000
END:STANDARD
BEGIN:DAYLIGHT
TZOFFSETFROM:+0100
TZOFFSETTO:+0200
TZNAME:CEST
DTSTART:20220327T010000
END:DAYLIGHT
BEGIN:STANDARD
TZOFFSETFROM:+0200
TZOFFSETTO:+0100
TZNAME:CET
DTSTART:20221030T010000
END:STANDARD
BEGIN:DAYLIGHT
TZOFFSETFROM:+0100
TZOFFSETTO:+0200
TZNAME:CEST
DTSTART:20230326T010000
END:DAYLIGHT
BEGIN:STANDARD
TZOFFSETFROM:+0200
TZOFFSETTO:+0100
TZNAME:CET
DTSTART:20231029T010000
END:STANDARD
END:VTIMEZONE
BEGIN:VEVENT
DTSTART;VALUE=DATE:20220320
DTEND;VALUE=DATE:20220321
DTSTAMP:20260424T002207
CREATED:20220207T154601Z
LAST-MODIFIED:20220322T141534Z
UID:3496-1647734400-1647820799@natation13.org
SUMMARY:Journée Départementale Avenirs - Étape 1
DESCRIPTION:NOUVEAU PROGRAMME \n\n\n\nCoupe Départementale Avenirs n°1 \nJournée Départementale Avenirs – Étape 1\n\n\n\nDate :  Dimanche 20 mars 2022\nNb poules : 1\n\n\nNb réunions :   2\nLieux :   La Ciotat\n\n\nBassin :   25 m\nCat :   Avenirs (F10-\, G11-)\n\n\nNb lignes :   6\nGenre :    Qualificatif\n\n\nDate limite engt :\nLundi 14 Mars 2022\nTarifs :    Indiv. : 3\,50 €\nRelais : 5\,00 €\n\n\n\n\n\n\nATTENTION: Les Nauticales 2022 débuteront le 19 mars le stationnement sera donc difficile sur la Ciotat \nNormalement\, il ne sera pas possible de se garer sur le parking de la piscine ce dernier étant réservé aux Nauticales 2022.  \nPar contre vous devriez pouvoir stationner : \n\n\n\n– sur le parking de l’école entre la piscine et le CC Carrefour (#200m)\n– le long de l’avenue Jules Ferry\n– au lycée plus bas dans l’avenue Jules Ferry\n\n\n\n\n\n\n\n\n\n\nEngagements\n\n\n\nLes engagements seront ouverts du lundi 07 mars  au lundi 14 mars 2022 inclus \n\nStarts list :\n\nListe des engagements : journée départementale – PARCOURS ENF \nListe des engagements par structure : journée départementale – PARCOURS ENF \n\n\nProgrammes & planning :\n\nPlanning de la compétition : journée départementale – Parcours ENF\n\nDimanche Matin : Journée départementale + parcours ENF\nDimanche Après Midi : Journée départementale + parcours ENF\n\n\nLive\n\n\n\n\nInscription des officiels\n\n\n\nLiens :  Inscription   /  Consultation \n\n\n\nRèglement\n\n\n\n\n  \n\n\n\n\nProgramme\n\n\n\nLes horaires sont susceptibles d’évoluer en fonction de la participation \n1° Réunion :Dimanche 20 mars 2022- OP : 08h15 – DE : 09h00 (*)\nRelais mixte 4×50 Papillon\n200 NL Avenirs 1 Filles – Garçons\n400 NL Avenirs 2 Filles – Garçons\nRelais mixte 4×50 Dos\n200 NL\n50 Dos/Brasse (Parcours Avenirs)\n50 Pap\n25 Dos (Parcours Avenirs)\n100 Dos\n25 NL (Parcours Avenirs)\n \n2° Réunion : Dimanche 20 mars 2022- OP : 14h00 – DE : 14h45 (*)\n50 Nage Libre Filles – Garçons\nRelais mixte 4×50 Brasse\n100 4 Nages Avenirs 1 Filles – Garçons\n200 4 Nages Avenirs 2 Filles – Garçons\nRelais mixte 4×50 Nage Libre\n100 NL\n100 NL (Parcours Avenirs)\n50 Brasse\n50 Brasse/NL (Parcours Avenirs)\n1004 N \n(*) OP : Ouverture des Portes – DE : Début des Épreuves \n\n\n\nRécompenses\n\n\n\nMeilleure performance par année d’âge dames et messieurs\, avenirs 1 et avenirs 2 (4 trophées)\nRelais le premier relais (16O)\nDiplômes au 3 premiers avenirs 2 (sur chaque courses)\nDiplômes au 3 premiers avenirs 1 et moins (sur chaque courses)\n \n\n\n\nRésultats\n\n\n\n\nRésultats  :\n\nRésultats globaux : Journée départementale – Parcours ENF\nClassements : Journée départementale – Parcours ENF\nFormat FFNex journée départementale – FFNex parcours enf\n\nFormat CSV journée départementale – CSV parcours enf\n\n\n\n\n\n\n\nProtocole Sanitaire\n\n\n\n\n/ L’accès piscine  :\nRespect des consignes sanitaires en vigueur
URL:https://natation13.org/event/journee-departementale-avenirs-etape1/
LOCATION:Piscine Jean Boiteux – La Ciotat\, 20 Avenue Jules Ferry\, La Ciotat\, 13600\, France
CATEGORIES:Calendrier,Evènements Natation
ATTACH;FMTTYPE=image/png:https://natation13.org/wp-content/uploads/2018/01/nc_50.png
ORGANIZER;CN="CD13 Natation":MAILTO:ffn-cd13@wanadoo.fr
END:VEVENT
END:VCALENDAR