BEGIN:VCALENDAR
VERSION:2.0
PRODID:-//Natation 13 - ECPv6.15.18//NONSGML v1.0//EN
CALSCALE:GREGORIAN
METHOD:PUBLISH
X-ORIGINAL-URL:https://natation13.org
X-WR-CALDESC:Évènements pour Natation 13
REFRESH-INTERVAL;VALUE=DURATION:PT1H
X-Robots-Tag:noindex
X-PUBLISHED-TTL:PT1H
BEGIN:VTIMEZONE
TZID:Europe/Paris
BEGIN:DAYLIGHT
TZOFFSETFROM:+0100
TZOFFSETTO:+0200
TZNAME:CEST
DTSTART:20210328T010000
END:DAYLIGHT
BEGIN:STANDARD
TZOFFSETFROM:+0200
TZOFFSETTO:+0100
TZNAME:CET
DTSTART:20211031T010000
END:STANDARD
BEGIN:DAYLIGHT
TZOFFSETFROM:+0100
TZOFFSETTO:+0200
TZNAME:CEST
DTSTART:20220327T010000
END:DAYLIGHT
BEGIN:STANDARD
TZOFFSETFROM:+0200
TZOFFSETTO:+0100
TZNAME:CET
DTSTART:20221030T010000
END:STANDARD
BEGIN:DAYLIGHT
TZOFFSETFROM:+0100
TZOFFSETTO:+0200
TZNAME:CEST
DTSTART:20230326T010000
END:DAYLIGHT
BEGIN:STANDARD
TZOFFSETFROM:+0200
TZOFFSETTO:+0100
TZNAME:CET
DTSTART:20231029T010000
END:STANDARD
END:VTIMEZONE
BEGIN:VEVENT
DTSTART;VALUE=DATE:20220130
DTEND;VALUE=DATE:20220131
DTSTAMP:20260424T000347
CREATED:20220129T080229Z
LAST-MODIFIED:20220304T101900Z
UID:3476-1643500800-1643587199@natation13.org
SUMMARY:Championnats Départementaux Avenirs & Jeunes
DESCRIPTION:  \n\n\n\nChampionnats départementaux Avenirs & Jeunes\n\n\n\nDate :  Dimanche  30 janvier 2022\nNb poules : 1\n\n\nNb réunions :   2\nLieux :   Fos sur Mer\n\n\nBassin :   25 m\nCat :   Jeunes (F14–\, G15–)\n\n\nNb lignes :   6\nGenre :    Animation\n\n\nDate limite engt :\nLundi 24 janvier 2022\nTarifs :    Indiv. : 3\,50 €\nRelais : 5\,00 €\n\n\n\n\n\n\nCette compétition est ouverte aux nageurs des catégories  Jeunes et Avenirs.\nMatin 50 pour tous et l’après-midi finales sur 100m pour les jeunes et sur 50 pour les avenirs\nLes relais mixtes doivent être composé d’au moins une fille et un garçon.\nLa compétition devrait se dérouler à huis clos\nConsignes plus détaillées après la clôture des engagements (protocole sanitaire). La situation évoluant tellement vite\, n’oubliez pas  de consulter le site.\n\n\n\n\n\n\nEngagements\n\n\n\nLes engagements seront ouverts du lundi 17 janvier  au lundi 24 janvier 2022 inclus \n\nStarts list :\n\nListe des engagements : Pdf\nListe des engagements par structure : Pdf\n\n\nProgrammes & planning :\n\nPlanning de la compétition : Pdf\nDimanche Matin : Pdf\nDimanche Après Midi :\n\n\nLive\n\n\n\n\n\nInscription des officiels\n\n\n\nLiens :  Inscription   /  Consultation \n\n\n\nRèglement\n\n\n\n\n\nLe classement du Biathlon ce fait au cumul des points des 2 épreuves du matin.\nLe classement de l’après-midi ce fait par finales\nLes Jeunes 1 doivent nager le 200 4 Nages et au 200 NL\, puis participer s’ils sont qualifiés aux finales sur 100 4 nages et 100 NL.\nLes Jeunes 2 et 3 doivent nager le 200 4 Nages et le 400 m NL\, puis participer s’ils sont qualifiés aux finales sur 100 m 4 nages et 200 NL.\nLes jeunes 1\, 2 et 3 qui participent au 100 4 Nages\, et les Jeunes 2 et 3 qui participent au 200 NL le matin ne pourront pas se qualifier pour les finales l’après-midi.\n\n\n\n\n\nProgramme\n\n\n\nLes horaires sont susceptibles d’évoluer en fonction de la participation \n1° Réunion : Dimanche 30 janvier 2022 – OP : 08h15 – DE : 09h00 (*)  \n50 Nage Libre Filles – Garçons\n50 Brasse Filles – Garçons\n50 Papillon Filles – Garçons\n50 Dos Filles – Garçons\nRelais 4×50 NL Mixtes \n2° Réunion : Dimanche 30 janvier 2022 – OP : 14h00 – DE : 14h45 (*)  \nFinales Avenirs A\, B 50 Dos Dames & Messieurs\nFinales Jeunes A\, B  100 Dos Dames & Messieurs\nFinales Avenirs A\, B 50 Papillon Dames & Messieurs\nFinales Jeunes A\, B 100 Papillon Dames & Messieurs\nFinales Avenirs A\, B 50 Brasse Dames & Messieurs\nFinales Jeunes A\, B 100 Brasse Dames & Messieurs\nFinales Avenirs A\, B 50 Nage Libre Dames & Messieurs\nFinales Jeunes A\, B 100 Nage Libre Dames & Messieurs\nRelais 4×50 4 nages  Mixtes \n(*) OP : Ouverture des Portes – DE : Début des Épreuves \n\n\n\nRécompenses\n\n\n\nLes 3 premiers de chaque finale A (16 o\,16a\, 16b)\nMédaille au premier relais (8o)\nRemise des récompenses après chaque finale \n  \n\n\n\nRésultats\n\n\n\n\nRésultats  :\n\nFormat pdf : resultats_globaux \nFormat ffnex_resultats_complets\n\nFormat csv\n\n\n\n\n\n\nProtocole Sanitaire\n\n\n\n\n/ L’accès piscine  :\nLa compétition se déroulera à huis clos\nLe contrôle du pass sanitaire sera effectué  pour tous\nLe port du masque correctement porté est obligatoire pour tous dans l’enceinte de la piscine (excepté pour nager)\nUn distributeur de gel hydroalcoolique\, à pied\, sera installé à chaque accès ouvert.\nUn émargement du chef d’équipe ou de l’entraîneur de chaque club sera demandé pour valider la présence des nageurs.\nA compléter\nL’accès douches / vestiaires  :\nPour tous les déplacements\, l’affluence doit être régulée.\nA compléter\nDéroulement compétition :\nA compléter
URL:https://natation13.org/event/championnats-departementaux-avenirs-jeunes/
LOCATION:Fos Sur Mer\, Avenue René Cassin\, Fos-sur-Mer\, 13270\, France
CATEGORIES:Calendrier,Evènements Natation
ATTACH;FMTTYPE=image/png:https://natation13.org/wp-content/uploads/2017/12/natation_100.png
END:VEVENT
END:VCALENDAR