BEGIN:VCALENDAR
VERSION:2.0
PRODID:-//Natation 13 - ECPv6.15.18//NONSGML v1.0//EN
CALSCALE:GREGORIAN
METHOD:PUBLISH
X-ORIGINAL-URL:https://natation13.org
X-WR-CALDESC:Évènements pour Natation 13
REFRESH-INTERVAL;VALUE=DURATION:PT1H
X-Robots-Tag:noindex
X-PUBLISHED-TTL:PT1H
BEGIN:VTIMEZONE
TZID:Europe/Paris
BEGIN:DAYLIGHT
TZOFFSETFROM:+0100
TZOFFSETTO:+0200
TZNAME:CEST
DTSTART:20200329T010000
END:DAYLIGHT
BEGIN:STANDARD
TZOFFSETFROM:+0200
TZOFFSETTO:+0100
TZNAME:CET
DTSTART:20201025T010000
END:STANDARD
BEGIN:DAYLIGHT
TZOFFSETFROM:+0100
TZOFFSETTO:+0200
TZNAME:CEST
DTSTART:20210328T010000
END:DAYLIGHT
BEGIN:STANDARD
TZOFFSETFROM:+0200
TZOFFSETTO:+0100
TZNAME:CET
DTSTART:20211031T010000
END:STANDARD
BEGIN:DAYLIGHT
TZOFFSETFROM:+0100
TZOFFSETTO:+0200
TZNAME:CEST
DTSTART:20220327T010000
END:DAYLIGHT
BEGIN:STANDARD
TZOFFSETFROM:+0200
TZOFFSETTO:+0100
TZNAME:CET
DTSTART:20221030T010000
END:STANDARD
END:VTIMEZONE
BEGIN:VEVENT
DTSTART;TZID=Europe/Paris:20211205T090000
DTEND;TZID=Europe/Paris:20211205T120000
DTSTAMP:20260424T150735
CREATED:20210929T082335Z
LAST-MODIFIED:20211209T110137Z
UID:3099-1638694800-1638705600@natation13.org
SUMMARY:Parcours ENF (Challenge Avenirs)
DESCRIPTION:Parcours ENF (Challenge Avenirs)\n\n\nDate :  Dimanche  05 décembre 2021\nNb poules : 1\n\n\nNb réunions :   1\nLieux :   Martigues\n\n\nBassin :   25 m\nCat :   Avenirs (F10-\, G11-)\n\n\nNb lignes :   5\nGenre :    Équipe Animation\n\n\nDate limite engt :\nLundi 29 novembre 2021\nTarifs :    Épreuve : 2\,00 €\n\n\n\n\n\n\nATTENTION La compétition se déroulera à huis clos. \nConsignes plus détaillées après la clôture des engagements (protocole sanitaire). La situation évoluant tellement vite\, n’oubliez pas  de consulter le site.\n\n\n\n\n\n\nEngagements\n\n\n\nLes engagements seront ouverts du lundi 22 novembre  au lundi 29 novembre 2021 inclus \n\nStarts list :\n\nListe des engagements : Pdf\nListe des engagements par structure : Pdf\n\n\nProgrammes & planning :\n\nPlanning de la compétition : Pdf\n\nDimanche Matin : Pdf\nLive\n\n\n\n\n\n\nInscription des officiels\n\n\n\nLiens :  Inscription   /  Consultation \n\n\n\nRèglement\n\n\n\n\nCe challenge Avenirs s’inscrit dans le parcours de l’ENF et l’obtention du pass compétition.\nCe Challenge permet aux nageuses et nageurs de la catégorie Avenirs de s’engager en compétition sans Pass Compétition.\nToute autre compétition exigera du nageur d’être en possession de ce troisième volet de l’ENF (interclubs avenirs\, trophée\navenirs\,…)\nCe challenge n’est évidemment pas interdit aux nageuses et nageurs titulaires du pass compétition\nAttention les nageurs doivent avoir une licence compétition pour s’engager via extranat \n\n\n\n\nProgramme\n\n\n\nLes horaires sont susceptibles d’évoluer en fonction de la participation \n1° Réunion : Dimanche 5 décembre 2021- OP : 09h00 – DE : 09h45 (*)\n25 Papillon Filles & Garçons\n50 Dos / Brasse Filles & Garçons\n25 Dos Filles & Garçons\n50 Brasse/ Crawl Filles & Garçons\n100 Nage Libre Filles & Garçons\n25 Brasse Filles & Garçons\n50 Papillon / Dos Filles & Garçons\n25 NL Filles & Garçons\n100 4 Nages Filles & Garçons \nAustralienne \n(*) OP : Ouverture des Portes – DE : Début des Épreuves \n\n\n\nRécompenses\n\n\n\nLes 3 premières Filles et Garçons seront récompensées pour les 50m et 100m (10O\,10A\,10B)\nAustralienne : la première fille et le 1er garçon seront récompensés (2o) \n\n\n\nRésultats\n\n\n\n\nRésultats  :\n\nFormat Pdf\nClassement\nFormat FFNex\n\nFormat CSV\n\n\n\n\n\n\nProtocole Sanitaire\n\n\n\n\n/ L’accès piscine  :\nLa compétition se déroulera à huis clos\nLe contrôle du pass sanitaire sera effectué  pour tous\nLe port du masque est obligatoire pour tous dans l’enceinte de la piscine (excepté pour nager)\nUn distributeur de gel hydroalcoolique\, à pied\, sera installé à chaque accès ouvert.\nUn émargement du chef d’équipe ou de l’entraîneur de chaque club sera demandé pour valider la présence des nageurs.\nA compléter\nL’accès douches / vestiaires  :\nPour tous les déplacements\, l’affluence doit être régulée.\nA compléter\nDéroulement compétition :\nA compléter
URL:https://natation13.org/event/parcours-enf-challenge-avenirs-6/
LOCATION:Piscine Municipale de Martigues\, 10 Avenue du Président Salvadore Allende\, Martigues\, 13500\, France
CATEGORIES:Calendrier,Evènements Natation
ATTACH;FMTTYPE=image/png:https://natation13.org/wp-content/uploads/2017/12/natation_100.png
ORGANIZER;CN="CD13 Natation":MAILTO:ffn-cd13@wanadoo.fr
END:VEVENT
BEGIN:VEVENT
DTSTART;TZID=Europe/Paris:20211205T140000
DTEND;TZID=Europe/Paris:20211205T170000
DTSTAMP:20260424T150735
CREATED:20210929T091856Z
LAST-MODIFIED:20211209T110343Z
UID:3101-1638712800-1638723600@natation13.org
SUMMARY:Biathlon Avenirs
DESCRIPTION:Biathlon Avenirs\n\n\nDate :  Dimanche  05 décembre 2021\nNb poules : 1\n\n\nNb réunions :   1\nLieux :   Martigues\n\n\nBassin :   25 m\nCat :   Avenirs (F11-\, G12-)\n\n\nNb lignes :   5\nGenre :    Animation\n\n\nDate limite engt :\nLundi 29 novembre 2021\nTarifs :    Indiv. : 3\,00 €\nRelais : 5\,00 €\n\n\n\n\n\n\nATTENTION La compétition se déroulera à huis clos. \nConsignes plus détaillées après la clôture des engagements (protocole sanitaire). La situation évoluant tellement vite\, n’oubliez pas  de consulter le site.\n\n\n\n\n\n\nEngagements\n\n\n\nLes engagements seront ouverts du lundi 22 novembre  au lundi 29 novembre 2021 inclus \n\nStarts list :\n\nListe des engagements : Pdf\nListe des engagements par structure : Pdf\n\n\nProgrammes & planning :\n\nPlanning de la compétition : Pdf\nDimanche Après Midi : Pdf\n\n\nLive\n\n\n\n\nInscription des officiels\n\n\n\nLiens :  Inscription   /  Consultation \n\n\n\nRèglement\n\n\n\n\nLes relais seront composés d’au moins une fille et un garçon. \n\n\n\n\nProgramme\n\n\n\nLes horaires sont susceptibles d’évoluer en fonction de la participation \n1° Réunion : Dimanche 5 décembre 2021- OP : 14h00 – DE : 14h45 (*)\n100 4 Nages Filles – Garçons\n200 NL Filles & Garçons\nRemise récompenses du combiné 100 4N & 200 NL\nRelais mixte 4×50 Nage Libre \n(*) OP : Ouverture des Portes – DE : Début des Épreuves \n\n\n\nRécompenses\n\n\n\nAu cumul des points du 100 4 Nages et du 200 Nage libre par catégorie Avenirs 1 et Avenirs 2 (4O\,4A\, 4B)\nRelais récompense aux 3 premiers (4o\,4a\,4b) \n\n\n\nRésultats\n\n\n\n\nRésultats  :\n\nFormat Pdf\nClassement\nFormat FFNex\n\nFormat CSV\n\n\n\n\n\n\nProtocole Sanitaire\n\n\n\n\n/ L’accès piscine  :\nLa compétition se déroulera à huis clos\nLe controle du pass sanitaire sera effectué  pour tous\nLe port du masque est obligatoire pour tous dans l’enceinte de la piscine (excepté pour nager)\nUn distributeur de gel hydroalcoolique\, à pied\, sera installé à chaque accès ouvert.\nUn émargement du chef d’équipe ou de l’entraîneur de chaque club sera demandé pour valider la présence des nageurs.\nA compléter\nL’accès douches / vestiaires  :\nPour tous les déplacements\, l’affluence doit être régulée.\nA compléter\nDéroulement compétition :\nA compléter
URL:https://natation13.org/event/biathlon-avenirs-3/
LOCATION:Piscine Municipale de Martigues\, 10 Avenue du Président Salvadore Allende\, Martigues\, 13500\, France
CATEGORIES:Calendrier,Evènements Natation
ATTACH;FMTTYPE=image/png:https://natation13.org/wp-content/uploads/2017/12/natation_100.png
ORGANIZER;CN="CD13 Natation":MAILTO:ffn-cd13@wanadoo.fr
END:VEVENT
END:VCALENDAR