BEGIN:VCALENDAR
VERSION:2.0
PRODID:-//Natation 13 - ECPv6.15.18//NONSGML v1.0//EN
CALSCALE:GREGORIAN
METHOD:PUBLISH
X-ORIGINAL-URL:https://natation13.org
X-WR-CALDESC:Évènements pour Natation 13
REFRESH-INTERVAL;VALUE=DURATION:PT1H
X-Robots-Tag:noindex
X-PUBLISHED-TTL:PT1H
BEGIN:VTIMEZONE
TZID:Europe/Paris
BEGIN:DAYLIGHT
TZOFFSETFROM:+0100
TZOFFSETTO:+0200
TZNAME:CEST
DTSTART:20200329T010000
END:DAYLIGHT
BEGIN:STANDARD
TZOFFSETFROM:+0200
TZOFFSETTO:+0100
TZNAME:CET
DTSTART:20201025T010000
END:STANDARD
BEGIN:DAYLIGHT
TZOFFSETFROM:+0100
TZOFFSETTO:+0200
TZNAME:CEST
DTSTART:20210328T010000
END:DAYLIGHT
BEGIN:STANDARD
TZOFFSETFROM:+0200
TZOFFSETTO:+0100
TZNAME:CET
DTSTART:20211031T010000
END:STANDARD
BEGIN:DAYLIGHT
TZOFFSETFROM:+0100
TZOFFSETTO:+0200
TZNAME:CEST
DTSTART:20220327T010000
END:DAYLIGHT
BEGIN:STANDARD
TZOFFSETFROM:+0200
TZOFFSETTO:+0100
TZNAME:CET
DTSTART:20221030T010000
END:STANDARD
END:VTIMEZONE
BEGIN:VEVENT
DTSTART;VALUE=DATE:20211010
DTEND;VALUE=DATE:20211011
DTSTAMP:20260424T160424
CREATED:20210922T144506Z
LAST-MODIFIED:20210929T072031Z
UID:3058-1633824000-1633910399@natation13.org
SUMMARY:Les 50 Jeunes
DESCRIPTION:Les 50 Jeunes\n\n\nDate :  Dimanche  10 octobre 2021\nNb poules : 1\n\n\nNb réunions :   2\nLieux :   Lieux à définir\n\n\nBassin :   25 m\nCat :   Jeunes (F11-13\, G12-14)\n\n\nNb lignes :   5\nGenre :    Animation\n\n\nDate limite engt :\nLundi 04 octobre 2021\nTarifs :    Indiv. : 3\,00 € / Relais : 5\,00 €\n\n\n\n\n\n\nATTENTION La compétition se déroulera à huis clos. \nConsignes plus détaillées après la clôture des engagements (protocole sanitaire). La situation évoluant tellement vite\, n’oubliez pas  de consulter le site.\n\n\n\n\n\n\nEngagements\n\n\n\nLes engagements seront ouverts du lundi 27 septembre au lundi 04 octobre 2021 inclus \n\nStarts list :\n\nListe des engagements : :\nListe des engagements par structure : :\n\n\nProgrammes & planning :\n\nPlanning de la compétition : ;\nDimanche Matin : :\nDimanche Après Midi : ; \n\n\nLive\n\n\n\n\nInscription des officiels\n\n\n\nLiens :  Inscription   /  Consultation \n\n\n\nRèglement\n\n\n\n\nCette compétition est qualificative aux Championnats de France Jeunes 2021 et 2022.\nLes séries s’effectueront toutes catégories confondues et les finales seront par catégories un finale J1 et une finale\nJ2-J3 par 50m. La première finale s’effectuera complète (Nb nageurs = nb de lignes d’eau) les 2 autres se feront non complète avec classement à la place (la dernière finale la 3ème comportant 3 nageurs) \n\n\n\n\nProgramme\n\n\n\nLes horaires sont susceptibles d’évoluer en fonction de la participation \n1° Réunion : Dimanche 10 octobre 2021 – OP : 08h00 – DE : 09h00 (*)\n50 Papillon Filles & Garçons\,\n50 Dos Filles & Garçons\n50 Brasse filles & Garçons\,\n50 Nage Libre Filles & Garçons\,\n4×50 4 nages Mixte\n2° Réunion : Dimanche 10 octobre 2021 – OP : 14h00 – DE : 15h00 (*)\n4×50 Nage Libre Mixte\,\nFinales A sur chaque 50m Papillon\, Dos\, Brasse\, Nage Libre pour les J1 et J2-3\nSuper finale (en fonction du bassin à 5 ou 4 nageurs) sur chaque 50m pour les J1 et J2-J3\nHyper finale à 3 nageurs sur chaque 50m J1 et J2-J3 \n(*) OP : Ouverture des Portes – DE : Début des Épreuves \n\n\n\nRécompenses\n\n\n\nLe premier relais sera récompensés (8o\,8ag\,8bz)\nLes 3er nageurs de la dernière finale par catégories seront récompensés (16 o\, 16 ag\,16bz) \n\n\n\nRésultats\n\n\n\n\nRésultats  :\n\nFormat pdf :\nFormat FFNex\nFormat CSV\n\n\n\n\n\n\nProtocole Sanitaire\n\n\n\n\n/ L’accès piscine  :\nLa compétition se déroulera à huis clos\nLe controle du pass sanitaire sera effectué  pour tous\nLe port du masque est obligatoire pour tous dans l’enceinte de la piscine (excepté pour nager)\nUn distributeur de gel hydroalcoolique\, à pied\, sera installé à chaque accès ouvert.\nUn émargement du chef d’équipe ou de l’entraîneur de chaque club sera demandé pour valider la présence des nageurs.\nA compléter\nL’accès douches / vestiaires  :\nPour tous les déplacements\, l’affluence doit être régulée.\nA compléter\nDéroulement compétition :\nA compléter
URL:https://natation13.org/event/les-50-jeunes/
CATEGORIES:Calendrier,Evènements Natation
ATTACH;FMTTYPE=image/png:https://natation13.org/wp-content/uploads/2018/01/natation_50.png
ORGANIZER;CN="CD13 Natation":MAILTO:ffn-cd13@wanadoo.fr
END:VEVENT
END:VCALENDAR