BEGIN:VCALENDAR
VERSION:2.0
PRODID:-//Natation 13 - ECPv6.15.18//NONSGML v1.0//EN
CALSCALE:GREGORIAN
METHOD:PUBLISH
X-ORIGINAL-URL:https://natation13.org
X-WR-CALDESC:Évènements pour Natation 13
REFRESH-INTERVAL;VALUE=DURATION:PT1H
X-Robots-Tag:noindex
X-PUBLISHED-TTL:PT1H
BEGIN:VTIMEZONE
TZID:Europe/Paris
BEGIN:DAYLIGHT
TZOFFSETFROM:+0100
TZOFFSETTO:+0200
TZNAME:CEST
DTSTART:20200329T010000
END:DAYLIGHT
BEGIN:STANDARD
TZOFFSETFROM:+0200
TZOFFSETTO:+0100
TZNAME:CET
DTSTART:20201025T010000
END:STANDARD
BEGIN:DAYLIGHT
TZOFFSETFROM:+0100
TZOFFSETTO:+0200
TZNAME:CEST
DTSTART:20210328T010000
END:DAYLIGHT
BEGIN:STANDARD
TZOFFSETFROM:+0200
TZOFFSETTO:+0100
TZNAME:CET
DTSTART:20211031T010000
END:STANDARD
BEGIN:DAYLIGHT
TZOFFSETFROM:+0100
TZOFFSETTO:+0200
TZNAME:CEST
DTSTART:20220327T010000
END:DAYLIGHT
BEGIN:STANDARD
TZOFFSETFROM:+0200
TZOFFSETTO:+0100
TZNAME:CET
DTSTART:20221030T010000
END:STANDARD
END:VTIMEZONE
BEGIN:VEVENT
DTSTART;TZID=Europe/Paris:20210925T080000
DTEND;TZID=Europe/Paris:20210926T170000
DTSTAMP:20260424T145834
CREATED:20210920T205519Z
LAST-MODIFIED:20210920T205808Z
UID:3044-1632556800-1632675600@natation13.org
SUMMARY:Marseille Cassis Swim Challenge
DESCRIPTION:MC Swim challenge_fiche_Etape_eau_libre_2021
URL:https://natation13.org/event/marseille-cassis-swim-challenge/
LOCATION:Marseille-Cassis
CATEGORIES:Calendrier,Evènements Eau Libre
ORGANIZER;CN="MC Swim Challenge":MAILTO:Gregory CAIAZZO : 06 71 02 38 77 greg@sauvetage.info Ou Christophe CAIAZZO : 06 88 52 99 73 mcswimchallenge@orange.fr
END:VEVENT
BEGIN:VEVENT
DTSTART;VALUE=DATE:20210926
DTEND;VALUE=DATE:20210927
DTSTAMP:20260424T145834
CREATED:20210915T075813Z
LAST-MODIFIED:20210927T205106Z
UID:3033-1632614400-1632700799@natation13.org
SUMMARY:Pré Saison Juniors / Seniors N°1
DESCRIPTION:Pré Saison Juniors / Seniors N°1\n\n\nDate :  Dimanche  26 septembre 2021\nNb poules : 1\n\n\nNb réunions :   2\nLieux :   Rognac\n\n\nBassin :   25 m\nCat :   Juniors / Seniors (F14+\, G15+)\n\n\nNb lignes :   6\nGenre :    Animation\n\n\nDate limite engt :\nLundi 20 septembre 2021\nTarifs :    Indiv. : 3\,00 € / Relais : 5\,00 €\n\n\n\n\n\n\nATTENTION La compétition se déroulera à huis clos. \nConsignes plus détaillées après la clôture des engagements (protocole sanitaire). La situation évoluant tellement vite\, n’oubliez pas  de consulter le site.\n\n\n\n\n\n\nEngagements\n\n\n\nLes engagements seront ouverts du lundi 13 septembre  au lundi 20 septembre 2021 inclus. \n Les Horaires ont changées : \nMatin OP : 9h00 – DE : 10h00\nAprès-midi OP : 13h30 – DE : 14h30 \nLa piscine étant découverte pensez à prévoir les vêtements en conséquence \n\nStarts list :\n\nListe des engagements : PDF\nListe des engagements par structure : PDF\n\n\nProgrammes & planning :\n\nPlanning de la compétition : Pdf\nProgramme de la compétition : Pdf\n\n\nLive Ici\n\n\n\n\nInscription des officiels\n\n\n\nLiens :  Inscription   /  Consultation \n\n\n\nRèglement\n\n\n\n\nCette compétition est ouverte aux nageurs de la catégorie Juniors / Seniors. Les horaires sont susceptibles d’être modifiés en fonction de la participation (merci de consulter le site)  \n\n\n\n\nProgramme\n\n\n\nLes horaires sont susceptibles d’évoluer en fonction de la participation \n Les Horaires ont changées :\nMatin OP : 9h00 – DE : 10h00\nAprès-midi OP : 13h30 – DE : 14h30 \n1° Réunion : Dimanche 26 septembre 2021 – OP : 08h30 – DE : 09h15 (*) 100 Papillon Dames & Messieurs\, 200 Nage Libre Dames & Messieurs\, 100 Dos Dames & Messieurs\, 4×50 4N Mixte 2° Réunion : Dimanche 26 septembre 2021 – OP : 14h00 – DE : 14h45 (*) 4×50 NL Mixte 100 Brasse Dames & Messieurs\, 200 4 Nages Dames & Messieurs\,  100 Nage Libre Dames & Messieurs  \n(*) OP : Ouverture des Portes – DE : Début des Épreuves \n\n\n\nRécompenses\n\n\n\nLa meilleure performance par catégorie sera récompensée (4M) La meilleure performance toutes catégories au cumul des nages (2C)  \n\n\n\nRésultats\n\n\n\n\nRésultats  :\n\nFormat pdf :     \nFormat FFNex \nFormat CSV     \n\n \n\n\n\n\n\n\nProtocole Sanitaire\n\n\n\n\n/ L’accès piscine  :\nLa compétition se déroulera à huis clos\nLe controle du pass sanitaire sera effectué  pour tous\nLe port du masque est obligatoire pour tous dans l’enceinte de la piscine (excepté pour nager)\nUn distributeur de gel hydroalcoolique\, à pied\, sera installé à chaque accès ouvert.\nUn émargement du chef d’équipe ou de l’entraîneur de chaque club sera demandé pour valider la présence des nageurs.\nA compléter\nL’accès douches / vestiaires  :\nPour tous les déplacements\, l’affluence doit être régulée.\nA compléter\nDéroulement compétition :\nA compléter
URL:https://natation13.org/event/pre-saison-juniors-seniors-n1/
LOCATION:Espace Jean Jaurès – Rognac\, 60 Bd Jean Jaurès\, Rognac\, 13340\, France
CATEGORIES:Calendrier,Evènements Natation
ATTACH;FMTTYPE=image/png:https://natation13.org/wp-content/uploads/2017/12/natation_100.png
ORGANIZER;CN="CD13 Natation":MAILTO:ffn-cd13@wanadoo.fr
END:VEVENT
END:VCALENDAR