BEGIN:VCALENDAR
VERSION:2.0
PRODID:-//Natation 13 - ECPv6.15.18//NONSGML v1.0//EN
CALSCALE:GREGORIAN
METHOD:PUBLISH
X-ORIGINAL-URL:https://natation13.org
X-WR-CALDESC:Évènements pour Natation 13
REFRESH-INTERVAL;VALUE=DURATION:PT1H
X-Robots-Tag:noindex
X-PUBLISHED-TTL:PT1H
BEGIN:VTIMEZONE
TZID:Europe/Paris
BEGIN:DAYLIGHT
TZOFFSETFROM:+0100
TZOFFSETTO:+0200
TZNAME:CEST
DTSTART:20200329T010000
END:DAYLIGHT
BEGIN:STANDARD
TZOFFSETFROM:+0200
TZOFFSETTO:+0100
TZNAME:CET
DTSTART:20201025T010000
END:STANDARD
BEGIN:DAYLIGHT
TZOFFSETFROM:+0100
TZOFFSETTO:+0200
TZNAME:CEST
DTSTART:20210328T010000
END:DAYLIGHT
BEGIN:STANDARD
TZOFFSETFROM:+0200
TZOFFSETTO:+0100
TZNAME:CET
DTSTART:20211031T010000
END:STANDARD
BEGIN:DAYLIGHT
TZOFFSETFROM:+0100
TZOFFSETTO:+0200
TZNAME:CEST
DTSTART:20220327T010000
END:DAYLIGHT
BEGIN:STANDARD
TZOFFSETFROM:+0200
TZOFFSETTO:+0100
TZNAME:CET
DTSTART:20221030T010000
END:STANDARD
END:VTIMEZONE
BEGIN:VEVENT
DTSTART;VALUE=DATE:20210314
DTEND;VALUE=DATE:20210315
DTSTAMP:20260425T150517
CREATED:20201113T100544Z
LAST-MODIFIED:20201113T100544Z
UID:2766-1615680000-1615766399@natation13.org
SUMMARY:Championnats Départemental Open des Maîtres de Printemps
DESCRIPTION:Championnats Départemental Open des Maîtres de Printemps\n\n\nDate :  Dimanche 14 mars 2021\nNb poules : 1\n\n\nNb réunions : 2\nLieux :  Martigues\n\n\nBassin : 25 m\nCat :  Maitres (D25+\, M25+)\n\n\nNb lignes :   5\nGenre : Qualificatif\n\n\nDate limite engt :\nLundi 08 mars 2021\nTarifs :  Individuelle : 3\,00 €\nRelais : 5\,00 €\n\n\n\n\n\n\nATTENTION La compétition se déroulera à huis clos. \nN’oubliez de vous munir de votre masque le port du masque est obligatoire. \nConsignes plus détaillées après la clôture des engagements\nLa situation évoluant tellement vite\, n’oubliez pas  de consulter le site.\n\n\n\n\n\n\nEngagements\n\n\n\nListe des engagements : pdf\nEngagement par structure : pdf \n\n\n\nInscription officiels\n\n\n\nLiens : Inscription \n\n\n\nRèglement\n\n\n\nLes nageurs âgés de 25 ans et plus \nAttention en fonction de la participation certaines épreuves pourront être déplacées ou regroupées avec d’autres épreuves \n\n\n\nProgramme\n\n\n\n1° Réunion : Dimanche 14 mars 2021- OP : 08h00 – DE : 09h00 (*) \n4×50 NL Dames & Messieurs\n200 Dos Dames & Messieurs\n100 Papillon Dames & Messieurs\n50 Brasse Dames & Messieurs\n200 4 Nages Dames & Messieurs\n400 NL Dames & Messieurs\n200 Brasse Dames & Messieurs\n50 Dos Dames & Messieurs\n100 NL Dames & Messieurs\n200 Papillon Dames & Messieurs \n2° Réunion : Dimanche 14 mars 2021- OP : 14h00 – DE : 15h00 (*) \n100 4N Dames & Messieurs\n800 NL Dames & Messieurs\n1500 NL Dames & Messieurs\n50 Papillon Dames & Messieurs\n100 Dos Dames & Messieurs\n200 NL Dames & Messieurs\n400 4N Dames & Messieurs\n100 Brasse Dames & Messieurs\n50 NL Dames & Messieurs\nRelais 4×50  4 nages Dames & Messieurs \n(*) OP : Ouverture des Portes – DE : Début des Épreuves \n\n\n\nRécompenses\n\n\n\nPour les épreuves individuelles récompenses au premier de chaque catégorie ttes épreuves confondues (30o)
URL:https://natation13.org/event/championnats-departemental-open-des-maitres-de-printemps/
LOCATION:Piscine Municipale de Martigues\, 10 Avenue du Président Salvadore Allende\, Martigues\, 13500\, France
CATEGORIES:Calendrier,Evènements Natation
ATTACH;FMTTYPE=image/png:https://natation13.org/wp-content/uploads/2018/01/maitres_50.png
ORGANIZER;CN="CD13 Natation":MAILTO:ffn-cd13@wanadoo.fr
END:VEVENT
END:VCALENDAR