BEGIN:VCALENDAR
VERSION:2.0
PRODID:-//Natation 13 - ECPv6.15.18//NONSGML v1.0//EN
CALSCALE:GREGORIAN
METHOD:PUBLISH
X-WR-CALNAME:Natation 13
X-ORIGINAL-URL:https://natation13.org
X-WR-CALDESC:Évènements pour Natation 13
REFRESH-INTERVAL;VALUE=DURATION:PT1H
X-Robots-Tag:noindex
X-PUBLISHED-TTL:PT1H
BEGIN:VTIMEZONE
TZID:Europe/Paris
BEGIN:DAYLIGHT
TZOFFSETFROM:+0100
TZOFFSETTO:+0200
TZNAME:CEST
DTSTART:20200329T010000
END:DAYLIGHT
BEGIN:STANDARD
TZOFFSETFROM:+0200
TZOFFSETTO:+0100
TZNAME:CET
DTSTART:20201025T010000
END:STANDARD
BEGIN:DAYLIGHT
TZOFFSETFROM:+0100
TZOFFSETTO:+0200
TZNAME:CEST
DTSTART:20210328T010000
END:DAYLIGHT
BEGIN:STANDARD
TZOFFSETFROM:+0200
TZOFFSETTO:+0100
TZNAME:CET
DTSTART:20211031T010000
END:STANDARD
BEGIN:DAYLIGHT
TZOFFSETFROM:+0100
TZOFFSETTO:+0200
TZNAME:CEST
DTSTART:20220327T010000
END:DAYLIGHT
BEGIN:STANDARD
TZOFFSETFROM:+0200
TZOFFSETTO:+0100
TZNAME:CET
DTSTART:20221030T010000
END:STANDARD
END:VTIMEZONE
BEGIN:VEVENT
DTSTART;VALUE=DATE:20210207
DTEND;VALUE=DATE:20210208
DTSTAMP:20260425T143907
CREATED:20201109T100730Z
LAST-MODIFIED:20201109T100730Z
UID:2756-1612656000-1612742399@natation13.org
SUMMARY:Qualification aux Interclubs Jeunes poule régionale
DESCRIPTION:Qualification aux Interclubs Jeunes poule régionale\n\n\nDate :  Dimanche 07 février 2021\nNb poules : 1 ou 2\n\n\nNb réunions : 1 ou 2\nLieux :   Martigues (Zone Ouest) et / ou\nMarseille (Zone Est)\n\n\nBassin : 25 m\nCat : Jeunes (F11-13\, G12-14)\n\n\nNb lignes :   6\nGenre : Animation\n\n\nDate limite engt :\nLundi 01 février 2021\nTarifs :  Équipe : 30\,00 €\n\n\n\n\n\n\nATTENTION La compétition se déroulera à huis clos. \nN’oubliez de vous munir de votre masque le port du masque est obligatoire. \nConsignes plus détaillées après la clôture des engagements\nLa situation évoluant tellement vite\, n’oubliez pas  de consulter le site.\n\n\n\n\n\n\nEngagements\n\n\n\nListe des engagements : pdf\nEngagement par structure : pdf \n\n\n\nInscription officiels\n\n\n\nLiens : Inscription Martigues\nLiens : Inscription Marseille \n\n\n\nRèglement\n\n\n\nAttention cette compétition ne remplace pas les interclubs jeunes (ne compte pas pour le CNC). Elle  a pour objectif de déterminer les 24 meilleures équipes PACA qui participeront à la poule régionale des interclubs jeunes. Les autres équipes participeront aux poules départementales des interclubs jeunes. Une équipe qui ne participera pas à cette compétition pourra participer aux interclubs jeunes dans la poule départementale. \nLes équipes seront composées de 4 nageurs. Un nageur doit participer obligatoirement à une épreuve individuelle ainsi qu’à tous les relais. \nLes équipes mixtes pourront être engagées via un bordereau disponible sur le site du comité par contre elles seront hors classement. \nUne épreuve réservée au remplaçant de chaque équipe sera planifiée lors du déroulement de la compétition (avant les relais). Une seule course par remplaçant correspondant aux épreuves de la compétition. Les engagements seront effectués sur un bordereau et transmis à l’informatique avant le début des épreuves. \n\n\n\nProgramme\n\n\n\nLes horaires sont susceptibles d’être modifiés en fonction de la participation et des horaires de mise à disposition des piscines   \n1° Réunion : Dimanche 07 février 2021 – OP : 08h15 – DE : 09h00 (*) et/ou 0P -14h00 – DE : 14h45 \n4 x 100 NL Dames-messieurs\n50 Papillon  Dames-messieurs\n50 Dos Dames-messieurs\n50 Brasse Dames-messieurs\n50 NL Dames-messieurs\nCourse des Remplaçants\n4 x 50 4 Nages Dames-messieurs \nCette compétition aura lieu sur 1 ou 2 réunions / et sur 1 ou 2 poules en fonction de la participation \n(*) OP : Ouverture des Portes – DE : Début des Épreuves \n\n\n\nClassement\n\n\n\nPour être classée une équipe doit participer à toutes les épreuves (individuelles et relais) conformément au règlement. \nUn classement régional sera effectué  et les 24 premières équipes à l’issue de ce classement seront qualifiées pour  participer à la poule régionale des interclubs jeunes. Les autres ou celles qui n’ont participé participeront à la poule Départementale  des interclubs \n\n\n\nRécompenses\n\n\n\nLes trois meilleures équipes Filles et Garçons seront récompensées. (8o\, 8a\, 8b)
URL:https://natation13.org/event/qualification-aux-interclubs-jeunes-poule-regionale/
CATEGORIES:Calendrier,Evènements Natation
ATTACH;FMTTYPE=image/png:https://natation13.org/wp-content/uploads/2018/01/nc_50.png
ORGANIZER;CN="CD13 Natation":MAILTO:ffn-cd13@wanadoo.fr
END:VEVENT
END:VCALENDAR