BEGIN:VCALENDAR
VERSION:2.0
PRODID:-//Natation 13 - ECPv6.15.18//NONSGML v1.0//EN
CALSCALE:GREGORIAN
METHOD:PUBLISH
X-ORIGINAL-URL:https://natation13.org
X-WR-CALDESC:Évènements pour Natation 13
REFRESH-INTERVAL;VALUE=DURATION:PT1H
X-Robots-Tag:noindex
X-PUBLISHED-TTL:PT1H
BEGIN:VTIMEZONE
TZID:Europe/Paris
BEGIN:DAYLIGHT
TZOFFSETFROM:+0100
TZOFFSETTO:+0200
TZNAME:CEST
DTSTART:20190331T010000
END:DAYLIGHT
BEGIN:STANDARD
TZOFFSETFROM:+0200
TZOFFSETTO:+0100
TZNAME:CET
DTSTART:20191027T010000
END:STANDARD
BEGIN:DAYLIGHT
TZOFFSETFROM:+0100
TZOFFSETTO:+0200
TZNAME:CEST
DTSTART:20200329T010000
END:DAYLIGHT
BEGIN:STANDARD
TZOFFSETFROM:+0200
TZOFFSETTO:+0100
TZNAME:CET
DTSTART:20201025T010000
END:STANDARD
BEGIN:DAYLIGHT
TZOFFSETFROM:+0100
TZOFFSETTO:+0200
TZNAME:CEST
DTSTART:20210328T010000
END:DAYLIGHT
BEGIN:STANDARD
TZOFFSETFROM:+0200
TZOFFSETTO:+0100
TZNAME:CET
DTSTART:20211031T010000
END:STANDARD
END:VTIMEZONE
BEGIN:VEVENT
DTSTART;TZID=Europe/Paris:20201017T080000
DTEND;TZID=Europe/Paris:20201017T113000
DTSTAMP:20260426T043153
CREATED:20200908T092625Z
LAST-MODIFIED:20201015T211918Z
UID:2476-1602921600-1602934200@natation13.org
SUMMARY:RELAIS AVENIRS
DESCRIPTION:RELAIS AVENIRS\n\n\n\nDate :  Samedi 17 Dimanche 18 Octobre 2020\nNb poules : 1\n\n\nNb réunions : 1\nLieux : Marseille (piscine Desautel 9e)\n\n\nBassin : 25 m\nCat : Avenirs\n\n\nNb lignes :   ?\nGenre : Animation\n\n\nDate limite engt :\nLundi 12 octobre 2020\nTarifs : Équipe : 20 €\n\n\n\n\n\n\nATTENTION la compétition se déroulera à huis clos. \nN’oubliez de vous munir de votre masque le port du masque est obligatoire. \nConsignes plus détaillées après la clôture des engagements\nLes horaires sont susceptibles de changer en fonction de la fréquentation.\nLa situation évoluant tellement vite\,  pensez à consulter le site régulièrement. Merci\n\n\n\nProtocole Sanitaire : pdf\nPlanification compétition : pdf \n \n\n\n\nEngagements\n\n\n\nListe des engagements : pdf\nEngagement par structure : pdf \n\n\n\nInscription officiels\n\n\n\nLiens : inscriptions \n\n\n\nRèglement\n\n\n\nChaque équipe Fille\, Garçon ou Mixte (au moins une fille et un garçon) est composée de 4 nageurs et pourra être composée de nageurs n’ayant pas le pass’compétition. Chaque équipe nagera les 2 relais suivant:\n-relais Nage Libre 1 relayeur: 100m\, 2ème75m\, 3ème50m et 4ème25 en nage libre\n-relais 4 Nages 1errelayeur 100m NL\, 2ème75m dos\, 3ème50m Brasse et 4me 25m pap\nLe nageur nageant en dos partira sur le plot de départ (départ plongé)Les engagements se feront via extranat sur une compétition spécifique(Attention les épreuves seront différentes de celles nagées ex 4×100 NL = relais 100m\, 75m\, 50m\, 25m NL)\nAustralienne pour tous (une pour les filles et une pour les garçons) \n\n\n\nProgramme\n\n\n\n1° Réunion: Samedi 17 octobre 2020 -OP: 08h15–DE: 09h00(*) \nRelais 100 NL 75 Dos 50 Brasse 25m Pap\nRelais 100 75 50 25m NL\nAustralienne \n(*) OP : Ouverture des Portes – DE : Début des Épreuves \n\n\n\nRécompenses\n\n\n\n– Médailles pour les 3eres équipes de chaque relais (médailles 36o\, 36a\, 36b)\n– Coupes pour la 1ère équipe Filles\, Garçons et Mixtes au cumul des 2 relais (3C)\n-Médailles pour les 3ères filles et garçons de l’australienne (2o\,2a\,2b)
URL:https://natation13.org/event/relais-avenirs-2/
CATEGORIES:Calendrier,Evènements Natation
ATTACH;FMTTYPE=image/png:https://natation13.org/wp-content/uploads/2018/01/natation_50.png
ORGANIZER;CN="CD13 Natation":MAILTO:ffn-cd13@wanadoo.fr
END:VEVENT
BEGIN:VEVENT
DTSTART;TZID=Europe/Paris:20201017T120000
DTEND;TZID=Europe/Paris:20201017T133000
DTSTAMP:20260426T043153
CREATED:20200908T093731Z
LAST-MODIFIED:20201015T212154Z
UID:2478-1602936000-1602941400@natation13.org
SUMMARY:PARCOURS ENF
DESCRIPTION:PARCOURS ENF\n\n\n\nDate :  Samedi 17 Dimanche 18 Octobre 2020\nNb poules : 1\n\n\nNb réunions : 1\nLieux :  Marseille (piscine Desautel 9e)\n\n\nBassin : 25 m\nCat : Avenirs (F10-\, G11-)\n\n\nNb lignes :   ?\nGenre : Animation\n\n\nDate limite engt :\nLundi 12 octobre 2020\nTarifs : Épreuve : 2\,00 €\n\n\n\n\n\n\nATTENTION la compétition se déroulera à huis clos. \nN’oubliez de vous munir de votre masque le port du masque est obligatoire. \nConsignes plus détaillées après la clôture des engagements\n Les horaires sont susceptibles de changer en fonction de la fréquentation.\nLa situation évoluant tellement vite\,  pensez à consulter le site régulièrement. Merci\n\n\n\nProtocole Sanitaire : pdf\nPlanification compétition : pdf \n \n\n\n\nEngagements\n\n\n\nListe des engagements : pdf\nEngagement par structure : pdf \n\n\n\nInscription officiels\n\n\n\nLiens : inscriptions \n\n\n\nRèglement\n\n\n\nCe challenge Avenirs s’inscrit dans le parcours de l’ENF et l’obtention du pass compétition.\nCe Challenge permet aux nageuses et nageurs de la catégorie Avenirs de s’engager en compétition sans Pass Compétition. Toute autre compétition exigera du nageur d’être en possession de ce troisième volet de l’ENF (interclubs avenirs\, trophée avenirs\,…)\nCe challenge n’est évidemment pas interdit aux nageuses et nageurs titulaires du pass compétition\nAttention les nageurs doivent avoir une licence compétition pours’engager via extranat \n\n\n\nProgramme\n\n\n\n1° Réunion: Samedi 17 octobre 2020 -OP: 12h15–DE: 12h30(*) \n50 Dos / Brasse Filles & Garçons\n25 Dos Filles & Garçons\n100 NL Filles & Garçons\n25 NL Filles & Garçons\n50 Papillon / Dos Filles & Garçons \n(*) OP : Ouverture des Portes – DE : Début des Épreuves \n\n\n\nRécompenses\n\n\n\nLes 3 premières Filles et Garçons seront récompensées pour les 50m et 100m (6O\,6A\,6B)
URL:https://natation13.org/event/parcours-enf-4/
CATEGORIES:Calendrier,Evènements Natation
ATTACH;FMTTYPE=image/png:https://natation13.org/wp-content/uploads/2018/01/natation_50.png
ORGANIZER;CN="CD13 Natation":MAILTO:ffn-cd13@wanadoo.fr
END:VEVENT
BEGIN:VEVENT
DTSTART;TZID=Europe/Paris:20201017T143000
DTEND;TZID=Europe/Paris:20201017T180000
DTSTAMP:20260426T043153
CREATED:20200908T110454Z
LAST-MODIFIED:20201015T212434Z
UID:2480-1602945000-1602957600@natation13.org
SUMMARY:RELAIS JEUNES
DESCRIPTION:RELAIS JEUNES\n\n\n\nDate :  Samedi 17 Dimanche 18 Octobre 2020\nNb poules : 1\n\n\nNb réunions : 1\nLieux :  Marseille (piscine Desautel 9e)\n\n\nBassin : 25 m\nCat : Jeunes (F11-13\, G12-14)\n\n\nNb lignes :   ?\nGenre : Animation\n\n\nDate limite engt :\nLundi 12 octobre 2020\nTarifs : Équipe : 20 €\n\n\n\n\n\n\nATTENTION la compétition se déroulera à huis clos. \nN’oubliez de vous munir de votre masque le port du masque est obligatoire. \nConsignes plus détaillées après la clôture des engagements\nLes horaires sont susceptibles de changer en fonction de la fréquentation. Pensez à consulter le site. Merci\n\n\n\n\nProtocole Sanitaire : pdf\nPlanification compétition : pdf \n \n\n\n\nEngagements\n\n\n\nListe des engagements : pdf\nEngagement par structure : pdf \n\n\n\nInscription officiels\n\n\n\nLiens :  inscriptions \n\n\n\nRèglement\n\n\n\nChaque équipe Filles\, Garçons ou Mixte(au moins une fille et un garçon)est composée de 4 nageurs. Chaque équipe nagera les 2 relais suivant :\n-relais Nage Libre 1er relayeur : 200m\, 2ème 150m\, 3ème 100m et 4ème 50m en Nage Libre\n-relais 4 Nages 1er relayeur 100m NL\, 2ème 75m Dos\, 3ème 50m Brasse et 4me 25m Papillon\nLe nageur nageant en dos partira sur le plot de départ (départ plongé)\nSuite au classement à l’issu des 2 relais il y aura une finale sur un relais 4x50m\n-4x50m   1er relayeur 25 Dos & 25 NL\,  2ème 25 Brasse & 25 NL\,  3ème 25 Pap & 25 NL et 4ème 50 NL\nAttention en fonction de la participation\, il y aura 2 vagues de 30 minutes d’échauffement. Dans ce cas il y aura un tirage au sort avec équilibrage des vagues \n\n\n\nProgramme\n\n\n\n1° Réunion: Samedi 17 octobre 2020 -OP: 14h30–DE: 15h30(*) \nRelais 100 NL 75Dos 50 Brasse 25m Pap Filles\, Garçons et Mixte\nRelais 200 150 100 50m NL Filles\, Garçons et Mixte\nFinale 4x50m Filles\, Garçons et Mixte   1er25 dos & 25 NL\, 2ème25 brasse & 25 NL\, 3ème25 pap & 25 NL et 4me 50 NLMixte \n(*) OP : Ouverture des Portes – DE : Début des Épreuves \n\n\n\nRécompenses\n\n\n\nLe premier relais Filles\, Garçons et Mixte de la finale sera récompensé par une coupe (3c).\nLes nageurs des 3 premières équipes seront récompensés par des médailles (12o\, 12a\, 12b)
URL:https://natation13.org/event/relais-jeunes-3/
CATEGORIES:Calendrier,Evènements Natation
ATTACH;FMTTYPE=image/png:https://natation13.org/wp-content/uploads/2018/01/natation_50.png
ORGANIZER;CN="CD13 Natation":MAILTO:ffn-cd13@wanadoo.fr
END:VEVENT
END:VCALENDAR