BEGIN:VCALENDAR
VERSION:2.0
PRODID:-//Natation 13 - ECPv6.15.18//NONSGML v1.0//EN
CALSCALE:GREGORIAN
METHOD:PUBLISH
X-ORIGINAL-URL:https://natation13.org
X-WR-CALDESC:Évènements pour Natation 13
REFRESH-INTERVAL;VALUE=DURATION:PT1H
X-Robots-Tag:noindex
X-PUBLISHED-TTL:PT1H
BEGIN:VTIMEZONE
TZID:Europe/Paris
BEGIN:DAYLIGHT
TZOFFSETFROM:+0100
TZOFFSETTO:+0200
TZNAME:CEST
DTSTART:20190331T010000
END:DAYLIGHT
BEGIN:STANDARD
TZOFFSETFROM:+0200
TZOFFSETTO:+0100
TZNAME:CET
DTSTART:20191027T010000
END:STANDARD
BEGIN:DAYLIGHT
TZOFFSETFROM:+0100
TZOFFSETTO:+0200
TZNAME:CEST
DTSTART:20200329T010000
END:DAYLIGHT
BEGIN:STANDARD
TZOFFSETFROM:+0200
TZOFFSETTO:+0100
TZNAME:CET
DTSTART:20201025T010000
END:STANDARD
BEGIN:DAYLIGHT
TZOFFSETFROM:+0100
TZOFFSETTO:+0200
TZNAME:CEST
DTSTART:20210328T010000
END:DAYLIGHT
BEGIN:STANDARD
TZOFFSETFROM:+0200
TZOFFSETTO:+0100
TZNAME:CET
DTSTART:20211031T010000
END:STANDARD
END:VTIMEZONE
BEGIN:VEVENT
DTSTART;TZID=Europe/Paris:20201003T080000
DTEND;TZID=Europe/Paris:20201004T170000
DTSTAMP:20260426T043626
CREATED:20200830T130128Z
LAST-MODIFIED:20200830T130731Z
UID:2447-1601712000-1601830800@natation13.org
SUMMARY:MC Swim Challenge
DESCRIPTION:  \n\n\n\nDate\n3 et 4 octobre 2020\nLieu\nMarseille / Cassis\n\n\nCatégories :\n16 ans et plus\nMilieu\nMer\n\n\nDate limite Engt\n\nTarifs\nMC 10 : 70  €\nMC 18 : 75 €\nMC RELAI S: 100 € par équipe\n\n\n\n\n\n\n\nDescription\n\n\n\n\n MC Swim Challenge 2020 : 2 courses + 1 challenge \nLes deux courses : \n\n10 km : Marseille – Cassis\n\nD’une distance olympique de 10 km\, Le  départ sera prévu au coeur des Calanques de Marseille au niveau de la calanque de Morgiou et joindra la plage de Grande Mer à Cassis. Lors de ce marathon de nage\, 120 privilégiés pourront alors se dépasser dans ce cadre d’exception. Les mêmes conditions de sécurité et d’assistance seront mises en place auprès de l’ensemble des nageurs durant toute la traversée. Cette course chronométrée pourra également se faire avec ou sans combinaison ainsi qu’avec ou sans palmes. \n  \n\nLe relai Solidarité Cassis 4x1250m\n\nLe Relai se déroulera dans la magnifique baie de Cassis au départ de la plage de Grande Mer. Le MC Swim Challenge est un évènement sportif jusqu’à présent dédié uniquement à l’élite de la nage en Eau libre. Grâce au MC RELAI SOLIDARITE CASSIS\, le MC Swim Challenge sera ouvert au plus grand nombre. 40 Equipes composées de 4 nageurs (2 femmes et 2 hommes) se relaieront dans la baie de Cassis sur ce 4 x 1250m sans matériel et avec ou sans combinaison. \nLe challenge : \n\nLe 18 km Marseille-Cassis\n\nSeule 30 nageurs chevronnés auront l’opportunité de relier Marseille à Cassis à la nage. Au départ de Marseille sur de la plage de la Maronaise des Goudes ou du village de Callelongue suivant la météo\, le matin du samedi 3 octobre 2020\, 30 nageurs partiront pour cette traversée sans escale par groupe de niveau équivalent. Le but est la coopération des nageurs\, s’aider\, se soutenir\, se dépasser pour arriver ensemble sur la plage de Grande Mer à Cassis. Les nageurs seront accompagnés durant toute la traversée par des embarcations (kayaks\, Stand up\, bateaux) qui assureront la sécurité mais aussi le ravitaillement. \n\n\n\n\n10 km étape n°3 – [ 10 kms ]\n\n\n\nJour de l’épreuve : Dimanche 4 octobre\nType d’épreuve : Individuel\nHeure du départ: 10h00\nAge : 16 ans et plus\nType : MC Swim ChallengeDistance : 10 kms \nObservations :\nRèglement : Sur www.mcswimchallenge.fr\nEngagements : date à fixer en avril\nSite : www.mcswimchallenge.fr \n Tarifs (par engagement)  \nMC 10 : 70 euros + licence    Aucune inscription sur place\n\n\n\n\n\n\n\nRelais Mixte 4*1250m – [ 5 kms]\n\n\n\nJour de l’épreuve : samedi 3 octobre \nType d’épreuve : Equipe de 4 personnes \nComposition de relais: 2 messieurs minimum / 2 dames minimum\nHeure du départ: 13h00\nAge : A partir de 16 ans (11ans pour les licencies FFN)\nType : MC Swim Challenge \nDistance :  5 kms \nRèglement : Sur www.mcswimchallenge.fr\nEngagements : date à fixer en avril\nSite : www.mcswimchallenge.fr \nTarifs (par engagement) \n// MC RELAIS : 100 euros par équipe ;  Aucune inscription sur place\n\n\n\n\n\n\n\nInformations complémentaires\n\n\n\n\nCourse caritative au profit des enfants atteints d’un cancer \n\n\n\n\nOrganisateur / Contacts\n\n\n\n\nCoordonnées : \nGregory CAIAZZO : 06 71 02 38 77 greg@sauvetage.info \nOu \nChristophe CAIAZZO : 06 88 52 99 73 mcswimchallenge@orange.fr \n  \n\n\n\n\nPartenaires INSTITUTIONNELS\n\n\n\n\n \n\n\n\n\nInformations diverses\n\n\n\n\nPOUR EFFECTUER UN DON AU PROFIT DES ENFANTS ATTEINTS D UN CANCER : \nwww.mcswimchallenge.fr \nOU directement \nhttps://www.helloasso.com/associations/ecole-de-sauvetage-cotier-mediterraneenne/formulaires/2/widget
URL:https://natation13.org/event/mc-swim-challenge/
LOCATION:Marseille-Cassis
CATEGORIES:Calendrier,Evènemants Eau Libre 1
ATTACH;FMTTYPE=image/png:https://natation13.org/wp-content/uploads/2018/01/eau-libre_50.png
ORGANIZER;CN="MC Swim Challenge":MAILTO:Gregory CAIAZZO : 06 71 02 38 77 greg@sauvetage.info Ou Christophe CAIAZZO : 06 88 52 99 73 mcswimchallenge@orange.fr
END:VEVENT
END:VCALENDAR