BEGIN:VCALENDAR
VERSION:2.0
PRODID:-//Natation 13 - ECPv6.15.18//NONSGML v1.0//EN
CALSCALE:GREGORIAN
METHOD:PUBLISH
X-ORIGINAL-URL:https://natation13.org
X-WR-CALDESC:Évènements pour Natation 13
REFRESH-INTERVAL;VALUE=DURATION:PT1H
X-Robots-Tag:noindex
X-PUBLISHED-TTL:PT1H
BEGIN:VTIMEZONE
TZID:Europe/Paris
BEGIN:DAYLIGHT
TZOFFSETFROM:+0100
TZOFFSETTO:+0200
TZNAME:CEST
DTSTART:20190331T010000
END:DAYLIGHT
BEGIN:STANDARD
TZOFFSETFROM:+0200
TZOFFSETTO:+0100
TZNAME:CET
DTSTART:20191027T010000
END:STANDARD
BEGIN:DAYLIGHT
TZOFFSETFROM:+0100
TZOFFSETTO:+0200
TZNAME:CEST
DTSTART:20200329T010000
END:DAYLIGHT
BEGIN:STANDARD
TZOFFSETFROM:+0200
TZOFFSETTO:+0100
TZNAME:CET
DTSTART:20201025T010000
END:STANDARD
BEGIN:DAYLIGHT
TZOFFSETFROM:+0100
TZOFFSETTO:+0200
TZNAME:CEST
DTSTART:20210328T010000
END:DAYLIGHT
BEGIN:STANDARD
TZOFFSETFROM:+0200
TZOFFSETTO:+0100
TZNAME:CET
DTSTART:20211031T010000
END:STANDARD
END:VTIMEZONE
BEGIN:VEVENT
DTSTART;TZID=Europe/Paris:20200910T070000
DTEND;TZID=Europe/Paris:20200913T170000
DTSTAMP:20260426T011619
CREATED:20200826T210627Z
LAST-MODIFIED:20200830T131546Z
UID:2414-1599721200-1600016400@natation13.org
SUMMARY:Défi de Monte Cristo
DESCRIPTION:  \n\n\n\nDate\n10 au 13 septembre 2020\nLieu\nPlage du Petit Roucas Blanc\, 13008 Marseille \n\n\nCatégories\nOpen\, Junior\nMilieu\nMer\n\n\nDate limite Engt\nAucune\nTarifs\n20 à 150  €\n\n\n\n\n\n\n\nDescription\n\n\n\n\nCréé en 1999 et inspiré de l’évasion mythique d’Edmond Dantès\, le Défi de Monte-Cristo est aujourd’hui la course de natation en mer la plus importante d’Europe. \n\n\n\n\nLe DEFI de  MONTE-CRISTO by  NIGHT RACE FOR PURE OCÉAN – 5 K\n\n\n\nJour de l’épreuve : Jeudi 10 septembre 2020\nType d’épreuve : Individuel\nHeure du départ:20h15\nAge : + de 16 ans\nType : Épreuves complémentaires grand publicDistance :5 kms \nObservations :\nCette course a lieu en partenariat avec Pure océan. Les fonds récoltés seront versés intégralement aux projets de recherche appliquée sélectionnés par le Comité Scientifique de Pure Ocean.\nRassemblement une heure avant le départ. \nDélai de fin de course : 1h45\nPour participer\, il faut avoir déjà fait le Défi de Monte-Cristo 5K en 2019 ou 2018 avec un temps de course inférieur à 1h45mn \nCertificat médical obligatoire pour les non-licenciés (mention «non contre-indication à la natation en mer en compétition»). \nLes nageurs peuvent concourir avec des équipements dont les caractéristiques sont libres : tous les types de tubas\, combinaisons\, lunettes ou masque sont autorisés. Sont proscrits palmes\, plaquette de natation\, pull-buoy\, et planche de natation. \nEngagements :\nInscriptions ouvertes jusqu’à ce que l’épreuve soit complète. \nSite : http://dmc2020.front.events.ip-links.net/?lang=fr \nTarifs (par engagement) \n150 € pour tous. \nTarif sur place : Aucune inscription sur place. Toutes les inscriptions sont à faire sur le site du Défi de Monte Cristo\n\n\n\n\n\n\n\n5K sans palmes\n\n\n\nJour de l’épreuve : vendredi 11 Septembre 2020 \nType d’épreuve : Individuel\nHeure du départ:9h15\nAge : + de 16 ans\nType : Épreuves complémentaires grand public \nDistance :5 kms \n  \nObservations :\nRassemblement une heure avant le départ.\nDélai de fin de course : 2h30\nLes nageurs peuvent concourir avec des équipements dont les caractéristiques sont libres : tous les types de tubas\, combinaisons\, lunettes ou masque sont autorisés. Sont proscrits palmes\, plaquette de natation\, pull-buoy\, et planche de natation. \nLes concurrents devront présenter obligatoirement être licencié auprès d’une des fédérations suivantes : FFN\, FTRI ou FINA. \n  \nEngagements :\nInscriptions ouvertes jusqu’à ce que l’épreuve soit complète. \nSite : http://dmc2020.front.events.ip-links.net/?lang=fr \n  \nTarifs (par engagement)  \n56 € (inclus la licence FNN) \n50 € si l’on possède déjà une licence (FFN\, FTRI ou FINA) \nAucune inscription sur place. Toutes les inscriptions sont à faire sur le site du Défi de Monte Cristo\n\n\n\n\n\n\n\n3\,5K sans palmes\n\n\n\nJour de l’épreuve : vendredi 11 septembre 2020\nType d’épreuve : Individuel\nHeure du départ:14h\nAge : + de 16 ans\nType : Épreuves complémentaires grand publicDistance : 3\,5k \nObservations :\nRassemblement une heure avant le départ.\nDélai de fin de course : 1h45\nLes nageurs peuvent concourir avec des équipements dont les caractéristiques sont libres : tous les types de tubas\, combinaisons\, lunettes ou masque sont autorisés. Sont proscrits palmes\, plaquette de natation\, pull-boy\, et planche de natation. \nLes concurrents devront obligatoirement être licenciés auprès d’une des fédérations suivantes : FFN\, FTRI ou FINA. \n  \nEngagements \nInscriptions ouvertes jusqu’à ce que l’épreuve soit complète. \nSite : http://dmc2020.front.events.ip-links.net/?lang=fr \n  \nTarifs (par engagement)\n43€ (inclus la licence FNN) \n37 € si l’on possède déjà une licence (FFN\, FTRI ou FINA) \nAucune inscription sur place. Toutes les inscriptions sont à faire sur le site du Défi de Monte Cristo \n \n\n\n\n\n\n\n\nLe défi open 2k\n\n\n\nJour de l’épreuve : vendredi 11 septembre 2020\nType d’épreuve : Individuel\nHeure du départ:19h\nAge : + de 16 ans\nType : Épreuves complémentaires grand publicDistance :  2 kms \nObservations :\nRassemblement une heure avant le départ.\nLes nageurs peuvent concourir avec ou sans palmes. Tous les types de palmes\, tubas\, combinaisons\, lunettes ou masque sont autorisés. Sont proscrits plaquette de natation\, pull-boy\, et planche de natation.\nCette course est packagée avec une pasta party qui aura lieu après la fin de cette épreuve. \nLes participants « sans palmes » devront obligatoirement être licenciés auprès d’une des fédérations suivantes : FFN\, FTRI ou FINA. \nLes participants « avec palmes » devront présenter soit une licence des fédérations suivantes (FFN\, FFESSM\, FFTRI & FINA)\, soit un certificat médical datant de moins de 3 mois AU JOUR DE LA COURSE\, précisant la « non contre-indication à la natation en mer en compétition ». \nEngagements :\nInscriptions ouvertes jusqu’à ce que l’épreuve soit complète. \nSite : http://dmc2020.front.events.ip-links.net/?lang=fr \nTarifs (par engagement)\n37€ pour les inscriptions « sans palmes » (inclus la licence FNN) \n31 € pour les inscriptions « sans palmes » si l’on possède déjà une licence (FFN\, FTRI ou FINA) \n31 € pour les inscriptions « avec palmes » \nTarif sur place : Aucune inscription sur place. Toutes les inscriptions sont à faire sur le site du Défi de Monte Cristo\n\n\n\n\n\n\n\n5K sans palmes\n\n\n\nJour de l’épreuve : samedi  12 Septembre 2020 \nType d’épreuve : Individuel\nHeure du départ:9h15\nAge : + de 16 ans\nType : Épreuves complémentaires grand public \nDistance :5 kms \n Observations : \nRassemblement une heure avant le départ.\nDélai de fin de course : 2h30\nLes nageurs peuvent concourir avec des équipements dont les caractéristiques sont libres : tous les types de palmes\, tubas\, combinaisons\, lunettes ou masque sont autorisés. Sont proscrits plaquette de natation\, pull-buoy\, et planche de natation.\nLes participants devront présenter soit une licence des fédérations suivantes (FFN\, FFESSM\, FFTRI & FINA)\, soit un certificat médical datant de moins de 3 mois AU JOUR DE LA COURSE\, précisant la « non contre-indication à la natation en mer en compétition ». \nEngagements :\nInscriptions ouvertes jusqu’à ce que l’épreuve soit complète. \nSite : http://dmc2020.front.events.ip-links.net/?lang=fr \n  \nTarifs (par engagement)  \n50 € pour tous \nAucune inscription sur place. Toutes les inscriptions sont à faire sur le site du Défi de Monte Cristo\n\n\n\n\n\n\n\n2\,5K AVEC palmes\n\n\n\nJour de l’épreuve : dimanche 13 Septembre 2020 \nType d’épreuve : Individuel\nHeure du départ:14h\nAge : + de 16 ans\nType : Épreuves complémentaires grand public \nDistance : 2\,5 kms \n Observations : \nRassemblement une heure avant le départ.\nLes nageurs peuvent concourir avec des équipements dont les caractéristiques sont libres : tous les types de palmes\, tubas\, combinaisons\, lunettes ou masque sont autorisés. Sont proscrits plaquette de natation\, pull-buoy\, et planche de natation.\nLes participants devront présenter soit une licence des fédérations suivantes (FFN\, FFESSM\, FFTRI & FINA)\, soit un certificat médical datant de moins de 3 mois AU JOUR DE LA COURSE\, précisant la « non contre-indication à la natation en mer en compétition ». \n Engagements : \nInscriptions ouvertes jusqu’à ce que l’épreuve soit complète. \nSite : http://dmc2020.front.events.ip-links.net/?lang=fr \n  \nTarifs (par engagement)  \n31 € pour tous. Aucune inscription sur place.\n\n\n\n\n\n\n\nLE défi open 1k\n\n\n\nJour de l’épreuve : dimanche 13 Septembre 2020 \nType d’épreuve : Individuel\nHeure du départ:16h\nAge : + de 16 ans\nType : Épreuves complémentaires grand public \nDistance :1 kms \n Observations : \nRassemblement une heure avant le départ.\nLes nageurs peuvent concourir avec ou sans palmes. Tous les types de palmes\, tubas\, combinaisons\, lunettes ou masque sont autorisés. Sont proscrits plaquette de natation\, pull-buoy\, et planche de natation.\n  \nLes participants « sans palmes » devront obligatoirement être licenciés auprès d’une des fédérations suivantes : FFN\, FTRI ou FINA. \n  \nLes participants « avec palmes » devront présenter soit une licence des fédérations suivantes (FFN\, FFESSM\, FFTRI & FINA)\, soit un certificat médical datant de moins de 3 mois AU JOUR DE LA COURSE\, précisant la « non contre-indication à la natation en mer en compétition ». \nEngagements :\nInscriptions ouvertes jusqu’à ce que l’épreuve soit complète. \nSite : http://dmc2020.front.events.ip-links.net/?lang=fr \n  \nTarifs (par engagement)\n26 € pour les inscriptions « sans palmes » (inclus la licence FNN) \n20 € pour les inscriptions « sans palmes » si l’on possède déjà une licence (FFN\, FTRI ou FINA) \n20 € pour les inscriptions « avec palmes ». \nAucune inscription sur place. Toutes les inscriptions sont à faire sur le site du Défi de Monte Cristo\n\n\n\n\n\n\n\nInformations complémentaires\n\n\n\n\nLes 3 premiers hommes et femmes de chaque épreuve seront récompensés. \n\n\n\n\nOrganisateur / Contacts\n\n\n\n\nDominique Lena \ndefimc@id2mark.com \n0491701068 \nhttps://www.defimonte-cristo.com/fr/ \n\n\n\n\nPartenaires\n\n\n\n\nLes partenaires & sponsors 2020 sont en cours de contractualisation. \nIls seront affichés sur cette page : https://www.defimonte-cristo.com/fr/partenaires \n\n\n\n\nInformations diverses\n\n\n\n\nPage Facebook : https://www.facebook.com/defimontecristo/ \nPage Instagram :https://www.instagram.com/defimontecristo/?hl=fr \nPhotos : https://www.defimonte-cristo.com/fr/galerie
URL:https://natation13.org/event/defi-de-monte-cristo/
LOCATION:Plage du Petit Roucas Blanc\, 13008 Marseille\, Plage du Petit Roucas Blanc\, Marseille\, 13008\, France
CATEGORIES:Calendrier,Evènemants Eau Libre 1
ATTACH;FMTTYPE=image/png:https://natation13.org/wp-content/uploads/2018/01/eau-libre_50.png
ORGANIZER;CN="Dominique Lena":MAILTO:defimc@id2mark.com
END:VEVENT
END:VCALENDAR