BEGIN:VCALENDAR
VERSION:2.0
PRODID:-//Natation 13 - ECPv6.15.18//NONSGML v1.0//EN
CALSCALE:GREGORIAN
METHOD:PUBLISH
X-ORIGINAL-URL:https://natation13.org
X-WR-CALDESC:Évènements pour Natation 13
REFRESH-INTERVAL;VALUE=DURATION:PT1H
X-Robots-Tag:noindex
X-PUBLISHED-TTL:PT1H
BEGIN:VTIMEZONE
TZID:Europe/Paris
BEGIN:DAYLIGHT
TZOFFSETFROM:+0100
TZOFFSETTO:+0200
TZNAME:CEST
DTSTART:20220327T010000
END:DAYLIGHT
BEGIN:STANDARD
TZOFFSETFROM:+0200
TZOFFSETTO:+0100
TZNAME:CET
DTSTART:20221030T010000
END:STANDARD
BEGIN:DAYLIGHT
TZOFFSETFROM:+0100
TZOFFSETTO:+0200
TZNAME:CEST
DTSTART:20230326T010000
END:DAYLIGHT
BEGIN:STANDARD
TZOFFSETFROM:+0200
TZOFFSETTO:+0100
TZNAME:CET
DTSTART:20231029T010000
END:STANDARD
BEGIN:DAYLIGHT
TZOFFSETFROM:+0100
TZOFFSETTO:+0200
TZNAME:CEST
DTSTART:20240331T010000
END:DAYLIGHT
BEGIN:STANDARD
TZOFFSETFROM:+0200
TZOFFSETTO:+0100
TZNAME:CET
DTSTART:20241027T010000
END:STANDARD
END:VTIMEZONE
BEGIN:VEVENT
DTSTART;VALUE=DATE:20231105
DTEND;VALUE=DATE:20231106
DTSTAMP:20260420T090037
CREATED:20231013T090237Z
LAST-MODIFIED:20231102T204135Z
UID:5405-1699142400-1699228799@natation13.org
SUMMARY:Championnats Départementaux Benjamins
DESCRIPTION:Championnats Départementaux Benjamins\n\n\n\nDate :  Dimanche  05 novembre 2023\nNb poules : 1\n\n\nNb réunions :   2\nLieux :  Marseille (piscine Vallier) \n\n\n\nBassin :   25 m\nCat :   Benjamins (F12-13\, G13-14)\n\n\nNb lignes :   6 lignes\nGenre :   Animation\n\n\nDate limite engt :\nLundi 30 octobre 2023\nTarifs :    Indiv. : 3\,50 €\n\n\n\n\n\n\nEngagements\n\n\n\n–  Ouverture des engagements     :     du lundi 23 octobre 2023 à 00h00\n–  Clôture des engagements    :       le lundi 30 octobre 2023 à 23h59 \n\nStarts list :\n\nListe des engagements :  Pdf\nListe des engagements par structure :  Pdf\n\n\nProgrammes & planning :\n\nPlanning de la compétition : Pdf\nDimanche matin : pdf\nDimanche Après Midi : pdf\n\n\nLive\n\n\n\n\nInscription des officiels\n\n\n\nLiens :  Inscription   /  Consultation \n\n\n\nRèglement\n\n\n\nCette compétition est ouverte aux nageurs de la catégorie Benjamin. Elle permettra aux nageurs de se qualifier au chpts régionaux benjamins\, …\nLes horaires sont susceptibles d’être modifiés en fonction de la participation (merci de consulter le site)\nATTENTION : les 200 4 Nages et 200 NL ne sont pas au programme car présent au Biathlon et risque manque de temps \n\n\n\nProgramme\n\n\n\nLes horaires sont susceptibles d’évoluer en fonction de la participation \n1° Réunion : Dimanche 05 novembre 2023 – OP : 08h30 – DE : 09h30 (*) \n200 Papillon Dames\,\n200 Dos Messieurs\n50 Nage Libre Dames\,\n50 Brasse Messieurs\n100 Brasse Dames\,\n100 Nage Libre Messieurs\,\n50 Papillon Dames\,\n50 Dos Messieurs\,\n400 Nage Libre Dames\,\n200 Brasse Messieurs\,\n100 Dos Dames\,\n100 Papillon Messieurs \n2° Réunion : Dimanche 05 novembre 2023 – OP : 13h30 – DE : 14h15 (*) \n200 Dos Dames\,\n200 Papillon Messieurs\n50 Brasse Dames\,\n50 Nage Libre Messieurs\n100 Nage Libre Dames\,\n100 Brasse Messieurs\,\n50 Dos Dames\,\n50 Papillon Messieurs\,\n200 Brasse Dames \,\n400 Nage Libre Messieurs \,\n100 Papillon Dames\,\n100 Dos Messieurs \n(*) OP : Ouverture des Portes – DE : Début des Épreuves \n\n\n\nRécompenses\n\n\n\nAu trois premiers benjamins de chaque épreuve Relais : (24 Or\, 24 Ag\, 24 Bz) \n\n\n\nRésultats\n\n\n\n\nRésultats  :\n\nFormat Pdf\nFormat FFNex\n\nFormat CSV
URL:https://natation13.org/event/championnats-departementaux/
LOCATION:Marseille Vallier\, 2 Boulevard Françoise Duparc\, MARSEILLE\, 13004\, France
CATEGORIES:Calendrier,Evènements Natation
ATTACH;FMTTYPE=image/png:https://natation13.org/wp-content/uploads/2017/12/natation_100.png
ORGANIZER;CN="CD13 Natation":MAILTO:ffn-cd13@wanadoo.fr
END:VEVENT
BEGIN:VEVENT
DTSTART;VALUE=DATE:20231111
DTEND;VALUE=DATE:20231112
DTSTAMP:20260420T090037
CREATED:20231013T090350Z
LAST-MODIFIED:20231108T095316Z
UID:5414-1699660800-1699747199@natation13.org
SUMMARY:Interclubs Avenirs
DESCRIPTION:Interclubs Avenirs\n\n\nDate :  Samedi 11 novembre 2023\nNb poules : 1\n\n\nNb réunions :   2\nLieux :  Marseille (piscine Vallier)\n\n\nBassin :   25 m\nCat :   Avenirs (F11-\, G12-)\n\n\nNb lignes :   6 lignes\nGenre :   Animation\n\n\nDate limite engt :\nLundi 06 novembre 2023\nTarifs :   Équipe. : 30 €\n\n\n\n\n\n\nEngagements\n\n\n\n–   Ouverture des engagements   :   du lundi 30 octobre 2023 à 00h00\n–   Clôture des engagements   :   le lundi 06 novembre 2023 à 23h59 \n\nStarts list :\n\nListe des engagements  Pdf   Courses des remplaçants\nListe des engagements par structure Pdf     Courses des remplaçants\nProgrammes & planning :\n\nPlanning de la compétition :  Pdf\nSamedi matin  :    Pdf\nSamedi Après Midi :    Pdf\n\n\n\n\n Live\n\n\n\n\n\nInscription des officiels\n\n\n\nLiens :  Inscription   /  Consultation \n\n\n\nRèglement\n\n\n\nChaque équipe sera composée de quatre nageurs.\nTout nageur doit impérativement participer à deux épreuves individuelles (un 50 et le 100 4 nages) ainsi qu’aux deux relais.\nÀ l’issue de la première épreuve\, aucun changement/remplacement de nageur ne pourra être effectué.\nLes équipes mixtes pourront être engagés en fonction de la participation via un bordereau disponible sur le site du comité par contre\, elles seront hors classement\nDeux courses par remplaçant sont possibles correspondant aux épreuves de la compétition. Les engagements seront effectués sur un bordereau et transmis à l’informatique avant le début des épreuves et elles seront nagées avant les relais \n\n\n\nProgramme\n\n\n\nLes horaires sont susceptibles d’évoluer en fonction de la participation \n1° Réunion : Samedi 11 novembre 2023 – OP : 08h15   09h15  – DE : 09h00  10h15 (*)\n100 4 nages Filles\n50 Papillon Garçons – 50 Dos Garçons\n50 Brasse Garçons – 50 NL Garçons\nCourse des Remplaçants\n4 x 50 4 Nages Filles – 4 x 50 Nage Libre Garçons \n2° Réunion : Samedi 11 novembre 2023 – OP : 14h00 – DE : 14h45 (*)\n100 4 Nages Garçons\n50 Papillon Filles – 50 Dos Filles\n50 Brasse Filles- 50 NL Filles\nCourse des Remplaçants\n4 x 50 4 Nages Garçons – 4 x 50 Nage Libre Filles \n(*) OP : Ouverture des Portes – DE : Début des Épreuves \n\n\n\nRécompenses\n\n\n\nAu trois premières équipes Avenirs (6 coupes – 8 Or) \n\n\n\nClassement\n\n\n\nPour être classée une équipe doit participer à toutes les épreuves (individuelles et relais) conformément au règlement.\nCette compétition compte pour le classement national des clubs. Pour plus de renseignement cf. l’annuel règlement fédéral. \n\n\n\nRésultats\n\n\n\n\nRésultats  :\n\nFormat  Pdf\nFormat  FFNex\n\nFormat  CSV
URL:https://natation13.org/event/interclubs-avenirs-6/
CATEGORIES:Calendrier,Evènements Natation
ATTACH;FMTTYPE=image/png:https://natation13.org/wp-content/uploads/2017/12/natation_100.png
ORGANIZER;CN="CD13 Natation":MAILTO:ffn-cd13@wanadoo.fr
END:VEVENT
BEGIN:VEVENT
DTSTART;VALUE=DATE:20231112
DTEND;VALUE=DATE:20231113
DTSTAMP:20260420T090037
CREATED:20231013T090252Z
LAST-MODIFIED:20231031T095834Z
UID:5418-1699747200-1699833599@natation13.org
SUMMARY:Après-midi des Maîtres
DESCRIPTION:Après-midi des Maîtres\n\n\nDate :   Dimanche 12 Novembre 2023\nNb poules : 1\n\n\nNb réunions :   1\nLieux :  Marseille (Vallier)\n\n\n\nBassin :   25 m\nCat :   Maitres (D25+\, M25+)\n\n\nNb lignes :   X lignes\nGenre :   Qualificatif\n\n\nDate limite engt :\nLundi 06 novembre 2023\nTarifs :    Indiv. : 3\,50 €\n\n\n\n\n\n\nEngagements\n\n\n\n–  Ouverture des engagements    :    du lundi 30 octobre 2023 à 00h00\n–  Clôture des engagements   :   le lundi 06 novembre 2023 à 23h59 \n\nStarts list :\n\nListe des engagements  : Pdf\nListe des engagements par structure : Pdf\nProgrammes & planning :\n\nPlanning de la compétition :   Pdf\nSamedi Après Midi :    Pdf\n\n\n\n\nLive\n\n\n\n\n\nInscription des officiels\n\n\n\nLien  :  Inscription   /  Consultation \n\n\n\nRèglement\n\n\n\nLes nageurs âgés de 25 ans et plus\nAttention en fonction de la participation certaines épreuves pourront être déplacées ou regroupées avec d’autres épreuves. \n\n\n\nProgramme\n\n\n\nLes horaires sont susceptibles d’évoluer en fonction de la participation \n1° Réunion :  Dimanche 12 Novembre 2023 – OP : 14h00  – DE : 15h00 (*)\n50 Brasse Dames & Messieurs\n200 NL Dames & Messieurs\n100 Dos Dames & Messieurs\n50 Papillon Dames & Messieurs\n200 Brasse Dames & Messieurs\n400 4 Nages Dames & Messieurs\n50 Dos Dames & Messieurs\n100 Papillon Dames & Messieurs\n50 NL Dames & Messieurs\n100 4N Dames & Messieurs \n(*) OP : Ouverture des Portes – DE : Début des Épreuves \n\n\n\nRécompenses\n\n\n\nAux 3 meilleures performances classements aux points (2or\,2Ag\,2Bz) \n\n\n\nRésultats\n\n\n\n\nRésultats  :\n\nFormat Fos Pdf /  Pdf\nFormat FFNex Fos /  FFNex\n\nFormat CSV Fos /  CSV
URL:https://natation13.org/event/maitres/
LOCATION:Marseille Vallier\, 2 Boulevard Françoise Duparc\, MARSEILLE\, 13004\, France
CATEGORIES:Calendrier,Evènements Natation
ATTACH;FMTTYPE=image/png:https://natation13.org/wp-content/uploads/2018/01/maitres_50.png
ORGANIZER;CN="CD13 Natation":MAILTO:ffn-cd13@wanadoo.fr
END:VEVENT
BEGIN:VEVENT
DTSTART;VALUE=DATE:20231119
DTEND;VALUE=DATE:20231120
DTSTAMP:20260420T090037
CREATED:20231013T090419Z
LAST-MODIFIED:20231117T161959Z
UID:5420-1700352000-1700438399@natation13.org
SUMMARY:Interclubs Départementaux TC – Poule C
DESCRIPTION:Interclubs Départementaux TC – Poule C\n\n\nDate :  Dimanche 19 novembre 2023\nNb poules : 1\n\n\nNb réunions :   2\nLieux :  Fos Sur Mer \n\n\n\nBassin :   25 m\nCat :   Ttes Cat (F0+\, G0+-)\n\n\nNb lignes :   6 lignes\nGenre : Équipe Animation\n\n\nDate limite engt :\nLundi 13 novembre 2022\nTarifs :   Équipe : 35\,00 €\n\n\n\n\n\n\nEngagements\n\n\n\n– Ouverture des engagements  :    du lundi 06 novembre 2023 à 00h00\n– Clôture des engagements  :    le lundi 13 novembre 2023 à 23h59 \n\nStarts list :\n\nListe des engagements :  Pdf\nListe des engagements par structure :   Pdf\n\n\nProgrammes & planning :\n\nPlanning de la compétition :  Pdf\nDimanche matin :   Pdf\nDimanche Après Midi :   Pdf\n\n\nLive\n\n\n\n\nInscription des officiels\n\n\n\nLiens :  Inscription   /  Consultation \n\n\n\nRèglement\n\n\n\nCes Championnats sont ouverts à toutes les catégories d’âge.\n– Cette compétition s’adresse aux équipes non qualifiées aux poules A et B régionales\n– Une épreuve réservée au remplaçant de chaque équipe sera organisée (une ou deux courses par nageur correspondant aux épreuves de la compétition distance maximum 200m en fonction du timing et du nombre de remplaçants). Inscription pour les remplaçants via bordereau qui sera envoyé au comité par mail avant la date de clôture des engagements\n–  Un nageur nageant en poule A ou B ne pourra nager en poule C.\nPour le règlement complet cf annuel règlement FFN. \nMerci de communiquer avant le 30 octobre au comité départemental le nombre d’équipes Dames et Messieurs que vous prévoyez d’engager aux interclubs TC en poule C afin de nous puissions organiser dans de meilleures conditions la manifestation.\n Merci. \n\n\n\nProgramme\n\n\n\nLes horaires sont susceptibles d’évoluer en fonction de la participation \n1° Réunion : Dimanche 19 novembre 2023 – OP : 08h00 – DE : 09h00 (*)\n10×50 nage libre dames & messieurs\n100 dos dames\n200 dos messieurs\n100 brasse dames\n200 brasse messieurs\n100 nage libre dames\n400 nage libre messieurs\n100 papillon dames\n200 papillon messieurs\n100 4 nages dames\n200 4 nages messieurs\nPause 15′ (course des remplaçants)\n4×200 nage libre dames \n2° Réunion : Dimanche 19 novembre 2023 – OP : 14h00 – DE : 15h00 (*)\n4×200 nage libre messieurs\n200 dos dames\n100 dos messieurs\n200 brasse dames\n100 brasse messieurs\n400 nage libre dames\n100 nage libre messieurs\n200 papillon dames\n100 papillon messieurs\n200 4 nages dames\n100 4 nages messieurs\nPause 15′ (course des remplaçants)\n4×100 4 nages dames\n4×100 4 nages messieurs \n(*) OP : Ouverture des Portes – DE : Début des Épreuves \n\n\n\nClassement\n\n\n\nPour être classée une équipe doit participer à toutes les épreuves (individuelles et relais) conformément au règlement.\nLe classement des équipes s’effectue à la table de cotation fédérale. En cas d’égalité\, l’addition des temps des relais (4×100 4 Nages\, 4×200 NL et 10×50 NL) servira à départager les équipes. \nA l’issue des Championnats interclubs un seul classement général est établi pour les clubs de la région PACA. Les 16 premières équipes PACA dames et messieurs seront sélectionnées pour disputer les Championnats Interclubs l’année suivante dans la poule A\, Les équipes suivantes seront qualifiées dans la poule B (est ou ouest) et les autres équipes en poule C départementale. \nATTENTION : chaque club est limité au maximum pour les poules A et B à 2 équipes par sexe et par poule. Le nombre d’équipes pourra varier selon les mesures sanitaires en vigueur. \nCette compétition compte pour le classement national des clubs. Pour plus de renseignement cf. l’annuel règlement fédéral. \n\n\n\nRécompenses\n\n\n\n3 Meilleures performances Dames et Messieurs toutes catégories(2O\,2Ag\,2bz) \n\n\n\nRésultats\n\n\n\n\nRésultats  :\n\nFormat Pdf\nFormat FFNex\n\nFormat CSV
URL:https://natation13.org/event/interclubs-departementaux-tc-poule-c-5/
LOCATION:Fos Sur Mer\, Avenue René Cassin\, Fos-sur-Mer\, 13270\, France
CATEGORIES:Calendrier,Evènements Natation
ATTACH;FMTTYPE=image/png:https://natation13.org/wp-content/uploads/2017/12/natation_100.png
ORGANIZER;CN="CD13 Natation":MAILTO:ffn-cd13@wanadoo.fr
END:VEVENT
BEGIN:VEVENT
DTSTART;VALUE=DATE:20231125
DTEND;VALUE=DATE:20231127
DTSTAMP:20260420T090037
CREATED:20231013T090439Z
LAST-MODIFIED:20231122T232001Z
UID:5423-1700870400-1701043199@natation13.org
SUMMARY:Championnats Départementaux d’Automne Open (Web confrontation)
DESCRIPTION:Championnats Départementaux D’automne Open Web confrontation\n\n\nDate :  Samedi 25 & Dimanche 26 novembre 2023\nNb poules : 1\n\n\nNb réunions :   4\nLieux :  Cassis\n\n\n\nBassin :   25 m\nCat :   Benjamins (*) &+ (F12+\, G13+)\n\n\nNb lignes :   8 lignes\nGenre :   Qualificatif\n\n\nDate limite engt :\nLundi 20 novembre 2022\nTarifs :    Indiv. : 3\,50 €\nRelais : 5\,00 €\n\n\n\n\n\n\nEngagements\n\n\n\n– Ouverture des engagements :     du lundi 13 novembre 2023 à 00h00\n– Clôture des engagements :     le lundi 20 novembre 2023 à 23h59 \n\nStarts list :\n\nListe des engagements : Ici\nListe des engagements par structure : Ici\n\n\nProgrammes & planning :\n\nPlanning de la compétition : Ici\nDimanche matin : pdf\nDimanche Après Midi : pdf\n\n\nLive Ici\n\n\n\n\n\nInscription des officiels\n\n\n\nLiens :  Inscription   /  Consultation \n\n\n\nRèglement\n\n\n\nCette compétition permet :\n– aux Benjamins de se qualifier aux Championnats de France\n– aux Juniors/seniors de se qualifier aux championnats Régionaux \n(*) Seuls les Benjamins qualifiés aux Championnats de France Benjamins à l’issu de la Web confrontation de juillet 2022 à Cannes (la liste est disponible ci-dessous dans la rubrique Qualification) pourront participer à cette compétition. \nATTENTION un nageur benjamin engagé qui ne serait pas qualifié sera mis d’office forfait En cas de doute\, n’hésitez pas\, contactez le comité\n\nLes nageurs Benjamins juniors/seniors pourront nager 3 épreuves maximum par réunion. \nAttention pour les épreuves de 400\, 800\, 1500NL et 400 4 Nages\nil y aura les limites de temps suivantes : \n\n\n\nÉpreuves\n Dames\n Messieurs\n\n\n400 Nage Libre\n6’30’’\n6’15’’\n\n\n800 Nage Libre\n12’00’’\n11’30’’\n\n\n1500 Nage Libre\n22’30’’\n21’30’’\n\n\n400 4 Nages\n7’00\n6’45’’\n\n\n\nEn cas de dépassement de temps le nageur sera arrêté avant la fin de l’épreuve.\nC’est pour cela que nous demandons aux entraineurs de n’engager que les nageurs en capacité de réaliser les temps afin de ne pas pénaliser tout le monde. Merci \n\n\n\nProgramme\n\n\n\nLes horaires sont susceptibles d’évoluer en fonction de la participation \n1° Réunion : Samedi 25 novembre 2023 – OP : 08h00 – DE : 09h00 (*)\n1500 NL Dames\n800 NL Messieurs\n100 NL Dames\n100 Papillon Messieurs\n50 Brasse Dames – Messieurs\n200 Dos Dames\n200 NL Messieurs\n200 4 Nages Dames \n2° Réunion : Samedi 25 novembre 2023 – OP : 14h00 – DE : 15h00 (*)\n400 NL Dames\n400 4 nages Messieurs\n50 Dos Dames – Messieurs\n200 Brasse Dames – Messieurs\n100 Pap Dames\n100 NL Messieurs \n3° Réunion : Dimanche 26 novembre 2023 – OP : 08h00 – DE : 09h00 (*)\n1500 NL Messieurs\n800 NL Dames\n100 Brasse Messieurs – Dames\n50 Papillon Messieurs – Dames\n200 Dos Messieurs\n200 NL Dames\n200 4 Nages Messieurs \n4° Réunion : Dimanche 26 novembre 2023 – OP : 14h00 – DE : 15h00 (*)\n400 NL Messieurs\n400 4 nages Dames\n100 Dos Messieurs et Dames\n200 Pap Messieurs et Dames\n50 NL Messieurs et Dames \n(*) OP : Ouverture des Portes – DE : Début des Épreuves \n\n\n\nQualification\n\n\n\nListe des Benjamins qualifiés pouvant nager lors de cette compétition\nFilles : \n\n\n\nPrénom \nNom\nClub\n\n\nYasmin\nAZZOUZ\nCN Marseille\n\n\nMarie\nESPITALIER-MANOUKIAN\nCN Marseille\n\n\nEmmeline\nRIU\nCN Marseille\n\n\nLisa\nVANTRIMPONTE\nCN Marseille\n\n\nShadé\nWANAXAENG\nCN Marseille\n\n\nLouanne\nROUSSEAU\nIstres SN\n\n\nAssia\nNECHNICHE\nPays D’Aix N\n\n\n\nGarçons : \n\n\n\nPrénom\n Nom\nClub\n\n\nGabin\nDENISOT\nAC Allauch\n\n\nSauveur\nCRISTOFINI\nCN Marseille\n\n\nDan\nLEVY\nCN Marseille\n\n\nNicolas\nMOREAU\nCN Marseille\n\n\nRafi\nOULD KHELIFA\nCN Marseille\n\n\nAaron\nBENELHADJ DJELLOUL\nFos Natation\n\n\nAlessio\nDEZI\nIstres SN\n\n\nGabriel\nZACHARIA\nPays d’Aix N\n\n\n\nEn cas de doute pour engager les benjamins contactez-nous.\nATTENTION un nageur benjamin engagé qui ne serait pas qualifié sera mis d’office forfait En cas de doute\, n’hésitez pas\, contactez le comité \n\n\n\nRécompenses\n\n\n\n 3 premiers par épreuves toutes catégories (34o\,34a\,34b) \n\n\n\nRésultats\n\n\n\n\nRésultats  :\n\nFormat Pdf\nFormat FFNex\n\nFormat CSV
URL:https://natation13.org/event/championnats-departementaux-dautomne-open-web-confrontation/
LOCATION:Cassis
CATEGORIES:Calendrier,Evènements Natation
ATTACH;FMTTYPE=image/png:https://natation13.org/wp-content/uploads/2017/12/natation_100.png
ORGANIZER;CN="CD13 Natation":MAILTO:ffn-cd13@wanadoo.fr
END:VEVENT
END:VCALENDAR