BEGIN:VCALENDAR
VERSION:2.0
PRODID:-//Natation 13 - ECPv6.15.18//NONSGML v1.0//EN
CALSCALE:GREGORIAN
METHOD:PUBLISH
X-WR-CALNAME:Natation 13
X-ORIGINAL-URL:https://natation13.org
X-WR-CALDESC:Évènements pour Natation 13
REFRESH-INTERVAL;VALUE=DURATION:PT1H
X-Robots-Tag:noindex
X-PUBLISHED-TTL:PT1H
BEGIN:VTIMEZONE
TZID:Europe/Paris
BEGIN:DAYLIGHT
TZOFFSETFROM:+0100
TZOFFSETTO:+0200
TZNAME:CEST
DTSTART:20220327T010000
END:DAYLIGHT
BEGIN:STANDARD
TZOFFSETFROM:+0200
TZOFFSETTO:+0100
TZNAME:CET
DTSTART:20221030T010000
END:STANDARD
BEGIN:DAYLIGHT
TZOFFSETFROM:+0100
TZOFFSETTO:+0200
TZNAME:CEST
DTSTART:20230326T010000
END:DAYLIGHT
BEGIN:STANDARD
TZOFFSETFROM:+0200
TZOFFSETTO:+0100
TZNAME:CET
DTSTART:20231029T010000
END:STANDARD
BEGIN:DAYLIGHT
TZOFFSETFROM:+0100
TZOFFSETTO:+0200
TZNAME:CEST
DTSTART:20240331T010000
END:DAYLIGHT
BEGIN:STANDARD
TZOFFSETFROM:+0200
TZOFFSETTO:+0100
TZNAME:CET
DTSTART:20241027T010000
END:STANDARD
END:VTIMEZONE
BEGIN:VEVENT
DTSTART;VALUE=DATE:20230506
DTEND;VALUE=DATE:20230508
DTSTAMP:20260420T175728
CREATED:20230109T092743Z
LAST-MODIFIED:20230503T085157Z
UID:4490-1683331200-1683503999@natation13.org
SUMMARY:Championnats Départementaux 13 Open 50m
DESCRIPTION:Championnats Départementaux 13 Open 50m\n\n\nDate :  Samedi 06 & Dimanche 07 mai 2023\nNb poules : 1\n\n\nNb réunions :   4\nLieux :  Aix en Provence\n\n\n\nBassin :   25 m\nCat :   Juniors &+ (D14+\, M15+)\n\n\nNb lignes :   8 lignes\nGenre :   Qualificatif\n\n\nDate limite engt :\nMardi 02 mai 2023\nTarifs :    Indiv. : 4\,00 €\nRelais : 5\,00 €\n\n\n\n\n\n\nEngagements\n\n\n\nLes engagements seront ouverts du lundi 24 avril au mardi 02 mai 2023 inclus \n\nStarts list :\n\nListe des engagements : Pdf\nListe des engagements par structure : Pdf\n\n\nProgrammes & planning :\n\nPlanning de la compétition : Pdf\nProgramme samedi matin : Pdf\nProgramme samedi après-midi : Pdf\nProgramme dimanche matin : Pdf\n\nProgramme dimanche après-midi : Pdf\nLive\n\n\n\n\n\n\nInscription des officiels\n\n\n\nLien :  Inscription  /  Consultation \n\n\n\nRèglement\n\n\n\nCette compétition permet :\n– Aux Juniors/seniors de se qualifier aux championnats Régionaux.\nLes nageurs juniors/seniors pourront nager 3 épreuves maximum par réunion (sans compter les finales)\nAttention pour les épreuves de 400 NL et 400 4 Nages\nil y aura les limites de temps suivantes :\n \n\n\n\nÉpreuves\nDames\nMessieurs\n\n\n400 Nage Libre\n6’00’’\n5’45’’\n\n\n400 4 Nages\n6’30’’\n6’15’’\n\n\n\nEn cas de dépassement de temps le nageur sera arrêté avant la fin de l’épreuve\nC’est pour cela que nous demandons aux entraineurs de n’engager que les nageurs en capacité de réaliser les temps afin de ne pas pénaliser tout le monde. Merci \n\n\n\nProgramme\n\n\n\nLes horaires sont susceptibles d’évoluer en fonction de la participation \n1° Réunion : Samedi 05 mai 2023 – OP : 08h00 – DE : 09h00 (*)\n50 Dos Dames\n50 Brasse Messieurs\n200 4 nages Dames\n400 4 nages Messieurs\n400 NL Dames\n200 NL Messieurs\n200 Dos Dames\n100 Pap Messieurs\n100 Brasse Dames\n200 Brasse Messieurs\n200 Pap Dames\n100 Dos Messieurs\n100 NL Dames\nFinales C\, B\, A 50 Brasse Messieurs\nFinales C\, B\, A 50 dos Dames \n2° Réunion : Samedi 05 mai 2023 – OP : 14h00 – DE : 15h00 (*)\n50 Pap Dames\n50 NL Messieurs\nFinale B et A 200 4 nages Dames\nFinales A 400 4 nages Messieurs\nFinale A 400 NL Dames\nFinales B\, A 200 NL Messieurs\nFinales B et A 200 Dos Dames\nFinales C\, B\, A 100 Pap Messieurs\nFinales C\, B\, A 100 Brasse Dames\nFinales B et A Messieurs\nFinales B\, A 200 Pap\nFinales C\, B\, A Messieurs\nFinales C\, B\, A 100 NL Dames\nFinales C\, B\, A 50 NL Messieurs\nFinales C\, B\, A 50 Pap Dames \n3° Réunion : Dimanche 06 mai 2023 – OP : 08h00 – DE : 09h00 (*)\n50 Dos Messieurs\n50 Brasse Dames\n200 4 nages Messieurs\n400 4 nages Dames\n400 NL Messieurs\n200 NL Dames\n200 Dos Messieurs\n100 Pap Dames\n100 Brasse Messieurs\n200 Brasse Dames\n200 Pap Messieurs\n100 Dos Dames\n100 NL Messieurs\nFinales C\, B\, A 50 Brasse Dames\nFinales C\, B\, A 50 Dos Messieurs \n4° Réunion : Dimanche 06 mai 2023 – OP : 14h00 – DE : 15h00 (*)\n50 Pap Messieurs\n50 NL Dames\nFinale B et A 200 4 nages Messieurs\nFinales A 400 4 nages Dames\nFinale A 400 NL Messieurs\nFinales B\, A 200 NL Dames\nFinales B et A 200 Dos Messieurs\nFinales C\, B\, A 100 Pap Dames\nFinales C\, B\, A 100 Brasse Messieurs\nFinales B et A 200 Brasse Dames\nFinales B\, A 200 Pap Messieurs\nFinales C\, B\, A 100 Dos Dames\nFinales C\, B\, A 100 NL Messieurs\nFinales C\, B\, A 50 NL Dames\nFinales C\, B\, A 50 Pap Messieurs \n(*) OP : Ouverture des Portes – DE : Début des Épreuves \n\n\n\nRécompenses\n\n\n\n3 premiers par épreuves toutes catégories (34o\,34a\,34b) + lots \n\n\n\nRésultats\n\n\n\n\nRésultats  :\n\nFormat pdf\nFormat FFNex\nFormat CSV
URL:https://natation13.org/event/championnats-departementaux-13-open-50m/
LOCATION:Aix en Provence
CATEGORIES:Calendrier,Evènements Natation
ATTACH;FMTTYPE=image/png:https://natation13.org/wp-content/uploads/2017/12/natation_100.png
ORGANIZER;CN="CD13 Natation":MAILTO:ffn-cd13@wanadoo.fr
END:VEVENT
BEGIN:VEVENT
DTSTART;TZID=Europe/Paris:20230506T183000
DTEND;TZID=Europe/Paris:20230506T213000
DTSTAMP:20260420T175728
CREATED:20230109T132937Z
LAST-MODIFIED:20230503T085440Z
UID:4502-1683397800-1683408600@natation13.org
SUMMARY:Soirée des Maîtres Open 13 (n°3)
DESCRIPTION:Soirée des Maîtres Open 13 (n°3)\n\n\nDate :  Samedi 06 mai 2023\nNb poules : 1\n\n\nNb réunions :   1\nLieux :  Aix en Provence\n\n\n\nBassin :   50 m\nCat :   Maitres (D25+\,M25+)\n\n\nNb lignes :   8 lignes\nGenre :   Qualificatif\n\n\nDate limite engt :\nMardi 02 mai 2023\nTarifs :    Indiv. : 3\,50 €\n\n\n\n\n\n\nEngagements\n\n\n\nLes engagements seront ouverts du lundi 24 avril au mardi 02 mai 2023 inclus \n\nStarts list :\n\nListe des engagements : Pdf\nListe des engagements par structure : Pdf\n\n\nProgrammes & planning :\n\nPlanning de la compétition : Pdf\n\nProgramme : Pdf\nLive\n\n\n\n\n\n\nInscription des officiels\n\n\n\nLien  :  Inscription  /  Consultation \n\n\n\nRèglement\n\n\n\nLes nageurs âgés de 25 ans et plus\nAttention en fonction de la participation certaines épreuves pourront être déplacées ou regroupées avec d’autres épreuves \n\n\n\nProgramme\n\n\n\nLes horaires sont susceptibles d’être modifiés en fonction de la participation et des horaires de mise à disposition des piscines.\nATTENTION !! Cette compétition se déroulera en même temps que les Championnats Départementaux en journée \n1° Réunion : samedi 06 mai 2023 – OP : 18h30 – DE : 19h00 (*)\n50 Brasse Dames & Messieurs\n100 NL Dames & Messieurs\n100 Dos Dames & Messieurs\n50 Papillon Dames & Messieurs\n100 Brasse Dames & Messieurs\n400 NL Dames & Messieurs\n50 Dos Dames & Messieurs\n100 Papillon Dames & Messieurs\n50 NL Dames & Messieurs\n200 4 Nages Dames & Messieurs \n(*) OP : Ouverture des Portes – DE : Début des Épreuves \n\n\n\nRécompenses\n\n\n\n  \n\n\n\nRésultats\n\n\n\n\nRésultats  :\n\nFormat pdf\nFormat FFNex\nFormat CSV
URL:https://natation13.org/event/soiree-des-maitres-open-13-n3/
LOCATION:Aix en Provence
CATEGORIES:Calendrier,Evènements Natation
ATTACH;FMTTYPE=image/png:https://natation13.org/wp-content/uploads/2018/01/maitres_50.png
ORGANIZER;CN="CD13 Natation":MAILTO:ffn-cd13@wanadoo.fr
END:VEVENT
BEGIN:VEVENT
DTSTART;VALUE=DATE:20230518
DTEND;VALUE=DATE:20230519
DTSTAMP:20260420T175728
CREATED:20230113T085739Z
LAST-MODIFIED:20230421T164733Z
UID:4523-1684368000-1684454399@natation13.org
SUMMARY:Inter Départemental Avenirs
DESCRIPTION:Inter Départemental Avenirs\n\n\n\nDate :  Jeudi 18 mai 2023\nNb poules : 1\n\n\nNb réunions :   2\nLieux :  Fos Sur Mer\n\n\n\nBassin :   25 m\nCat :  Avenirs (F11-\, G12-)\n\n\nNb lignes :   6 lignes\nGenre :   Sélection\n\n\nDate limite engt :\nTarifs :\n\n\n\n\n\n\nEngagements\n\n\n\n\nStarts list :\n\nListe des engagements : Pdf\n\nListe des engagements par structure : Pdf\n\n\n\nProgrammes & planning :\n\nPlanning de la compétition : Pdf\nProgramme jeudi matin : Pdf\n\nProgramme jeudi après-midi : Pdf\nLive\n\n\n\n\n\n\nInscription des officiels\n\n\n\nLien :  Inscription  /  Consultation \n\n\n\nRèglement\n\n\n\nLes équipes départementales sont composées de 10 nageurs dames et messieurs dans la catégorie avenirs.\nChaque nageur doit participer à 1 relais et 2 courses individuelles\, chacune des courses devra être nagée 4 fois (par ex 4 nageurs par équipe sont engagés sur le 100 papillon).\nLes équipes peuvent être accompagnées de 1 ou 2 remplaçants.\nLe lieu de la compétition changera de département tous les ans. \n\n\n\nProgramme\n\n\n\nLes horaires sont susceptibles d’évoluer en fonction de la participation \n1° Réunion : Jeudi 18 mai 2023 – OP : 09h30 – DE : 10h30 (*)\n10 x 50 NL Dames et Messieurs\nCourse des remplaçants 100 NL\n100 Papillon Dames et Messieurs\n100 dos Dames et Messieurs\n100 4N Dames et Messieurs \n2° Réunion : Jeudi 18 mai 2023 – OP : 14h00 – DE : 15h00 (*)\n100 brasse Dames et Messieurs\n100 NL Dames et Messieurs\nCourse des remplaçants 100 4 nages\n4 X 50 4N Dames et Messieurs \n(*) OP : Ouverture des Portes – DE : Début des Épreuves \n\n\n\nClassement\n\n\n\nChaque équipe est classée au cumul des épreuves à la table de cotation. En cas d’égalité le temps du relais 4 x 50 4N départagera les équipes. \n\n\n\nRécompenses\n\n\n\n−   Coupe pour les trois premières équipes dames\, messieurs et mixte.\n−   Coupe pour la meilleure performance à la table de cotation filles et garçons \n\n\n\nRésultats\n\n\n\n\nRésultats  :\n\nFormat pdf\nFormat FFNex\nFormat CSV
URL:https://natation13.org/event/inter-departemental-avenirs-4/
CATEGORIES:Calendrier,Evènements Natation
ATTACH;FMTTYPE=image/png:https://natation13.org/wp-content/uploads/2017/12/natation_100.png
END:VEVENT
BEGIN:VEVENT
DTSTART;VALUE=DATE:20230521
DTEND;VALUE=DATE:20230522
DTSTAMP:20260420T175728
CREATED:20230110T094546Z
LAST-MODIFIED:20230516T084953Z
UID:4505-1684627200-1684713599@natation13.org
SUMMARY:Interclubs Benjamins
DESCRIPTION:Interclubs Benjamins\n\n\n\nDate :  Dimanche 21 mai 2023\nNb poules : 1\n\n\nNb réunions :   2\nLieux :  Fos Sur Mer\n\n\n\nBassin :   25 m\nCat :   Benjamins (D12-13\, M13-14)\n\n\nNb lignes :   6 lignes\nGenre :   Animations\n\n\nDate limite engt :\nLundi 15 mai 2023\nTarifs :    Équipe : 30\,00 €\n\n\n\n\n\n\nEngagements\n\n\n\nLes engagements seront ouverts du lundi 08 mai au lundi 15 mai 2023 inclus \n\nStarts list :\n\nListe des engagements : Pdf\nListe des engagements par structure : Pdf\n\n\nProgrammes & planning :\n\nPlanning de la compétition : Pdf\nProgramme dimanche matin : Pdf\n\nProgramme dimanche après-midi : Pdf\nLive\n\n\n\n\n\n\nInscription des officiels\n\n\n\nLien :  Inscription  /  Consultation \n\n\n\nRèglement\n\n\n\nIl n’y a pas de poule régionale pour les interclubs jeunes 2022\nLes équipes seront composées de 4 nageurs. Un nageur doit participer obligatoirement à deux épreuves individuelles ainsi qu’à tous les relais. Toutes les épreuves individuelles sont nagées deux fois.\nRelais 4 x 100 4 nages\, les relayeurs réalisent chacun un 100 4 nages.\nLes nageurs engagés dans cette poule ne pourront nager dans une autre.\nLes équipes mixtes pourront être engagés en fonction de la participation via un bordereau disponible sur le site du comité par contre\, elles seront hors classement.\nUne épreuve réservée au remplaçant de chaque équipe sera planifiée lors du déroulement de la compétition (avant les relais).\nUne seule course par remplaçant correspondant aux épreuves de la compétition. Les engagements seront effectués sur un bordereau et transmis par mail au comité. \n\n\n\nProgramme\n\n\n\nLes horaires sont susceptibles d’évoluer en fonction de la participation \n1° Réunion : Dimanche 21 mai 2023 – OP : 08h15 – DE : 09h00 (*)\n100 Papillon Filles – 100 Dos Garçons\n100 Brasse Filles- 100 NL Garçons\nCourse des Remplaçants\n4 x 200 NL Filles – 4 x 100 4 Nages Ind Garçons \n2° Réunion : Dimanche 21 mai 2023 – OP : 14h00 – DE : 14h45 (*)\n100 Papillon Garçons – 100 Dos Filles\n100 Brasse Garçons- 100 NL Filles\nCourse des Remplaçants\n4 x 200 NL Garçons – 4 x 100 4 Nages Ind Filles \n(*) OP : Ouverture des Portes – DE : Début des Épreuves \n\n\n\nClassement\n\n\n\nPour être classée une équipe doit participer à toutes les épreuves (individuelles et relais) conformément au règlement.\nUn classement régional puis national des interclubs sera effectué au cumul des points de l’ensemble des équipes engagées par le club.\nCette compétition compte pour le classement national des clubs. Pour plus de renseignement cf. l’annuel règlement fédéral. \n\n\n\nRécompenses\n\n\n\nLes trois meilleures équipes Filles et Garçons seront récompensées. (6C) \n\n\n\nRésultats\n\n\n\n\nRésultats  :\n\nFormat pdf\nFormat FFNex\nFormat CSV
URL:https://natation13.org/event/interclubs-benjamins/
LOCATION:Fos Sur Mer\, Avenue René Cassin\, Fos-sur-Mer\, 13270\, France
CATEGORIES:Calendrier,Evènements Natation
ATTACH;FMTTYPE=image/png:https://natation13.org/wp-content/uploads/2017/12/natation_100.png
ORGANIZER;CN="CD13 Natation":MAILTO:ffn-cd13@wanadoo.fr
END:VEVENT
END:VCALENDAR