BEGIN:VCALENDAR
VERSION:2.0
PRODID:-//Natation 13 - ECPv6.15.18//NONSGML v1.0//EN
CALSCALE:GREGORIAN
METHOD:PUBLISH
X-ORIGINAL-URL:https://natation13.org
X-WR-CALDESC:Évènements pour Natation 13
REFRESH-INTERVAL;VALUE=DURATION:PT1H
X-Robots-Tag:noindex
X-PUBLISHED-TTL:PT1H
BEGIN:VTIMEZONE
TZID:Europe/Paris
BEGIN:DAYLIGHT
TZOFFSETFROM:+0100
TZOFFSETTO:+0200
TZNAME:CEST
DTSTART:20220327T010000
END:DAYLIGHT
BEGIN:STANDARD
TZOFFSETFROM:+0200
TZOFFSETTO:+0100
TZNAME:CET
DTSTART:20221030T010000
END:STANDARD
BEGIN:DAYLIGHT
TZOFFSETFROM:+0100
TZOFFSETTO:+0200
TZNAME:CEST
DTSTART:20230326T010000
END:DAYLIGHT
BEGIN:STANDARD
TZOFFSETFROM:+0200
TZOFFSETTO:+0100
TZNAME:CET
DTSTART:20231029T010000
END:STANDARD
BEGIN:DAYLIGHT
TZOFFSETFROM:+0100
TZOFFSETTO:+0200
TZNAME:CEST
DTSTART:20240331T010000
END:DAYLIGHT
BEGIN:STANDARD
TZOFFSETFROM:+0200
TZOFFSETTO:+0100
TZNAME:CET
DTSTART:20241027T010000
END:STANDARD
END:VTIMEZONE
BEGIN:VEVENT
DTSTART;TZID=Europe/Paris:20230120T180000
DTEND;TZID=Europe/Paris:20230120T210000
DTSTAMP:20260420T203043
CREATED:20230106T153941Z
LAST-MODIFIED:20230119T164821Z
UID:4443-1674237600-1674248400@natation13.org
SUMMARY:Soirée du 13 Juniors/Seniors (étape 2)
DESCRIPTION:Soirée du 13 Juniors / Seniors (étape 2)\n\n\n\nDate :  Vendredi 20 janvier 2023\nNb poules : 1\n\n\nNb réunions :   1\nLieux :  Les Pennes Mirabeau (Piscine du Jas de Rhôdes)\n\n\n\nBassin :   25 m\nCat :   Juniors/Seniors (F14 +\, G 15 +)\n\n\nNb lignes :   6 lignes\nGenre :   Animation\n\n\nDate limite engt :\nLundi 16 janvier 2023\nTarifs :    Indiv. : 3\,50 €\nRelais : 5\,00 €\n\n\n\nInformation : Il n’y aura pas de place au bord du bassin pour le public \n\n\n\nEngagements\n\n\n\nLes engagements seront ouverts du lundi 09 janvier  au lundi 16 janvier 2023 inclus \n\nStarts list :\n\nListe des engagements : Pdf\nListe des engagements par structure : Pdf\n\n\nProgrammes & planning :\n\nPlanning de la compétition : Pdf\nProgramme : Pdf\n\n\nLive\n\n\n\n\nInscription des officiels\n\n\n\nLiens :  Inscription   /  Consultation \n\n\n\nRèglement\n\n\n\nCette compétition se déroule en 3 étapes\, un classement à chaque étape au cumul des points des 2 épreuves et lors de 3ème étape un classement au cumul des points des 3 étapes.\nChaque nageur peut nager 2 épreuves maximum\nCette compétition est ouverte aux nageurs de la catégorie Juniors / Seniors.\nLes horaires sont susceptibles d’être modifiés en fonction de la participation et de la mise à disposition de la piscine (merci de consulter le site) \n\n\n\nProgramme\n\n\n\nLes horaires sont susceptibles d’évoluer en fonction de la participation \n1° Réunion : Vendredi 20 janvier 2023 – OP : 17h30 18h00 – DE : 18h15 18h45 (*) \n100 Papillon Dames & Messieurs\,\n100 Dos Dames & Messieurs\,\n100 Brasse Dames & Messieurs\,\n100 Nage Libre Dames & Messieurs\, \n(*) OP : Ouverture des Portes – DE : Début des Épreuves \n\n\n\nRécompenses\n\n\n\nAu cumul des points des 2 épreuves par catégories : Ju1\, Ju2 & Ju3\, Ju4 et Se (6or\,6ag\,6bz) \n\n\n\nRésultats\n\n\n\n\nRésultats  :\n\nFormat pdf\nFormat FFNex\nFormat CSV
URL:https://natation13.org/event/soiree-du-13-juniors-seniors-etape-2/
LOCATION:Les Pennes Mirabeau
CATEGORIES:Calendrier,Evènements Natation
ATTACH;FMTTYPE=image/png:https://natation13.org/wp-content/uploads/2017/12/natation_100.png
ORGANIZER;CN="CD13 Natation":MAILTO:ffn-cd13@wanadoo.fr
END:VEVENT
END:VCALENDAR