BEGIN:VCALENDAR
VERSION:2.0
PRODID:-//Natation 13 - ECPv6.15.18//NONSGML v1.0//EN
CALSCALE:GREGORIAN
METHOD:PUBLISH
X-WR-CALNAME:Natation 13
X-ORIGINAL-URL:https://natation13.org
X-WR-CALDESC:Évènements pour Natation 13
REFRESH-INTERVAL;VALUE=DURATION:PT1H
X-Robots-Tag:noindex
X-PUBLISHED-TTL:PT1H
BEGIN:VTIMEZONE
TZID:Europe/Paris
BEGIN:DAYLIGHT
TZOFFSETFROM:+0100
TZOFFSETTO:+0200
TZNAME:CEST
DTSTART:20210328T010000
END:DAYLIGHT
BEGIN:STANDARD
TZOFFSETFROM:+0200
TZOFFSETTO:+0100
TZNAME:CET
DTSTART:20211031T010000
END:STANDARD
BEGIN:DAYLIGHT
TZOFFSETFROM:+0100
TZOFFSETTO:+0200
TZNAME:CEST
DTSTART:20220327T010000
END:DAYLIGHT
BEGIN:STANDARD
TZOFFSETFROM:+0200
TZOFFSETTO:+0100
TZNAME:CET
DTSTART:20221030T010000
END:STANDARD
BEGIN:DAYLIGHT
TZOFFSETFROM:+0100
TZOFFSETTO:+0200
TZNAME:CEST
DTSTART:20230326T010000
END:DAYLIGHT
BEGIN:STANDARD
TZOFFSETFROM:+0200
TZOFFSETTO:+0100
TZNAME:CET
DTSTART:20231029T010000
END:STANDARD
END:VTIMEZONE
BEGIN:VEVENT
DTSTART;TZID=Europe/Paris:20221015T130000
DTEND;TZID=Europe/Paris:20221015T200000
DTSTAMP:20260421T043242
CREATED:20220930T094723Z
LAST-MODIFIED:20221017T131657Z
UID:4081-1665838800-1665864000@natation13.org
SUMMARY:Biathlon (étape 1)
DESCRIPTION:Biathlon (étape 1)\n\n\nDate :  Samedi  15 octobre 2022\nNb poules : 1 ou 2\n\n\nNb réunions :   1\nLieux :  Fos / Martigues\n\n\n\nBassin :   25 m\nCat :   Avenirs 2 & moins /  Jeunes 1\, 2 et 3\n\n\nNb lignes :   6 lignes\nGenre :   Animation\n\n\nDate limite engt :\nLundi 10 octobre 2022\nTarifs :    Indiv. : 3\,50 €\nRelais : 5\,00 €\n\n\n\n\n\n\nEngagements\n\n\n\nLes engagements seront ouverts du lundi 03 octobre  au lundi 10 octobre 2022 inclus \n\nStarts list :\n\nListe des engagements Fos : Pdf\nListe des engagements par structure Fos : Pdf\nListe des engagements Martigues : Pdf\nListe des engagements par structure Martigues  : Pdf\n\n\nProgrammes & planning :\n\nPlanning de la compétition : Fos Pdf  /   Martigues Pdf\nSamedi Après Midi :  Fos Pdf   /   Martigues Pdf\n\n\nLive Fos  /  Live Martigues\n\n\n\n\nInscription des officiels\n\n\n\nLiens Fos :  Inscription   /  Consultation\nLiens Martigues :  Inscription   /  Consultation \n\n\n\nRèglement\n\n\n\nLes relais ne sont pas mixtes. Il doit  y avoir\, au moins\, 1 avenirs ou 1 jeunes dans chaque relais. Une course au choix parmi les nages individuelles\n   –    Clubs qui doivent s’engager à Fos (CNM\, Rognac\, Istres\, Salon\, Marignane\, Vitrolles\, Team Marseille\, Fos\, Marseille Nord\, La Crau\, Arles). \n–    Clubs qui doivent s’engager à Martigues (Les Pennes Mirabeau\, Aix\, La Ciotat\, Le Puy\, Aubagne\, Asptt Marseille\, Martigues\, Allauch\, Bouc Bel Air\, USCGB\, CSM). \n\n\n\nProgramme\n\n\n\nLes horaires sont susceptibles d’évoluer en fonction de la participation \n1° Réunion : Samedi 15 octobre 2022 – OP : 14h00 – DE : 15h00 (*)\nRelais 4 x 50 NL dames & messieurs\n100 4 nages dames & messieurs\n200 4 nages dames  & messieurs\n4 x 50 4 nages dames & messieurs\n100 NL dames & messieurs\n200 NL dames & messieurs \n(*) OP : Ouverture des Portes – DE : Début des Épreuves \n\n\n\nRécompenses\n\n\n\nRelais : Cumul des points des 2 relais\, 3 premiers filles & garçons (8o\, 8a\, 8b)\nCourses Individuelles : Cumul des points d’une épreuve NL + une épreuve 4 nages. Médaille pour le meilleur J1\, J2\, J3\, A1 et moins\, A2 (10o\, 10a\, 10b) \n\n\n\nRésultats\n\n\n\n\nRésultats  :\n\nFormat Fos Pdf / Martigues Pdf\nFormat FFNex Fos /  FFNex Martigues\n\nFormat CSV Fos /  CSV Martigues
URL:https://natation13.org/event/biathlon-etape-1/
CATEGORIES:Calendrier,Evènements Natation
ATTACH;FMTTYPE=image/png:https://natation13.org/wp-content/uploads/2018/01/nc_50.png
ORGANIZER;CN="CD13 Natation":MAILTO:ffn-cd13@wanadoo.fr
END:VEVENT
BEGIN:VEVENT
DTSTART;VALUE=DATE:20221016
DTEND;VALUE=DATE:20221017
DTSTAMP:20260421T043242
CREATED:20220928T135430Z
LAST-MODIFIED:20221017T131853Z
UID:4084-1665878400-1665964799@natation13.org
SUMMARY:Pré-Saison (étape 1)
DESCRIPTION:  \n\n\n\nPré-Saison (étape 1)\n\n\n\nDate :  Dimanche  16 octobre 2022\nNb poules : 1\n\n\nNb réunions :   2\nLieux :  Fos\n\n\n\nBassin :   25 m\nCat :   Juniors / Seniors (F14+\, G15+)\n\n\nNb lignes :   6 lignes\nGenre :   Animation\n\n\nDate limite engt :\nLundi 10 octobre 2022\nTarifs :    Indiv. : 3\,50 €\nRelais : 5\,00 €\n\n\n\n\n\n\nEngagements\n\n\n\nLes engagements seront ouverts du lundi 03 octobre  au lundi 10 octobre 2022 inclus \n\nStarts list :\n\nListe des engagements : Pdf\nListe des engagements par structure : Pdf\n\n\nProgrammes & planning :\n\nPlanning de la compétition : Pdf\nDimanche matin : pdf\nDimanche Après Midi : pdf\n\n\nLive\n\n\n\n\nInscription des officiels\n\n\n\nLiens :  Inscription   /  Consultation \n\n\n\nRèglement\n\n\n\nCette compétition est ouverte aux nageurs de la catégorie Juniors / Seniors.\nLes relais sont mixtes (2 filles et 2 garçons).\n2 courses maximum par nageur et par réunion. \n\n\n\nProgramme\n\n\n\nLes horaires sont susceptibles d’évoluer en fonction de la participation \n1° Réunion : Dimanche 16 octobre 2022 – OP : 08h00 – DE : 09h00 (*)\n100 Papillon Dames & Messieurs\,\n200 Nage Libre Dames & Messieurs\,\n100 Dos Dames & Messieurs\,\n4×50 4N Mixte \n1° Réunion : Dimanche 16 octobre 2022 – OP : 14h00 – DE : 15h00 (*)\n4×50 NL Mixte\n100 Brasse Dames & Messieurs\,\n200 4 Nages Dames & Messieurs\,\n100 Nage Libre Dames & Messieurs\,\n \n(*) OP : Ouverture des Portes – DE : Début des Épreuves \n\n\n\nRécompenses\n\n\n\nPas de récompenses\n \n\n\n\nRésultats\n\n\n\n\nRésultats  :\n\nFormat Pdf\nFormat FFNex\n\nFormat CSV
URL:https://natation13.org/event/pre-saison-etape-1/
LOCATION:Fos/Mer
CATEGORIES:Calendrier,Evènements Natation
ATTACH;FMTTYPE=image/png:https://natation13.org/wp-content/uploads/2018/01/nc_50.png
ORGANIZER;CN="CD13 Natation":MAILTO:ffn-cd13@wanadoo.fr
END:VEVENT
END:VCALENDAR