BEGIN:VCALENDAR
VERSION:2.0
PRODID:-//Natation 13 - ECPv6.15.18//NONSGML v1.0//EN
CALSCALE:GREGORIAN
METHOD:PUBLISH
X-WR-CALNAME:Natation 13
X-ORIGINAL-URL:https://natation13.org
X-WR-CALDESC:Évènements pour Natation 13
REFRESH-INTERVAL;VALUE=DURATION:PT1H
X-Robots-Tag:noindex
X-PUBLISHED-TTL:PT1H
BEGIN:VTIMEZONE
TZID:Europe/Paris
BEGIN:DAYLIGHT
TZOFFSETFROM:+0100
TZOFFSETTO:+0200
TZNAME:CEST
DTSTART:20210328T010000
END:DAYLIGHT
BEGIN:STANDARD
TZOFFSETFROM:+0200
TZOFFSETTO:+0100
TZNAME:CET
DTSTART:20211031T010000
END:STANDARD
BEGIN:DAYLIGHT
TZOFFSETFROM:+0100
TZOFFSETTO:+0200
TZNAME:CEST
DTSTART:20220327T010000
END:DAYLIGHT
BEGIN:STANDARD
TZOFFSETFROM:+0200
TZOFFSETTO:+0100
TZNAME:CET
DTSTART:20221030T010000
END:STANDARD
BEGIN:DAYLIGHT
TZOFFSETFROM:+0100
TZOFFSETTO:+0200
TZNAME:CEST
DTSTART:20230326T010000
END:DAYLIGHT
BEGIN:STANDARD
TZOFFSETFROM:+0200
TZOFFSETTO:+0100
TZNAME:CET
DTSTART:20231029T010000
END:STANDARD
END:VTIMEZONE
BEGIN:VEVENT
DTSTART;VALUE=DATE:20220312
DTEND;VALUE=DATE:20220314
DTSTAMP:20260424T001943
CREATED:20220201T155049Z
LAST-MODIFIED:20220308T092852Z
UID:3488-1647043200-1647215999@natation13.org
SUMMARY:Meeting Départemental - Panathlon
DESCRIPTION:Meeting Départemental – Panathlon\n\n\nDate :  Samedi 12 & Dimanche  13 mars 2022\nNb poules : 1\n\n\nNb réunions :   4\nLieux :   Venelles\n\n\nBassin :   25 m\nCat :   Avenirs &  Jeunes (F14–\, G15–)\n\n\nNb lignes :   8\nGenre :    Animation\n\n\nDate limite engt :\nLundi 07 mars 2022\nTarifs :    Indiv. : 4\,00 €\nRelais : 6\,00 €\n\n\n\n\n\n\nLa compétition sera ouverte aux publics avec pass vaccinal obligatoire pour les majeurs et pass sanitaire pour les mineurs.\nLe port du masque n’est plus obligatoire dans l’enceinte de la piscine\nConsignes plus détaillées après la clôture des engagements (protocole sanitaire). La situation évoluant tellement vite\, n’oubliez pas  de consulter le site.\n\n\n\n\n\n\nEngagements\n\n\n\nLes engagements seront ouverts du lundi 28 février au lundi 07 mars 2022 inclus \n\nStarts list :\n\nListe des engagements : Pdf\nListe des engagements par structure : Pdf\n\n\nProgrammes & planning :\n\nPlanning de la compétition : Pdf\nDimanche Matin : Pdf\nDimanche Après Midi :\n\n\nLive\n\n\n\n\nInscription des officiels\n\n\n\nLiens :  Inscription   /  Consultation \n\n\n\nRèglement\n\n\n\n\nLe PANATHLON est ouvert à tous les nageurs et nageuses des catégories AVENIRS (Filles 2012 et après – Garçon 2011 après) et JEUNES (Filles 2009/2010/2011 – Garçons 2008/2009/2010) licenciés à la FFN ou auprès d’une fédération affiliée à la FINA. Tous les nageurs nés en 2009 et après doivent être titulaire du Pass’ Compétition.\nPour les 50 et 100m\, on aura des finales A : une pour les Avenirs\, une pour les jeunes 1 et une pour les jeunes 2&3.\nPour les autres épreuves le classement sera au temps\nLes relais 4×50 Nage Libre Jeunes sont 4×50 Filles et 4×50 Garçons\nLes relais 4×50 Nage Libre Avenirs sont mixtes (2 filles et 2 garçons)\nLe relais 4×50 4N Mixte (toutes catégories). Ce relais devra comporter minimum 1 Fille ou 1 garçon et 1 Avenir\nPour un meilleur déroulement de la compétition\, nous limitons les engagements à 350 nageurs. \n\n\n\n\nProgramme\n\n\n\nPour un bon déroulement de la compétition\, l’organisation se réserve le droit de modifier le contenu et l’ordre en accord avec les entraineurs des différents clubs présents.\n1° Réunion : Samedi 12 mars 2022- OP : 08h00 – DE : 09h00 (*)\n50 Brasse – Avenirs et Jeunes – Filles/Garçons\n100 Dos – Avenirs et Jeunes – Filles/Garçons\n400NL – Jeunes – Filles J2/J3 (Classement au temps)\n100 4N – Avenirs – Garçons (Classement au temps)\nRécompenses 400NL et 1004N\n50 Papillon – Avenirs et Jeunes -Filles/Garçons\n100 NL – Avenirs et Jeunes – Filles/Garçons \n2° Réunion : Samedi 12 mars 2022- OP : 14h30 – DE : 15h30 (*)\n200 NL – Avenirs et Jeunes 1 – Filles (Classement au temps)\n200 4N – Jeunes – Garçons (Classement au temps)\n50 Brasse – Filles/Garçons (Finale A Av\, J1 & J2&3)\nRécompenses 200NL\, 200 4N et 50 Brasse\n100 Dos – Filles/Garçons (Finale A Av\, J1\, J2&3)\n50 Papillon – Filles/Garçons ((Finale A Av\, J1\, J2&3)\n100 NL – Filles/Garçons ((Finale A Av\, J1\, J2&3)\nRécompenses 100 Dos\, 50 Papillon et 100 NL\nRelais 4×50 NL Filles/Garçons (Jeunes) (Classement au temps)\nRelais 4×50 NL Mixte (Avenirs) (Classement au temps) \n3° Réunion : Dimanche 13 mars 2022- OP : 08h00 – DE : 09h00 (*)\n50 NL – Avenirs et Jeunes – Filles/Garçons\n100 Brasse – Avenirs et Jeunes – Filles/Garçons\n100 4N – Avenirs – Filles (Classement au temps)\n400 NL – Jeunes 2 et 3 – Garçons (Classement au temps)\nRécompenses 100 4N et 400 NL\n50 Dos – Avenirs et Jeunes – Filles/Garçons\n100 Papillon – Avenirs et Jeunes -– Filles/Garçons\nRelais 4×50 4N Mixte Toutes Cat. (1 avenir + 1 fille/garçon) (Classement au temps)\nRécompenses Relais 4×50 mixte \n4° Réunion : Dimanche 13 mars 2022- OP : 14h00 – DE : 15h00 (*)\n200 4N – Jeunes – Filles (Classement au temps)\n200 NL – Avenirs et Jeunes 1 – Garçons (Classement au temps)\n50 Dos – Filles/Garçons (Finale A Av\, J1 & J2&3)\nRécompenses 200 4N\, 200 NL et 50 Dos\n100 Brasse – Filles/Garçons (Finale A Av\, J1 & J2&3)\n50 NL – Filles/Garçons ((Finale A Av\, J1 & J2&3))\n100 Papillon – Filles/Garçons ((Finale A Av\, J1 & J2&3))\nRécompenses 100 Brasse\, 50 NL et 100 Papillon\nRécompenses Challenge Panathlon et Meilleures Performances \n(*) OP : Ouverture des Portes – DE : Début des Épreuves \n\n\n\nRécompenses\n\n\n\nDes récompenses seront données aux trois premiers de chaque épreuve :\n– AVENIRS\, JEUNES 1\, JEUNES 2 et 3.\nLe challenge du PANATHLON sera remis au meilleur nageur suivant la table de cotation à l’addition des points des épreuves suivantes :\n– AVENIRS – 200NL/1004N\, JEUNES 1 – 200NL/2004N\, JEUNES 2 et 3 – 400NL/2004N\n– Meilleures performances AVENIRS Filles et Garçons et JEUNES Filles et Garçons \n  \n\n\n\nRésultats\n\n\n\n\nRésultats  :\n\nFormat pdf :\nFormat FFNex\nFormat CSV\n\n\n\n\n\n\nProtocole Sanitaire\n\n\n\n\n/ L’accès piscine  :\nLa compétition se déroulera à huis clos\nLe contrôle du pass sanitaire sera effectué  pour tous\nLe port du masque correctement porté est obligatoire pour tous dans l’enceinte de la piscine (excepté pour nager)\nUn distributeur de gel hydroalcoolique\, à pied\, sera installé à chaque accès ouvert.\nUn émargement du chef d’équipe ou de l’entraîneur de chaque club sera demandé pour valider la présence des nageurs.\nA compléter\nL’accès douches / vestiaires  :\nPour tous les déplacements\, l’affluence doit être régulée.\nA compléter\nDéroulement compétition :\nA compléter
URL:https://natation13.org/event/meeting-departemental-panathlon/
LOCATION:Venelles
CATEGORIES:Calendrier,Evènements Natation
ATTACH;FMTTYPE=image/png:https://natation13.org/wp-content/uploads/2018/01/nc_50.png
ORGANIZER;CN="CD13 Natation":MAILTO:ffn-cd13@wanadoo.fr
END:VEVENT
BEGIN:VEVENT
DTSTART;TZID=Europe/Paris:20220319T140000
DTEND;TZID=Europe/Paris:20220319T180000
DTSTAMP:20260424T001943
CREATED:20220207T152136Z
LAST-MODIFIED:20220313T221539Z
UID:3492-1647698400-1647712800@natation13.org
SUMMARY:Parcours ENF (Challenge Avenirs)
DESCRIPTION:Parcours ENF (Challenge Avenirs)\n\n\n\nDate :  Samedi 19 mars 2022\nNb poules : 1\n\n\nNb réunions :   1\nLieux :   Lieux à définir\n\n\nBassin :   25 m\nCat :   Avenirs (F10-\, G11-)\n\n\nNb lignes :   6\nGenre :    Animation\n\n\nDate limite engt :\nLundi 14 Mars 2022\nTarifs :    Indiv. : 2\,00 €\n\n\n\n\n\n\nATTENTION le parcours est annulé pour cause de disponibilité de piscine. Par contre\, il sera intégré partiellement à la journée départementale avenirs qui aura lieu le 20 mars 2022 à La Ciotat\n\n\n\n\n\n\n\nEngagements\n\n\n\nLes engagements seront ouverts du lundi 07 mars  au lundi 14 mars 2022 inclus \n\nStarts list :\n\nListe des engagements : Pdf\nListe des engagements par structure : Pdf\n\n\nProgrammes & planning :\n\nPlanning de la compétition : Pdf\nDimanche Matin : Pdf\nDimanche Après Midi :\n\n\nLive\n\n\n\n\n\nInscription des officiels\n\n\n\nLiens :  Inscription   /  Consultation \n\n\n\nRèglement\n\n\n\n\nCe challenge Avenirs s’inscrit dans le parcours de l’ENF et l’obtention du pass compétition.\nCe Challenge permet aux nageuses et nageurs de la catégorie Avenirs de s’engager en compétition sans Pass Compétition. Toute autre compétition exigera du nageur d’être en possession de ce troisième volet de l’ENF (interclubs avenirs\, trophée avenirs\,…)\nCe challenge n’est évidemment pas interdit aux nageuses et nageurs titulaires du pass compétition\nAttention les nageurs doivent avoir une licence pour s’engager via extranat \n\n\n\n\nProgramme\n\n\n\nLes horaires sont susceptibles d’évoluer en fonction de la participation \n1° Réunion : Samedi 19 mars 2022- OP : 14h15 – DE : 15h00 (*)\n25 Papillon Filles & Garçons\n50 Dos / Brasse Filles & Garçons\n25 Dos Filles & Garçons\n50 Brasse/ Crawl Filles & Garçons\n100 Nage Libre Filles & Garçons\n25 Brasse Filles & Garçons\n50 Papillon / Dos Filles & Garçons\n25 NL Filles & Garçons\n100 4 Nages Filles & Garçons \n(*) OP : Ouverture des Portes – DE : Début des Épreuves \n\n\n\nRécompenses\n\n\n\nLes 3 premières Filles et Garçons seront récompensées pour les 50m et 100m (10O\,10A\,10B)  \n\n\n\nRésultats\n\n\n\n\nRésultats  :\n\nFormat pdf\nFormat FFNex\nFormat CSV\n\n\n\n\n\n\nProtocole Sanitaire\n\n\n\n\n/ L’accès piscine  :\nLa compétition se déroulera à huis clos\nLe contrôle du pass sanitaire sera effectué  pour tous\nLe port du masque correctement porté est obligatoire pour tous dans l’enceinte de la piscine (excepté pour nager)\nUn distributeur de gel hydroalcoolique\, à pied\, sera installé à chaque accès ouvert.\nUn émargement du chef d’équipe ou de l’entraîneur de chaque club sera demandé pour valider la présence des nageurs.\nA compléter\nL’accès douches / vestiaires  :\nPour tous les déplacements\, l’affluence doit être régulée.\nA compléter\nDéroulement compétition :\nA compléter
URL:https://natation13.org/event/3492/
CATEGORIES:Calendrier,Evènements Natation
ATTACH;FMTTYPE=image/png:https://natation13.org/wp-content/uploads/2018/01/enf_50.png
ORGANIZER;CN="CD13 Natation":MAILTO:ffn-cd13@wanadoo.fr
END:VEVENT
BEGIN:VEVENT
DTSTART;VALUE=DATE:20220320
DTEND;VALUE=DATE:20220321
DTSTAMP:20260424T001943
CREATED:20220207T154601Z
LAST-MODIFIED:20220322T141534Z
UID:3496-1647734400-1647820799@natation13.org
SUMMARY:Journée Départementale Avenirs - Étape 1
DESCRIPTION:NOUVEAU PROGRAMME \n\n\n\nCoupe Départementale Avenirs n°1 \nJournée Départementale Avenirs – Étape 1\n\n\n\nDate :  Dimanche 20 mars 2022\nNb poules : 1\n\n\nNb réunions :   2\nLieux :   La Ciotat\n\n\nBassin :   25 m\nCat :   Avenirs (F10-\, G11-)\n\n\nNb lignes :   6\nGenre :    Qualificatif\n\n\nDate limite engt :\nLundi 14 Mars 2022\nTarifs :    Indiv. : 3\,50 €\nRelais : 5\,00 €\n\n\n\n\n\n\nATTENTION: Les Nauticales 2022 débuteront le 19 mars le stationnement sera donc difficile sur la Ciotat \nNormalement\, il ne sera pas possible de se garer sur le parking de la piscine ce dernier étant réservé aux Nauticales 2022.  \nPar contre vous devriez pouvoir stationner : \n\n\n\n– sur le parking de l’école entre la piscine et le CC Carrefour (#200m)\n– le long de l’avenue Jules Ferry\n– au lycée plus bas dans l’avenue Jules Ferry\n\n\n\n\n\n\n\n\n\n\nEngagements\n\n\n\nLes engagements seront ouverts du lundi 07 mars  au lundi 14 mars 2022 inclus \n\nStarts list :\n\nListe des engagements : journée départementale – PARCOURS ENF \nListe des engagements par structure : journée départementale – PARCOURS ENF \n\n\nProgrammes & planning :\n\nPlanning de la compétition : journée départementale – Parcours ENF\n\nDimanche Matin : Journée départementale + parcours ENF\nDimanche Après Midi : Journée départementale + parcours ENF\n\n\nLive\n\n\n\n\nInscription des officiels\n\n\n\nLiens :  Inscription   /  Consultation \n\n\n\nRèglement\n\n\n\n\n  \n\n\n\n\nProgramme\n\n\n\nLes horaires sont susceptibles d’évoluer en fonction de la participation \n1° Réunion :Dimanche 20 mars 2022- OP : 08h15 – DE : 09h00 (*)\nRelais mixte 4×50 Papillon\n200 NL Avenirs 1 Filles – Garçons\n400 NL Avenirs 2 Filles – Garçons\nRelais mixte 4×50 Dos\n200 NL\n50 Dos/Brasse (Parcours Avenirs)\n50 Pap\n25 Dos (Parcours Avenirs)\n100 Dos\n25 NL (Parcours Avenirs)\n \n2° Réunion : Dimanche 20 mars 2022- OP : 14h00 – DE : 14h45 (*)\n50 Nage Libre Filles – Garçons\nRelais mixte 4×50 Brasse\n100 4 Nages Avenirs 1 Filles – Garçons\n200 4 Nages Avenirs 2 Filles – Garçons\nRelais mixte 4×50 Nage Libre\n100 NL\n100 NL (Parcours Avenirs)\n50 Brasse\n50 Brasse/NL (Parcours Avenirs)\n1004 N \n(*) OP : Ouverture des Portes – DE : Début des Épreuves \n\n\n\nRécompenses\n\n\n\nMeilleure performance par année d’âge dames et messieurs\, avenirs 1 et avenirs 2 (4 trophées)\nRelais le premier relais (16O)\nDiplômes au 3 premiers avenirs 2 (sur chaque courses)\nDiplômes au 3 premiers avenirs 1 et moins (sur chaque courses)\n \n\n\n\nRésultats\n\n\n\n\nRésultats  :\n\nRésultats globaux : Journée départementale – Parcours ENF\nClassements : Journée départementale – Parcours ENF\nFormat FFNex journée départementale – FFNex parcours enf\n\nFormat CSV journée départementale – CSV parcours enf\n\n\n\n\n\n\n\nProtocole Sanitaire\n\n\n\n\n/ L’accès piscine  :\nRespect des consignes sanitaires en vigueur
URL:https://natation13.org/event/journee-departementale-avenirs-etape1/
LOCATION:Piscine Jean Boiteux – La Ciotat\, 20 Avenue Jules Ferry\, La Ciotat\, 13600\, France
CATEGORIES:Calendrier,Evènements Natation
ATTACH;FMTTYPE=image/png:https://natation13.org/wp-content/uploads/2018/01/nc_50.png
ORGANIZER;CN="CD13 Natation":MAILTO:ffn-cd13@wanadoo.fr
END:VEVENT
BEGIN:VEVENT
DTSTART;VALUE=DATE:20220326
DTEND;VALUE=DATE:20220328
DTSTAMP:20260424T001943
CREATED:20220208T084430Z
LAST-MODIFIED:20220324T103012Z
UID:3498-1648252800-1648425599@natation13.org
SUMMARY:Championnats Départementaux de Printemps Juniors / Seniors
DESCRIPTION:Championnats Départementaux de Printemps Juniors / Seniors\n\n\nDate :  Samedi 26 & Dimanche 27 mars 2022\nNb poules : 1\n\n\nNb réunions :   4\nLieux :   Fos sur Mer\n\n\nBassin :   25 m\nCat :   Juniors & Seniors (F14+\, G15+)\n\n\nNb lignes :   6\nGenre :    Qualificatif\n\n\nDate limite engt :\nLundi 21 Mars 2022\nTarifs :    Indiv. : 3\,50 €\n\n\n\n\n\n\n\n\n\n\n\n\n\nEngagements\n\n\n\nLes engagements seront ouverts du lundi 14 mars  au lundi 21 mars 2022 inclus \n\nStarts list :\n\nListe des engagements : Pdf\nListe des engagements par structure : Pdf\n\n\nProgrammes & planning :\n\nPlanning de la compétition : Pdf\nSamedi matin : Pdf\nSamedi après midi : Pdf\nDimanche matin : Pdf\nDimanche après midi : Pdf\n\n\nLive\n\n\n\n\nInscription des officiels\n\n\n\nLiens :  Inscription   /  Consultation \n\n\n\nRèglement\n\n\n\n\nCette compétition permet :\n– aux Juniors/seniors de se qualifier aux championnats Régionaux \n\n\n\n\nProgramme\n\n\n\nLes horaires sont susceptibles d’évoluer en fonction de la participation \n1° Réunion : Samedi 26 mars 2022 – OP : 08h00 08h30 – DE : 09h00  09h30 (*)\n1500 Nage Libre Dames\n800 Nage Libre Messieurs\n100 Nage Libre Dames\n100 Papillon Messieurs\n50 Brasse Dames & Messieurs\n200 Dos Dames\n200 Nage Libre Messieurs\n200 4 Nages Dames\n2° Réunion : Samedi 26 mars 2022 – OP : 14h00 – DE : 15h00 (*)\n400 4 Nages Dames\n400 Nage Libre Messieurs\n100 Dos Dames & Messieurs\n50 Nage Libre Dames & Messieurs\n200 Papillon Dames & Messieurs\n3° Réunion : Dimanche 27 mars 2022 – OP : 08h00 – DE : 09h00 (*)\n1500 Nage Libre Messieurs\n800 Nage Libre Dames\n100 Brasse Messieurs & Dames\n50 Papillon Messieurs & Dames\n200 Dos Messieurs\n200 Nage Libre Dames\n200 4 Nages Messieurs\n4° Réunion : Dimanche 27 mars 2022 – OP : 14h00 – DE : 15h00 (*)\n400 4 Nages Messieurs\n400 Nage Libre Dames\n50 Dos Messieurs & Dames\n200 Brasse Messieurs\n200 Brasse Dames\n100 Nage Libre Messieurs\n100 Papillon Dames \n(*) OP : Ouverture des Portes – DE : Début des Épreuves \n\n\n\nRécompenses\n\n\n\n3 Meilleures performances Juniors 1-2\, Juniors 3-4 & Seniors (6o 6a 6b)\nAu premier (dames & messieurs TC) au cumul des épreuves (2o) \n\n\n\nRésultats\n\n\n\n\nRésultats  :\n\nFormat pdf\nFormat FFNex\nFormat CSV\n\n\n\n\n\n\nProtocole Sanitaire\n\n\n\n\n/ L’accès piscine  :\nLa compétition se déroulera à huis clos\nLe contrôle du pass sanitaire sera effectué  pour tous\nLe port du masque correctement porté est obligatoire pour tous dans l’enceinte de la piscine (excepté pour nager)\nUn distributeur de gel hydroalcoolique\, à pied\, sera installé à chaque accès ouvert.\nUn émargement du chef d’équipe ou de l’entraîneur de chaque club sera demandé pour valider la présence des nageurs.\nA compléter\nL’accès douches / vestiaires  :\nPour tous les déplacements\, l’affluence doit être régulée.\nA compléter\nDéroulement compétition :\nA compléter
URL:https://natation13.org/event/championnats-departementaux-de-printemps-juniors-seniors/
LOCATION:Fos Sur Mer\, Avenue René Cassin\, Fos-sur-Mer\, 13270\, France
CATEGORIES:Calendrier,Evènements Natation
ATTACH;FMTTYPE=image/png:https://natation13.org/wp-content/uploads/2017/12/natation_100.png
ORGANIZER;CN="CD13 Natation":MAILTO:ffn-cd13@wanadoo.fr
END:VEVENT
END:VCALENDAR