BEGIN:VCALENDAR
VERSION:2.0
PRODID:-//Natation 13 - ECPv6.15.18//NONSGML v1.0//EN
CALSCALE:GREGORIAN
METHOD:PUBLISH
X-WR-CALNAME:Natation 13
X-ORIGINAL-URL:https://natation13.org
X-WR-CALDESC:Évènements pour Natation 13
REFRESH-INTERVAL;VALUE=DURATION:PT1H
X-Robots-Tag:noindex
X-PUBLISHED-TTL:PT1H
BEGIN:VTIMEZONE
TZID:Europe/Paris
BEGIN:DAYLIGHT
TZOFFSETFROM:+0100
TZOFFSETTO:+0200
TZNAME:CEST
DTSTART:20200329T010000
END:DAYLIGHT
BEGIN:STANDARD
TZOFFSETFROM:+0200
TZOFFSETTO:+0100
TZNAME:CET
DTSTART:20201025T010000
END:STANDARD
BEGIN:DAYLIGHT
TZOFFSETFROM:+0100
TZOFFSETTO:+0200
TZNAME:CEST
DTSTART:20210328T010000
END:DAYLIGHT
BEGIN:STANDARD
TZOFFSETFROM:+0200
TZOFFSETTO:+0100
TZNAME:CET
DTSTART:20211031T010000
END:STANDARD
BEGIN:DAYLIGHT
TZOFFSETFROM:+0100
TZOFFSETTO:+0200
TZNAME:CEST
DTSTART:20220327T010000
END:DAYLIGHT
BEGIN:STANDARD
TZOFFSETFROM:+0200
TZOFFSETTO:+0100
TZNAME:CET
DTSTART:20221030T010000
END:STANDARD
END:VTIMEZONE
BEGIN:VEVENT
DTSTART;TZID=Europe/Paris:20210612T090000
DTEND;TZID=Europe/Paris:20210612T120000
DTSTAMP:20260424T173945
CREATED:20201125T101628Z
LAST-MODIFIED:20201125T101628Z
UID:2793-1623488400-1623499200@natation13.org
SUMMARY:Parcours ENF (Challenge Avenirs)
DESCRIPTION:Parcours ENF (Challenge Avenirs)\n\n\nDate :  Samedi 12 juin 2021\nNb poules : 1\n\n\nNb réunions : 1\nLieux :   Lieux à définir\n\n\nBassin : 25 m\nCat :   Avenirs (F10-\, G11-)\n\n\nNb lignes :   ?\nGenre :   Équipe Animation\n\n\nDate limite engt :\nLundi 07 juin 2021\nTarifs :  Individuelle : 2\,00 €\n\n\n\n\n\n\nATTENTION La compétition se déroulera à huis clos. \nN’oubliez de vous munir de votre masque le port du masque est obligatoire. \nConsignes plus détaillées après la clôture des engagements\nLa situation évoluant tellement vite\, n’oubliez pas  de consulter le site.\n\n\n\n\n\n\nEngagements\n\n\n\nListe des engagements : pdf\nEngagement par structure : pdf \n\n\n\nInscription officiels\n\n\n\nLiens : Inscription \n\n\n\nRèglement\n\n\n\nCe challenge Avenirs s’inscrit dans le parcours de l’ENF et l’obtention du pass compétition. \nCe Challenge permet  aux nageuses et nageurs de la catégorie Avenirs de s’engager en compétition sans Pass Compétition. Toute autre compétition exigera du nageur d’être en possession de ce troisième volet de l’ENF (interclubs avenirs\, trophée avenirs\,…) \nCe challenge n’est évidemment pas interdit aux nageuses et nageurs titulaires du pass compétition \nAttention les nageurs doivent avoir une licence compétition pour s’engager via extranat \n\n\n\nProgramme\n\n\n\n1° Réunion : Samedi  12 juin  2021  – OP : 09h00 – DE : 09h45 (*) \n50 Brasse / Crawl Filles & Garçons\n25 Papillon Filles & Garçons\n100 4 Nages Filles & Garçons\n25 Brasse Filles & Garçons\n50 Papillon / Dos Filles & Garçons \nAustralienne ou relais \n(*) OP : Ouverture des Portes – DE : Début des Épreuves \n\n\n\nRécompenses\n\n\n\nLes 3 premières  Filles  et Garçons seront récompensées pour les 50m et 100m (6O\,6A\,6B)\nRécompense à la  1ere fille et au 1er garçon  de l’australienne ou au premier relais (2o)
URL:https://natation13.org/event/parcours-enf-challenge-avenirs-4/
CATEGORIES:Calendrier,Evènements Natation
ATTACH;FMTTYPE=image/png:https://natation13.org/wp-content/uploads/2018/01/nc_50.png
ORGANIZER;CN="CD13 Natation":MAILTO:ffn-cd13@wanadoo.fr
END:VEVENT
BEGIN:VEVENT
DTSTART;TZID=Europe/Paris:20210612T140000
DTEND;TZID=Europe/Paris:20210612T180000
DTSTAMP:20260424T173945
CREATED:20201125T102807Z
LAST-MODIFIED:20201125T102807Z
UID:2795-1623506400-1623520800@natation13.org
SUMMARY:Finale de la Coupe Départementale Avenirs
DESCRIPTION:Finale de la Coupe Départementale Avenirs\n\n\nDate :  Samedi 12 juin 2021\nNb poules : 1\n\n\nNb réunions : 1\nLieux :   Lieux à définir\n\n\nBassin : 25 m\nCat :   Avenirs  (F10-\, G11-)\n\n\nNb lignes :   ?\nGenre :   Animation\n\n\nDate limite engt :\nLundi 07 juin 2021\nTarifs :  Individuelle : 3\,00 €\n\n\n\n\n\n\nATTENTION La compétition se déroulera à huis clos. \nN’oubliez de vous munir de votre masque le port du masque est obligatoire. \nConsignes plus détaillées après la clôture des engagements\nLa situation évoluant tellement vite\, n’oubliez pas  de consulter le site.\n\n\n\n\n\n\nEngagements\n\n\n\nListe des engagements : pdf\nEngagement par structure : pdf \n\n\n\nInscription officiels\n\n\n\nLiens : Inscription \n\n\n\nRèglement\n\n\n\nCompétition réservée aux nageurs classés (les Avenirs 1 devront avoir nagé  50NL\, le 100 4 Nages et le 200 NL et pour les Avenirs 2 50NL\, 200 4 Nages et 400 NL)  lors de la Coupe Départementale  Avenirs n’ayant pas été qualifié à la finale régionale \n\n\n\nProgramme\n\n\n\n1° Réunion : Samedi 12 juin 2021- OP : 14h00 – DE : 14h45 (*) \nAttention aménagement du programme possible d’évoluer. \n200 NL\n100 4 Nages Avenirs 1 filles et garçons\n200 4 Nages Avenirs 2 filles et garçons\nAustralienne \n(*) OP : Ouverture des Portes – DE : Début des Épreuves \n\n\n\nRécompenses\n\n\n\nRécompense  au 3er au cumul des 2   nages par année d’âge (7o\,7a \,7b)\nRécompense aux 3 premiers de l’australienne (2o\,2a\,2b)
URL:https://natation13.org/event/finale-de-la-coupe-departementale-avenirs-2/
CATEGORIES:Calendrier,Evènements Natation
ATTACH;FMTTYPE=image/png:https://natation13.org/wp-content/uploads/2018/01/nc_50.png
ORGANIZER;CN="CD13 Natation":MAILTO:ffn-cd13@wanadoo.fr
END:VEVENT
BEGIN:VEVENT
DTSTART;VALUE=DATE:20210627
DTEND;VALUE=DATE:20210628
DTSTAMP:20260424T173945
CREATED:20210616T202316Z
LAST-MODIFIED:20210616T210059Z
UID:2917-1624752000-1624838399@natation13.org
SUMMARY:Trophée Martigues Etang de Berre
DESCRIPTION:Officiels \n\n\n\nOfficiels :  Inscriptions  / Consultation \n\n\n\nInformations\n\n\n\nVenez nombreux 
URL:https://natation13.org/event/trophee-martigues-etang-de-berre-2/
LOCATION:Martigues Plage de la Ferrière\, 11 Rue du Colonel Fabien\, Martigues\, 13500\, France
CATEGORIES:Calendrier,Evènemants Eau Libre 1
END:VEVENT
END:VCALENDAR