BEGIN:VCALENDAR
VERSION:2.0
PRODID:-//Natation 13 - ECPv6.15.18//NONSGML v1.0//EN
CALSCALE:GREGORIAN
METHOD:PUBLISH
X-WR-CALNAME:Natation 13
X-ORIGINAL-URL:https://natation13.org
X-WR-CALDESC:Évènements pour Natation 13
REFRESH-INTERVAL;VALUE=DURATION:PT1H
X-Robots-Tag:noindex
X-PUBLISHED-TTL:PT1H
BEGIN:VTIMEZONE
TZID:Europe/Paris
BEGIN:DAYLIGHT
TZOFFSETFROM:+0100
TZOFFSETTO:+0200
TZNAME:CEST
DTSTART:20200329T010000
END:DAYLIGHT
BEGIN:STANDARD
TZOFFSETFROM:+0200
TZOFFSETTO:+0100
TZNAME:CET
DTSTART:20201025T010000
END:STANDARD
BEGIN:DAYLIGHT
TZOFFSETFROM:+0100
TZOFFSETTO:+0200
TZNAME:CEST
DTSTART:20210328T010000
END:DAYLIGHT
BEGIN:STANDARD
TZOFFSETFROM:+0200
TZOFFSETTO:+0100
TZNAME:CET
DTSTART:20211031T010000
END:STANDARD
BEGIN:DAYLIGHT
TZOFFSETFROM:+0100
TZOFFSETTO:+0200
TZNAME:CEST
DTSTART:20220327T010000
END:DAYLIGHT
BEGIN:STANDARD
TZOFFSETFROM:+0200
TZOFFSETTO:+0100
TZNAME:CET
DTSTART:20221030T010000
END:STANDARD
END:VTIMEZONE
BEGIN:VEVENT
DTSTART;VALUE=DATE:20210513
DTEND;VALUE=DATE:20210514
DTSTAMP:20260424T233945
CREATED:20201123T111156Z
LAST-MODIFIED:20201123T111156Z
UID:2785-1620864000-1620950399@natation13.org
SUMMARY:Inter Départemental Avenirs
DESCRIPTION:Inter Départemental Avenirs\n\n\nDate : Jeudi 13 mai 2021\nNb poules : 1\n\n\nNb réunions : 2\nLieux :   Alpes Maritimes (?)\n\n\nBassin : 25 m\nCat : Avenirs (F10-\, G11-)\n\n\nNb lignes : \nGenre : Qualificatif\n\n\nDate limite engt :\nTarifs :\n\n\n\n\n\n\nATTENTION La compétition se déroulera à huis clos. \nN’oubliez de vous munir de votre masque le port du masque est obligatoire. \nConsignes plus détaillées après la clôture des engagements\nLa situation évoluant tellement vite\, n’oubliez pas  de consulter le site.\n\n\n\n\n\n\nEngagements\n\n\n\nListe des engagements : pdf\nEngagement par structure : pdf \n\n\n\nInscription officiels\n\n\n\nLiens : Inscription \n\n\n\nRèglement\n\n\n\nLes équipes départementales sont composées de 8 dames et 8 messieurs avenirs.\nChaque nageur participe à 2 relais et à 2 courses individuelles.\nLes équipes peuvent être accompagnées de 1 ou 2 remplaçants. \nUne série de 50 NL et de 100 NL sera organisée pour les remplaçants. \nLe relais 8 x 50 4 Nages sera nagé de la façon suivante : 2 nageurs en Papillon\, 2 en Dos (départ plongeon et le nageur se retourne sur le dos pendant la coulée)\, 2 en Brasse et 2 en NL. \nLe lieu de la compétition changera de département tous les ans. \n\n\n\nProgramme\n\n\n\n1° Réunion : Jeudi 13  mai  2021 – OP : 09h30 – DE : 10h30 (*) \nDéfilé des Délégations\nRelais 8 x 50 4 Nages Dames – Messieurs\nCourse des remplaçants 100 NL\n100 Dos  Dames – Messieurs\n100 Brasse Dames – Messieurs\n100 NL Dames – Messieurs\n100 Papillon  Dames – Messieurs \nREPAS PRIS EN COMMUN  \n 2° Réunion : Jeudi 13  mai  2021 – OP : 14h30 – DE : 15h15 (*) \n50 Papillon Dames – Messieurs\n50 Dos Dames – Messieurs\n50 Brasse Dames – Messieurs\n50 NL Dames – Messieurs\nCourse des remplaçants 50 NL\nRelais 8 X 50 NL \n(*) OP : Ouverture des Portes – DE : Début des Épreuves \n\n\n\nClassement\n\n\n\nChaque équipe est classée au cumul des épreuves à la table de cotation. En cas d’égalité le temps du relais 8 x 50 4N départagera les équipes. \n\n\n\nClassement & Récompenses\n\n\n\n\nCoupe pour les trois premières équipes dames\, messieurs et mixte.\nCoupe pour la meilleure performance à la table de cotation filles et garçons
URL:https://natation13.org/event/inter-departemental-avenirs-3/
CATEGORIES:Calendrier,Evènements Natation
ATTACH;FMTTYPE=image/png:https://natation13.org/wp-content/uploads/2018/01/nc_50.png
END:VEVENT
BEGIN:VEVENT
DTSTART;VALUE=DATE:20210515
DTEND;VALUE=DATE:20210517
DTSTAMP:20260424T233945
CREATED:20201124T102830Z
LAST-MODIFIED:20201124T102830Z
UID:2787-1621036800-1621209599@natation13.org
SUMMARY:Coupe des Territoires
DESCRIPTION:Coupe des Territoires\n\n\nDate : Samedi 15 & Dimanche 16 mai 2021\nNb poules : 1\n\n\nNb réunions :   2\nLieux :   Istres\n\n\nBassin : 25 m\nCat :    Jeunes (F-\, G-)\n\n\nNb lignes :   8\nGenre :   Animation\n\n\nDate limite engt :\nTarifs :\n\n\n\n\n\n\nATTENTION La compétition se déroulera à huis clos. \nN’oubliez de vous munir de votre masque le port du masque est obligatoire. \nConsignes plus détaillées après la clôture des engagements\nLa situation évoluant tellement vite\, n’oubliez pas  de consulter le site.\n\n\n\n\n\n\nEngagements\n\n\n\nListe des engagements : pdf\nEngagement par structure : pdf \n\n\n\nInscription officiels\n\n\n\nLiens : Inscription \n\n\n\nRèglement\n\n\n\nLes équipes départementales sont composées de 12 nageurs\, 6 dames et 6 messieurs de la catégorie jeunes. Soit 4 jeunes 1\, 4 jeunes 2 et 4 jeunes 3 (deux filles et deux garçons par année d’âge). \nChaque nageur doit participer à 2 relais et 2 courses individuelles\, chacune des courses devra être nagée 2 fois (exemple : deux nageuses et deux nageurs par équipe sont engagés sur le 100 papillon). \nLes équipes peuvent être accompagnées de 1 ou 2 remplaçants par année d’âge et par genre \n\n\n\nProgramme\n\n\n\n1° Réunion : Samedi 15 mai  2021 – OP : 14h00 – DE : 15h30 (*) \n4 x 100 4 Nages Mixte et par année d’âge.\nCourses des remplaçants (100 Papillon et 100 Dos).\n200 4 Nages Dames et Messieurs\n100 Papillon Dames et Messieurs\n100 Dos Dames et Messieurs \n2° Réunion : Dimanche 16  mai  2021 – OP : 07h30 – DE : 09h00 (*) \n100 4 Nages  Dames et Messieurs\n100 Brasse  Dames et Messieurs\n100 NL Dames et Messieurs\nCourses des remplaçants (100 Brasse et 100 NL)\n12 x 50 NL Mixte \n(*) OP : Ouverture des Portes – DE : Début des Épreuves \n\n\n\nClassement\n\n\n\nChaque équipe est classée à la place.\nLe 1er  = 1 point\, le 2ème  = 3 points\, le 3ème  = 5 points\, le 4ème = 6 points\, le 5ème = 7 points\, etc.\nL’équipe qui aura le moins de points remportera la coupe des territoires.\nEn cas d’égalité de points le relais 12 x 50  NL départagera les équipes. \n\n\n\n Récompenses\n\n\n\nCoupe pour les trois premières équipes Dames\, Messieurs et au général.\nCoupe pour la meilleure performance à la table de cotation filles et garçons.
URL:https://natation13.org/event/coupe-des-territoires/
LOCATION:Istres-Stade nautique\, 1 rue des Felibres\, Istres\, 13800
CATEGORIES:Calendrier,Evènements Natation
ATTACH;FMTTYPE=image/png:https://natation13.org/wp-content/uploads/2018/01/nc_50.png
ORGANIZER;CN="CD13 Natation":MAILTO:ffn-cd13@wanadoo.fr
END:VEVENT
BEGIN:VEVENT
DTSTART;VALUE=DATE:20210529
DTEND;VALUE=DATE:20210531
DTSTAMP:20260424T233945
CREATED:20201124T104527Z
LAST-MODIFIED:20210531T225510Z
UID:2789-1622246400-1622419199@natation13.org
SUMMARY:Meeting National 13 Open
DESCRIPTION:Meeting National –  13 Open\n\n\n\nDate :  Samedi 29 & Dimanche 30 mai 2021\nNb poules : 1\n\n\nNb réunions :   4\nLieux :   Aix en Provence\n\n\nBassin :   50 m\nCat :   Juniors & Seniors  (F14+\, G15+)\n\n\nNb lignes :   8\nGenre :    Qualificatif\n\n\nDate limite engt :\nMardi 25 mai 2021\nTarifs :    Indiv. : 5\,00 €\n\n\n\n\n\n\nATTENTION La compétition se déroulera à huis clos. \nN’oubliez de vous munir de votre masque le port du masque est obligatoire.\nTest PCR négatif de moins de 72 heures pour participer. Pensez à envoyer votre test à l’adresse mail suivante  test.covid@natation13.org et essayer d’avoir une version papier à l’accueil de la piscine\nConsignes plus détaillées après la clôture des engagements (protocole sanitaire)\nLa situation évoluant tellement vite\, n’oubliez pas  de consulter le site.\n\n\n\n\n\n\nEngagements\n\n\n\nLes engagements seront ouverts du lundi 17 au mardi 25 mai 2021 inclus \n\nStarts list :\n\nListe des engagements : :\nListe des engagements par structure : :\n\n\nProgrammes & planning :\n\nPlanning de la compétition :  \nSamedi Matin : \nSamedi Après Midi : \nDimanche Matin \nDimanche Après midi: \n\n\nLive\n\n\n\n\nInscription des officiels\n\n\n\nLiens : Inscription   /  Consultation  \n\n\n\nRèglement\n\n\n\n\nCe meeting est qualificatif aux différents championnats de France.\nDepuis le 19/05/2021 : suite aux dernières mesures sanitaires mises en place par le gouvernement\, \n\n\n\nLes nageurs professionnels ou inscrits sur les listes haut niveau\nLes nageurs qualifiés aux championnats de France élite à Chartres\nLes nageurs appartenant à une structure du PPF et inscrits au PSQS\nLes nageurs mineurs (2003 et après).\n\n\n\nsont autorisés à participer. Ils pourront s’engager sur les épreuves pour lesquelles ils auront réalisé le temps de la grille de temps de leur année d’âge aux 800 et 1500NL ci-dessous. \n\nLes temps en bassin de 25 m seront convertis.\nLes performances réalisées lors des compétitions référencées de la saison N-2 sont prises en compte pour se qualifier.\nFinales sur les 50\, 100 et 200M (A & B ttes catégories\, C juniors 1-2)\n\n\nAttention temps limite au 800 NL au 1500 NL – Grille de temps bassin de 25m \n\n\n\nDames\nÉpreuves\nMessieurs\n\n\nJuniors1 (2007)\nJuniors 2 (2006)\nJuniors 3 (2005)\nJuniors 4 (2004)\nSeniors (2003-)\n\nSeniors (2002-)\nJuniors 4 (2003)\nJuniors 3 (2004)\nJuniors 2 (2005)\nJuniors 1 (2006)\n\n\n11:00\,75\n10:28\,78\n10:18\,67\n10:06\,04\n09:55\,83\n800 NL\n08:58\,34\n09:08\,34\n09:15\,86\n09:24\,90\n10:07\,05\n\n\n21:16\,18\n20:46\,98\n20:16\,86\n19:34\,81\n19:15\,51\n1500 NL\n17:40\,02\n18:03\,82\n18:21\,35\n18:52\,12\n19:17\,34\n\n\n\n\n\n\nProgramme\n\n\n\nLes horaires sont susceptibles d’évoluer en fonction de la participation \n1° Réunion : Samedi 29 mai 2021 – OP : 08h00 – DE : 09h00 (*) \n50 Dos Dames – Messieurs\n200 4 Nages Dames – Messieurs\n400 NL (séries lentes et rapide) Dames – Messieurs\n200 Dos Dames – Messieurs\n100 Brasse Dames – Messieurs\n200 Papillon Dames – Messieurs\n100 NL Dames – Messieurs\nFinales  50 Dos Dames – Messieurs\n \n\n2° Réunion : Samedi 29 mai  2021 – OP : 14h00 – DE : 15h00 (*) \n50 Brasse Dames – Messieurs\n1500 NL dames & Messieurs\nFinales 200 4 Nages Dames – Messieurs\n Finales 200 Dos Dames – Messieurs\nFinales 100 Brasse Dames – Messieurs\nFinales 200 Papillon Dames – Messieurs\nFinales 100 NL Dames – Messieurs\nFinales 50 Brasse Dames – Messieurs \n3° Réunion : Dimanche  30 mai  2021 – OP : 08h00 – DE : 09h00 (*) \n50 Papillon Dames – Messieurs\n400 4 Nages (séries lentes et rapide ) Dames – Messieurs\n200 NL Dames – Messieurs\n100 Papillon Dames – Messieurs\n200 Brasse Dames – Messieurs\n100 Dos Dames – Messieurs\nFinales 50 Papillon Dames – Messieurs \n4° Réunion : Dimanche 30 mai  2021 – OP : 14h00 – DE : 15h00 (*) \n50 NL Dames – Messieurs\n800 NL  Dames – Messieurs\nFinales 200 NL Dames – Messieurs\nFinales 100 Papillon Dames – Messieurs\nFinales 200 Brasse Dames – Messieurs\nFinales 100 Dos Dames – Messieurs\nFinales 50 NL Dames – Messieurs \n(*) OP : Ouverture des Portes – DE : Début des Épreuves \n\n\n\nRécompenses\n\n\n\nA la meilleure performance du meeting : \n\n\n\nMeilleure performance Dames et Messieurs : Bon d’achat de 50€\n2ème Meilleure performance Dames & Messieurs : Bon d’achat de 30 €\n3ème Meilleure Performance Dames et Messieurs : Bon d’achat de 20 €\n\n\n\n\n\n\nRésultats\n\n\n\n\nRésultats  :\n\nFormat pdf :  \nFormat FFNex\nFormat CSV\n\n\n\n  \n\n\n\nProtocole Sanitaire\n\n\n\n\n/ L’accès piscine (Voir plan gradins) :\nLa compétition se déroulera à huis clos\nPour rentrer dans la piscine toute personne (nageurs\, officiels\, entraineurs\, bénévoles\,…) devra présenter un test Covid PCR de moins de 72h00 négatif avec une pièce d’identité. Les tests devront être envoyés sur la boite mail test.covid@natation13.org\nLe port du masque est obligatoire pour tous dans l’enceinte de la piscine (excepté pour nager)\nNous privilégions l’accès du bassin par l’extérieur au niveau des gradins. L’espace est vaste et cela évite l’accumulation et le regroupement dans le hall d’accueil. Les distanciations sont plus facilement respectées et à mettre en œuvre. Nous essayerons d’ouvrir les portes 15 minutes avant afin d’éviter l’afflux de personnes à l’entrée\nUn distributeur de gel hydroalcoolique\, à pied\, sera installé à chaque accès ouvert.\nUn émargement sera du chef d’équipe ou de l’entraîneur de chaque club sera demandé pour valider la présence des nageurs.\nLes clubs seront placés dans les espaces qui leur seront attribués et ne pourront pas se déplacer en dehors de ceux-ci. Seuls les nageurs appelés pour leurs courses pourront se rendre au bord du bassin.\nL’accès douches / vestiaires (Voir plans accès vestiaires) :\nLes nageurs se changent le plus souvent dans les gradins. Seul les vestiaires collectifs seront utilisés (étiquetage sur les portes).\nL’accès aux toilettes est libre\nPour tous les déplacements\, l’affluence doit être régulée.\nDéroulement compétition :\nSens de déplacement suivant les flèches bleues pour éviter tout croisement intempestif des participants.\nLa chambre d’appel est réduite au minimum pour avoir une seule série en attente. Elle se situe au niveau du bassin de récupération.\nLe bassin de récupération restera ouvert avec filtrage par un officiel.\nAttribution des lignes pour l’échauffement à chaque club en fonction du nombre de participants (Option : limité aux seuls nageurs de la session en cours ?)\nUne table haute sera positionnée derrière chaque ligne avec une chaise réservée au juge\, avec un distributeur de gel hydroalcoolique sur chaque table. \n\n\n\nPlan gradins\nPlan acces vestiaire\nPlan amenagement bassin\n\n\n\n\n\n  \nA compléter
URL:https://natation13.org/event/13_open_2021/
LOCATION:AIX – YVES BLANC\, 26 Avenue des Écoles Militaires\,\, Aix-en-Provence\, 13100\, France
CATEGORIES:Calendrier,Evènements Natation
ATTACH;FMTTYPE=image/png:https://natation13.org/wp-content/uploads/2018/01/nc_50.png
ORGANIZER;CN="CD13 Natation":MAILTO:ffn-cd13@wanadoo.fr
END:VEVENT
BEGIN:VEVENT
DTSTART;TZID=Europe/Paris:20210529T180000
DTEND;TZID=Europe/Paris:20210529T210000
DTSTAMP:20260424T233945
CREATED:20201124T110028Z
LAST-MODIFIED:20201125T100023Z
UID:2791-1622311200-1622322000@natation13.org
SUMMARY:Soirée du 13 : Championnat Départemental Open Soirée 50m
DESCRIPTION:Soirée du 13 : Championnat Départemental Open Soirée 50m\n\n\nDate :  Samedi 29 mai 2021\nNb poules : 1\n\n\nNb réunions : 1\nLieux :   Aix en Provence\n\n\n\nBassin :   50 m\nCat : Maitres (D25+\, M25+)\n\n\nNb lignes :   8\nGenre : Qualificatif\n\n\nDate limite engt :\nLundi 24 mai  2021\nTarifs :  Individuelle : 4\,00 €\nRelais : 6\,00 €\n\n\n\n\n\n\nATTENTION La compétition se déroulera à huis clos. \nN’oubliez de vous munir de votre masque le port du masque est obligatoire. \nConsignes plus détaillées après la clôture des engagements\nLa situation évoluant tellement vite\, n’oubliez pas  de consulter le site.\n\n\n\n\n\n\nEngagements\n\n\n\nListe des engagements : pdf\nEngagement par structure : pdf \n\n\n\nInscription officiels\n\n\n\nLiens : Inscription \n\n\n\nRèglement\n\n\n\nLes nageurs âgés de 25 ans et plus \nAttention en fonction de la participation certaines épreuves pourront être déplacées ou regroupées avec d’autres épreuves \n\n\n\nProgramme\n\n\n\n1° Réunion : Samedi 29 mai 2020 – OP :18h00 – DE :18h45 (*) \nRelais 4×50  NL\n50 Brasse Dames & Messieurs\n50 Dos Dames & Messieurs\n100 Dos Dames & Messieurs\n200 NL Dames & Messieurs\n200 Brasse Dames & Messieurs\n100 Papillon Dames & Messieurs\n200 4 Nages Dames & Messieurs\n200 Dos Dames & Messieurs\n100 NL Dames & Messieurs\n100 Brasse Dames & Messieurs\n200 Papillon Dames & Messieurs\n50 Papillon Dames & Messieurs\n50 NL Dames & Messieurs\nRelais 4×50  4 nages \n(*) OP : Ouverture des Portes – DE : Début des Épreuves \n\n\n\nRécompenses\n\n\n\n 
URL:https://natation13.org/event/soiree-du-13-championnat-departemental-open-soiree-50m/
LOCATION:AIX – YVES BLANC\, 26 Avenue des Écoles Militaires\,\, Aix-en-Provence\, 13100\, France
CATEGORIES:Calendrier,Evènements Natation
ATTACH;FMTTYPE=image/png:https://natation13.org/wp-content/uploads/2018/01/maitres_50.png
ORGANIZER;CN="CD13 Natation":MAILTO:ffn-cd13@wanadoo.fr
END:VEVENT
END:VCALENDAR