BEGIN:VCALENDAR
VERSION:2.0
PRODID:-//Natation 13 - ECPv6.15.18//NONSGML v1.0//EN
CALSCALE:GREGORIAN
METHOD:PUBLISH
X-ORIGINAL-URL:https://natation13.org
X-WR-CALDESC:Évènements pour Natation 13
REFRESH-INTERVAL;VALUE=DURATION:PT1H
X-Robots-Tag:noindex
X-PUBLISHED-TTL:PT1H
BEGIN:VTIMEZONE
TZID:Europe/Paris
BEGIN:DAYLIGHT
TZOFFSETFROM:+0100
TZOFFSETTO:+0200
TZNAME:CEST
DTSTART:20200329T010000
END:DAYLIGHT
BEGIN:STANDARD
TZOFFSETFROM:+0200
TZOFFSETTO:+0100
TZNAME:CET
DTSTART:20201025T010000
END:STANDARD
BEGIN:DAYLIGHT
TZOFFSETFROM:+0100
TZOFFSETTO:+0200
TZNAME:CEST
DTSTART:20210328T010000
END:DAYLIGHT
BEGIN:STANDARD
TZOFFSETFROM:+0200
TZOFFSETTO:+0100
TZNAME:CET
DTSTART:20211031T010000
END:STANDARD
BEGIN:DAYLIGHT
TZOFFSETFROM:+0100
TZOFFSETTO:+0200
TZNAME:CEST
DTSTART:20220327T010000
END:DAYLIGHT
BEGIN:STANDARD
TZOFFSETFROM:+0200
TZOFFSETTO:+0100
TZNAME:CET
DTSTART:20221030T010000
END:STANDARD
END:VTIMEZONE
BEGIN:VEVENT
DTSTART;VALUE=DATE:20210410
DTEND;VALUE=DATE:20210411
DTSTAMP:20260425T134918
CREATED:20201119T145319Z
LAST-MODIFIED:20201119T145319Z
UID:2777-1618012800-1618099199@natation13.org
SUMMARY:Coupe Départementale Avenirs n°2
DESCRIPTION:Coupe Départementale Avenirs n°2\n\n\nDate :  Samedi 10 avril 2021\nNb poules : 1\n\n\nNb réunions : 2\nLieux :  Fos/Mer\n\n\nBassin : 25 m\nCat :  Avenirs (F10-\, G11-)\n\n\nNb lignes : \nGenre : Qualificatif\n\n\nDate limite engt :\nLundi 05 avril 2021\nTarifs :  Individuelle : 3\,00 €\nRelais : 5\,00 €\n\n\n\n\n\n\nATTENTION La compétition se déroulera à huis clos. \nN’oubliez de vous munir de votre masque le port du masque est obligatoire. \nConsignes plus détaillées après la clôture des engagements\nLa situation évoluant tellement vite\, n’oubliez pas  de consulter le site.\n\n\n\n\n\n\nEngagements\n\n\n\nListe des engagements : pdf\nEngagement par structure : pdf \n\n\n\nInscription officiels\n\n\n\nLiens : Inscription \n\n\n\nRèglement\n\n\n\nPour être classés les nageurs avenirs 1 (F9\, G10-) devront avoir effectuer toutes les épreuves suivantes 50NL /100 4N et 200 N.L et les nageurs avenirs 2 (F10\,G11) 50NL/2004N et 400 N.L à l’issu des 2 plots départementaux. \nLes meilleurs de la région PACA à l’issu des 2 plots seront qualifiés à la finale régionale \nLes nageurs non titulaires du pass compétition sont autorisés à nager les relais et le 100 4 nages (attention pour 100 4N si le timing le permet mais ce n’est pas  un pass compétition).  Pour ces nageurs les engagements se feront par l’intermédiaire d’un bordereau qui devra être envoyé par mail au comité avant la date de clôture des engagements \n\n\n\nProgramme\n\n\n\n1° Réunion : Samedi 10 avril 2021- OP : 08h15 – DE : 09h00 (*) \nRelais mixte 4×50 Papillon\n200 NL Avenirs 1 Filles – Garçons\n400 NL Avenirs 2 Filles – Garçons\nRelais mixte 4×50 Dos \n2° Réunion : Samedi 10 avril 2021- OP : 14h00 – DE : 14h45 (*) \n50 Nage Libre Filles – Garçons\nRelais mixte 4×50 Brasse\n100 4 Nages Avenirs 1  Filles – Garçons\n200 4 Nages Avenirs 2 Filles – Garçons\nRelais mixte 4×50  Nage Libre \n(*) OP : Ouverture des Portes – DE : Début des Épreuves \n\n\n\nRécompenses\n\n\n\nMeilleure performance  par année d’âge (10 trophées) \nRelais le premier relais  (16O)
URL:https://natation13.org/event/coupe-departementale-avenirs-n2-2/
LOCATION:Fos Sur Mer\, Avenue René Cassin\, Fos-sur-Mer\, 13270\, France
CATEGORIES:Calendrier,Evènements Natation
ATTACH;FMTTYPE=image/png:https://natation13.org/wp-content/uploads/2018/01/nc_50.png
ORGANIZER;CN="CD13 Natation":MAILTO:ffn-cd13@wanadoo.fr
END:VEVENT
BEGIN:VEVENT
DTSTART;VALUE=DATE:20210411
DTEND;VALUE=DATE:20210412
DTSTAMP:20260425T134918
CREATED:20201119T150519Z
LAST-MODIFIED:20201119T150519Z
UID:2779-1618099200-1618185599@natation13.org
SUMMARY:Meeting Open de Printemps
DESCRIPTION:Meeting Open de Printemps\n\n\nDate :  Dimanche 11 avril  2021\nNb poules : 1\n\n\nNb réunions : 2\nLieux : Fos / Mer\n\n\nBassin : 25 m\nCat :  Jun / Sen (F14+\, G15+)\n\n\nNb lignes : \nGenre : Qualificatif\n\n\nDate limite engt :\nLundi 05 avril 2021\nTarifs :  Individuelle : 3\,00 €\n\n\n\n\n\n\nATTENTION La compétition se déroulera à huis clos. \nN’oubliez de vous munir de votre masque le port du masque est obligatoire. \nConsignes plus détaillées après la clôture des engagements\nLa situation évoluant tellement vite\, n’oubliez pas  de consulter le site.\n\n\n\n\n\n\nEngagements\n\n\n\nListe des engagements : pdf\nEngagement par structure : pdf \n\n\n\nInscription officiels\n\n\n\nLiens : Inscription \n\n\n\nRèglement\n\n\n\nCette compétition permet : \n\naux Juniors/seniors de se qualifier aux championnats Régionaux\n\nUne grille de qualification sera établie pour les jeunes \n\n\n\nProgramme\n\n\n\n1° Réunion : Dimanche 11 avril  2021 – OP : 08h00 – DE : 09h00 (*) \n200 4 Nages Dames – Messieurs\n50 Dos Dames – Messieurs\n100 Brasse Dames – Messieurs\n50 NL Dames  Messieurs\n100 Papillon Dames – Messieurs \n2° Réunion : Dimanche 11 avril 2021- OP : 14h00 – DE : 15h00 (*) \n50 Papillon Dames – Messieurs\n100 Dos Dames – Messieurs\n50 Brasse Dames – Messieurs\n100 N Dames – Messieurs \n(*) OP : Ouverture des Portes – DE : Début des Épreuves \n\n\n\nRécompenses\n\n\n\n3 Meilleures performances par catégories (juniors 1&2\, juniors 3&4 Seniors)  (6o\,6a\,6b)
URL:https://natation13.org/event/meeting-open-de-printemps/
LOCATION:Fos Sur Mer\, Avenue René Cassin\, Fos-sur-Mer\, 13270\, France
CATEGORIES:Calendrier,Evènements Natation
ATTACH;FMTTYPE=image/png:https://natation13.org/wp-content/uploads/2018/01/nc_50.png
ORGANIZER;CN="CD13 Natation":MAILTO:ffn-cd13@wanadoo.fr
END:VEVENT
BEGIN:VEVENT
DTSTART;TZID=Europe/Paris:20210417T180000
DTEND;TZID=Europe/Paris:20210417T210000
DTSTAMP:20260425T134918
CREATED:20201123T104456Z
LAST-MODIFIED:20201123T104456Z
UID:2781-1618682400-1618693200@natation13.org
SUMMARY:Soirée du 13 : Championnat Départemental Open Soirée 25 m
DESCRIPTION:Soirée du 13 : Championnat Départemental Open Soirée 25 m\n\n\nDate :  Samedi 17 avril 2021\nNb poules : 1\n\n\nNb réunions : 1\nLieux :   Lieux à définir\n\n\nBassin : 25 m\nCat : Maitres (D25+\, M25+)\n\n\nNb lignes :   ?\nGenre : Qualificatif\n\n\nDate limite engt :\nLundi 12 avril 2021\nTarifs :  Individuelle : 4\,00 €\n\n\n\n\n\n\nATTENTION La compétition se déroulera à huis clos. \nN’oubliez de vous munir de votre masque le port du masque est obligatoire. \nConsignes plus détaillées après la clôture des engagements\nLa situation évoluant tellement vite\, n’oubliez pas  de consulter le site.\n\n\n\n\n\n\nEngagements\n\n\n\nListe des engagements : pdf\nEngagement par structure : pdf \n\n\n\nInscription officiels\n\n\n\nLiens : Inscription \n\n\n\nRèglement\n\n\n\nLes nageurs âgés de 25 ans et plus \nAttention en fonction de la participation certaines épreuves pourront être déplacées ou regroupées avec d’autres épreuves \nLa participation à l’australienne nécessite d’être engagé à la compétition \n\n\n\nProgramme\n\n\n\n1° Réunion : Samedi 17 avril 2021 – OP : 18h15 – DE : 19h00 (*) \n50 Brasse Dames & Messieurs\n200 NL Dames & Messieurs\n100 Dos Dames & Messieurs\n50 Papillon Dames & Messieurs\n200 Brasse Dames & Messieurs\n400 4 Nages Dames & Messieurs\n50 Dos Dames & Messieurs\n100 Papillon Dames & Messieurs\n50 NL Dames & Messieurs\n100 4N Dames & Messieurs\n400 NL Dames & Messieurs \nAustralienne \n(*) OP : Ouverture des Portes – DE : Début des Épreuves \n\n\n\nRécompenses\n\n\n\nFilet garni au gagnant de l’australienne
URL:https://natation13.org/event/soiree-du-13-championnat-departemental-open-soiree-25-m/
CATEGORIES:Calendrier,Evènements Natation
ATTACH;FMTTYPE=image/png:https://natation13.org/wp-content/uploads/2018/01/maitres_50.png
ORGANIZER;CN="CD13 Natation":MAILTO:ffn-cd13@wanadoo.fr
END:VEVENT
BEGIN:VEVENT
DTSTART;VALUE=DATE:20210418
DTEND;VALUE=DATE:20210419
DTSTAMP:20260425T134918
CREATED:20201123T105750Z
LAST-MODIFIED:20201123T105750Z
UID:2783-1618704000-1618790399@natation13.org
SUMMARY:Interclubs Jeunes Poule Départementale
DESCRIPTION:Interclubs Jeunes Poule Départementale\n\n\nDate :  Dimanche 18 avril 2021\nNb poules : 1\n\n\nNb réunions : 2\nLieux :   Lieux à définir\n\n\nBassin : 25 m\nCat : Jeunes (F11-13\, G12-14)\n\n\nNb lignes :   ?\nGenre : Animation\n\n\nDate limite engt :\nLundi 12 avril  2021\nTarifs :  Équipe : 30 €\n\n\n\n\n\n\nATTENTION La compétition se déroulera à huis clos. \nN’oubliez de vous munir de votre masque le port du masque est obligatoire. \nConsignes plus détaillées après la clôture des engagements\nLa situation évoluant tellement vite\, n’oubliez pas  de consulter le site.\n\n\n\n\n\n\nEngagements\n\n\n\nListe des engagements : pdf\nEngagement par structure : pdf \n\n\n\nInscription officiels\n\n\n\nLiens : Inscription \n\n\n\nRèglement\n\n\n\nLes 24 meilleures équipes PACA lors des qualifications aux  interclubs jeunes de la saison en cours (avant le 15/02) sont sélectionnées pour participer à la poule A\, 2 équipes par club maximum. Les autres participeront à la poule B  départementale. \nLes équipes seront composées de 4 nageurs. Un nageur doit participer obligatoirement à deux épreuves individuelles ainsi qu’à tous les relais. Toutes les épreuves individuelles sont nagées deux fois. \nRelais 4 x 100 4 nages\, les relayeurs réalisent chacun un 100 4 nages. \nLes nageurs engagés dans cette poule ne pourront nager dans une autre. \nLes équipes mixtes pourront être engagés via un bordereau disponible sur le site du comité par contre elles seront hors classement \nUne épreuve  réservée au remplaçant de chaque équipe sera planifiée lors du déroulement de la compétition (avant les relais). \nUne seule course par remplaçant correspondant aux épreuves de la compétition. Les engagements seront effectués sur un bordereau et transmis à l’informatique avant le début des épreuves. \n\n\n\nProgramme\n\n\n\nLes horaires sont susceptibles d’être modifiés en fonction de la participation et des horaires de mise à disposition des piscines   \n1° Réunion : Dimanche 8 mars 2021 – OP : 08h15 – DE : 09h00 (*) \n100 Papillon  Filles – 100 Dos Garçons\n100 Brasse Filles- 100 NL Garçons\nCourse des Remplaçants\n4 x 200 NL Filles – 4 x 100 4 Nages Ind Garçons \n2° Réunion : Dimanche 08 mars 2021 – OP : 14h00 – DE : 14h45 (*) \n100 Papillon Garçons – 100 Dos Filles\n100 Brasse Garçons- 100 NL Filles\nCourse des Remplaçants\n4 x 200 NL Garçons – 4 x 100 4 Nages Ind Filles \n(*) OP : Ouverture des Portes – DE : Début des Épreuves \n\n\n\nClassement\n\n\n\nPour être classée une équipe doit participer à toutes les épreuves (individuelles et relais) conformément au règlement. \nUn classement régional puis national des interclubs sera effectué au cumul des points de l’ensemble des équipes engagées par le club. \nCette compétition compte pour le classement national des clubs. Pour plus de renseignement cf. l’annuel règlement fédéral. \n\n\n\nRécompenses\n\n\n\nLes trois meilleures équipes Filles et Garçons seront récompensées. (6 coupes + 8o)
URL:https://natation13.org/event/interclubs-jeunes-poule-departementale-2/
CATEGORIES:Calendrier,Evènements Natation
ATTACH;FMTTYPE=image/png:https://natation13.org/wp-content/uploads/2018/01/nc_50.png
ORGANIZER;CN="CD13 Natation":MAILTO:ffn-cd13@wanadoo.fr
END:VEVENT
END:VCALENDAR