BEGIN:VCALENDAR
VERSION:2.0
PRODID:-//Natation 13 - ECPv6.15.18//NONSGML v1.0//EN
CALSCALE:GREGORIAN
METHOD:PUBLISH
X-WR-CALNAME:Natation 13
X-ORIGINAL-URL:https://natation13.org
X-WR-CALDESC:Évènements pour Natation 13
REFRESH-INTERVAL;VALUE=DURATION:PT1H
X-Robots-Tag:noindex
X-PUBLISHED-TTL:PT1H
BEGIN:VTIMEZONE
TZID:Europe/Paris
BEGIN:DAYLIGHT
TZOFFSETFROM:+0100
TZOFFSETTO:+0200
TZNAME:CEST
DTSTART:20190331T010000
END:DAYLIGHT
BEGIN:STANDARD
TZOFFSETFROM:+0200
TZOFFSETTO:+0100
TZNAME:CET
DTSTART:20191027T010000
END:STANDARD
BEGIN:DAYLIGHT
TZOFFSETFROM:+0100
TZOFFSETTO:+0200
TZNAME:CEST
DTSTART:20200329T010000
END:DAYLIGHT
BEGIN:STANDARD
TZOFFSETFROM:+0200
TZOFFSETTO:+0100
TZNAME:CET
DTSTART:20201025T010000
END:STANDARD
BEGIN:DAYLIGHT
TZOFFSETFROM:+0100
TZOFFSETTO:+0200
TZNAME:CEST
DTSTART:20210328T010000
END:DAYLIGHT
BEGIN:STANDARD
TZOFFSETFROM:+0200
TZOFFSETTO:+0100
TZNAME:CET
DTSTART:20211031T010000
END:STANDARD
END:VTIMEZONE
BEGIN:VEVENT
DTSTART;VALUE=DATE:20201205
DTEND;VALUE=DATE:20201206
DTSTAMP:20260425T220328
CREATED:20201016T125221Z
LAST-MODIFIED:20201016T125316Z
UID:2620-1607126400-1607212799@natation13.org
SUMMARY:BIATHLON JEUNES
DESCRIPTION:Biathlon Jeunes\n\n\n\nDate :  Samedi 05 décembre 2020\nNb poules : 1\n\n\nNb réunions : 2\nLieux :   Martigues\n\n\nBassin : 25 m\nCat : Jeunes (F12-14\, G13-15)\n\n\nNb lignes :   ?\nGenre : Animation\n\n\nDate limite engt :\nLundi 30 novembre 2020\nTarifs :  Individuelle : 3\,00 €\nRelais : 5\,00 €\n\n\n\n\n\n\nATTENTION La compétition se déroulera à huis clos. \nN’oubliez de vous munir de votre masque le port du masque est obligatoire. \nConsignes plus détaillées après la clôture des engagements\nLa situation évoluant tellement vite\, n’oubliez pas  de consulter le site.\n\n\n\n\n\n\nEngagements\n\n\n\nListe des engagements : pdf\nEngagement par structure : pdf \n\n\n\nInscription officiels\n\n\n\nLiens : Inscription \n\n\n\nRèglement\n\n\n\n\nLes finales du 800NL se nageront sur 400NL\, celle du 400 NL sur 200NL et celle du 200 sur 100\nNous aurons des finales A\, B sur toutes les épreuves\n\nLe 200 4Nages se nagera en  ttes catégories et la nage libre par catégorie.    \nLe trophée du biathlon sera calculé à l’issue des séries (les finales ne seront pas prise en compte pour le classement)  \n\nIl n’y a aura pas de finale à 2 nageurs\, \nEn fonction du timing\, il est possible que certaines épreuves de nage libre soient nagées à 2 par ligne (en priorité le 800NL\, puis  400 NL\,..) \n\n\n\n\nProgramme\n\n\n\n1° Réunion : Samedi  5 décembre  2020- OP : 08h00 – DE : 08h45 (*) \n200 4 Nages Jeunes  Filles – Garçons\n200 NL Jeunes1 Filles & Garçons\n400 NL Jeunes2 Filles & Garçons\n800 NL Jeunes3 Filles & Garçons \n2° Réunion : Samedi  5 décembre  2020- OP : 14h15 – DE : 15h00 (*) \nRemise des récompenses trophées\nFinale B\, A du 100 4 Nages Jeunes 1  Filles – Garçons\nFinale B\, A du 100 4 Nages Jeunes 2  Filles – Garçons\nFinale B\, A 100 4 Nages Jeunes 3 Filles – Garçons\nPause\nFinale B\, A  du 100 NL  Jeunes 1  Filles & Garçons\nFinale B\, A  du 200 NL  Jeunes 2  Filles & Garçons\nFinale B\, A  du 400 NL Jeunes 3 Filles & Garçons\nRemise des récompenses \n(*) OP : Ouverture des Portes – DE : Début des Épreuves \n\n\n\nRécompenses\n\n\n\n–   Les 3ers au classement combiné (200 4N+200NL ou200 4N+400NL  2004N+800NL à l’issu des séries (2x(3o\,3\,a\,3b))\n–   Les 3 premiers de chaque finale A seront récompensés (2x(6O\,6A \,6B))
URL:https://natation13.org/event/biathlon-jeunes-3/
LOCATION:Piscine Municipale de Martigues\, 10 Avenue du Président Salvadore Allende\, Martigues\, 13500\, France
CATEGORIES:Calendrier,Evènements Natation
ATTACH;FMTTYPE=image/png:https://natation13.org/wp-content/uploads/2018/01/nc_50.png
ORGANIZER;CN="CD13 Natation":MAILTO:ffn-cd13@wanadoo.fr
END:VEVENT
BEGIN:VEVENT
DTSTART;TZID=Europe/Paris:20201206T080000
DTEND;TZID=Europe/Paris:20201206T120000
DTSTAMP:20260425T220328
CREATED:20201016T130209Z
LAST-MODIFIED:20201016T131214Z
UID:2622-1607241600-1607256000@natation13.org
SUMMARY:PARCOURS ENF
DESCRIPTION:Parcours ENF\n\n\n\nDate :  Dimanche 06 décembre 2020\nNb poules : 1\n\n\nNb réunions : 1\nLieux :   Martigues\n\n\nBassin : 25 m\nCat : Avenirs (F10-\, G11-)\n\n\nNb lignes :   5\nGenre : Equipe Animation\n\n\nDate limite engt :\nLundi 30 novembre 2020\nTarifs :  Individuelle : 2\,00 €\n\n\n\n\n\n\nATTENTION La compétition se déroulera à huis clos. \nN’oubliez de vous munir de votre masque le port du masque est obligatoire. \nConsignes plus détaillées après la clôture des engagements\nLa situation évoluant tellement vite\, n’oubliez pas  de consulter le site.\n\n\n\n\n\n\nEngagements\n\n\n\nListe des engagements : pdf\nEngagement par structure : pdf \n\n\n\nInscription officiels\n\n\n\nLiens : Inscription \n\n\n\nRèglement\n\n\n\nCe challenge Avenirs s’inscrit dans le parcours de l’ENF et l’obtention du pass compétition. \nCe Challenge permet  aux nageuses et nageurs de la catégorie Avenirs de s’engager en compétition sans Pass Compétition. Toute autre compétition exigera du nageur d’être en possession de ce troisième volet de l’ENF (interclubs avenirs\, trophée avenirs\,…) \nCe challenge n’est évidemment pas interdit aux nageuses et nageurs titulaires du pass compétition \nAttention les nageurs doivent avoir une licence compétition pour s’engager via extranat \n\n\n\nProgramme\n\n\n\n1° Réunion : Dimanche 6 décembre  2020- OP : 08h15 – DE : 09h00 (*) \n50 Brasse / Crawl Filles & Garçons\n25 Papillon Filles & Garçons\n100 4 Nages Filles & Garçons\n25 Brasse Filles & Garçons\n50 Papillon / Dos Filles & Garçons \nAustralienne \n(*) OP : Ouverture des Portes – DE : Début des Épreuves \n\n\n\nRécompenses\n\n\n\nLes 3 premières  Filles  et Garçons seront récompensées pour les 50m et 100m (6O\,6A\,6B) \nAustralienne : la première fille et le 1er garçon seront récompensés (2o)
URL:https://natation13.org/event/parcours-enf-5/
LOCATION:Piscine Municipale de Martigues\, 10 Avenue du Président Salvadore Allende\, Martigues\, 13500\, France
CATEGORIES:Calendrier,Evènements Natation
ATTACH;FMTTYPE=image/png:https://natation13.org/wp-content/uploads/2018/01/enf_50.png
ORGANIZER;CN="CD13 Natation":MAILTO:ffn-cd13@wanadoo.fr
END:VEVENT
BEGIN:VEVENT
DTSTART;TZID=Europe/Paris:20201206T140000
DTEND;TZID=Europe/Paris:20201206T170000
DTSTAMP:20260425T220328
CREATED:20201016T131107Z
LAST-MODIFIED:20201016T131107Z
UID:2624-1607263200-1607274000@natation13.org
SUMMARY:BIATHLON AVENIRS
DESCRIPTION:Biathlon Avenirs\n\n\n\nDate :  Dimanche 06 décembre 2020\nNb poules : 1\n\n\nNb réunions : 1\nLieux :   Martigues\n\n\nBassin : 25 m\nCat : Avenirs (F11-\, G12-)\n\n\nNb lignes :   5\nGenre :  Animation\n\n\nDate limite engt :\nLundi 30 novembre 2020\nTarifs :  Individuelle : 3\,00 €\nRelais : 5\,00 €\n\n\n\n\n\n\nATTENTION La compétition se déroulera à huis clos. \nN’oubliez de vous munir de votre masque le port du masque est obligatoire. \nConsignes plus détaillées après la clôture des engagements\nLa situation évoluant tellement vite\, n’oubliez pas  de consulter le site.\n\n\n\n\n\n\nEngagements\n\n\n\nListe des engagements : pdf\nEngagement par structure : pdf \n\n\n\nInscription officiels\n\n\n\nLiens : Inscription \n\n\n\nRèglement\n\n\n\nLes nageurs non titulaire du pass’compétition pourront participer au relais NL. dans ce cas pour ces nageurs les engagements se feront par l’intermédiaire d’un bordereau qui devra être envoyé par mail au comité avant la date de clôture des engagements. \nPour être récompensé dans le cadre du biathlon les nageurs doivent nager le 100 4N et le 200NL \nLes relais seront composés d’au moins une fille et un garçon. \n\n\n\nProgramme\n\n\n\n1° Réunion : Dimanche 6 décembre  2020- OP : 14h00 – DE : 14h45 (*) \n100 4 Nages Filles – Garçons\n200 NL Filles & Garçons\nRemise récompenses biathlon\nRelais mixte 4×50 Nage Libre \n(*) OP : Ouverture des Portes – DE : Début des Épreuves\n(**) Parcours ENF (challenge Avenirs) comptant pour le pass’compétition \n\n\n\nRécompenses\n\n\n\nAu cumul des points du 100 4 Nages et du 200 Nage libre par catégorie Avenirs 1 et Avenirs 2   (4O\,4A\, 4B) \nRelais récompense aux 3 premiers  (8o\,8a\,8b) \n 
URL:https://natation13.org/event/biathlon-avenirs-2/
LOCATION:Piscine Municipale de Martigues\, 10 Avenue du Président Salvadore Allende\, Martigues\, 13500\, France
CATEGORIES:Calendrier,Evènements Natation
ATTACH;FMTTYPE=image/png:https://natation13.org/wp-content/uploads/2018/01/nc_50.png
ORGANIZER;CN="CD13 Natation":MAILTO:ffn-cd13@wanadoo.fr
END:VEVENT
BEGIN:VEVENT
DTSTART;TZID=Europe/Paris:20201212T180000
DTEND;TZID=Europe/Paris:20201212T220000
DTSTAMP:20260425T220328
CREATED:20201103T134447Z
LAST-MODIFIED:20201103T134447Z
UID:2675-1607796000-1607810400@natation13.org
SUMMARY:Soirée Maîtres du 13 : Relais
DESCRIPTION:Soirée Maîtres du 13 : Relais\n\n\nDate :  Samedi 12 décembre 2020\nNb poules : 1\n\n\nNb réunions : 1\nLieux :   ?\n\n\nBassin : 25 m\nCat : Maîtres (D25+\, M25+)\n\n\nNb lignes :   ?\nGenre :  Qualificatif\n\n\nDate limite engt :\nLundi 07 décembre 2020\nTarifs :  Relais : 6\,00 €\n\n\n\n\n\n\nATTENTION La compétition se déroulera à huis clos. \nN’oubliez de vous munir de votre masque le port du masque est obligatoire. \nConsignes plus détaillées après la clôture des engagements\nLa situation évoluant tellement vite\, n’oubliez pas  de consulter le site.\n\n\n\n\n\n\nEngagements\n\n\n\nListe des engagements : pdf\nEngagement par structure : pdf \n\n\n\nInscription officiels\n\n\n\nLiens : Inscription \n\n\n\nRèglement\n\n\n\nLes nageurs âgés de 25 ans et plus \nAttention en fonction de la participation certaines épreuves pourront être déplacées ou regroupées avec d’autres épreuves \nAttention : Nous essayerons de mettre des pauses mais cela dépendra de la participation t du timing \n\n\n\nProgramme\n\n\n\n1° Réunion : Samedi  12 décembre 2020 – OP : 18h15 – DE : 19h00 (*) \n4 x 100 4N dames\, messieurs\n4 x 200 NL dames\, messieurs\n4 x 200 NL mixte\n4 x 100 4N mixte\n4 x 100 NL dames\, messieurs\n4 x 100 NL mixte \n(*) OP : Ouverture des Portes – DE : Début des Épreuves\n(**) Parcours ENF (challenge Avenirs) comptant pour le pass’compétition \n\n\n\nRécompenses\n\n\n\nA définir
URL:https://natation13.org/event/soiree-maitres-du-13-relais/
CATEGORIES:Calendrier,Evènements Natation
ATTACH;FMTTYPE=image/png:https://natation13.org/wp-content/uploads/2018/01/maitres_50.png
ORGANIZER;CN="CD13 Natation":MAILTO:ffn-cd13@wanadoo.fr
END:VEVENT
BEGIN:VEVENT
DTSTART;VALUE=DATE:20201213
DTEND;VALUE=DATE:20201214
DTSTAMP:20260425T220328
CREATED:20201103T135919Z
LAST-MODIFIED:20201103T135919Z
UID:2677-1607817600-1607903999@natation13.org
SUMMARY:Journée du 13
DESCRIPTION:Journée du 13\n\n\n\nDate :  Dimanche 13 décembre 2020\nNb poules : 1\n\n\nNb réunions : 1\nLieux :   ?\n\n\nBassin : 25 m\nCat : Jun / Sen (F14+\, G15+)\n\n\nNb lignes :   ?\nGenre :  Qualificatif\n\n\nDate limite engt :\nLundi 07 décembre 2020\nTarifs :  Individuelle : 3\,00 €\nRelais : 5\,00 €\n\n\n\n\n\n\nATTENTION La compétition se déroulera à huis clos. \nN’oubliez de vous munir de votre masque le port du masque est obligatoire. \nConsignes plus détaillées après la clôture des engagements\nLa situation évoluant tellement vite\, n’oubliez pas  de consulter le site.\n\n\n\n\n\n\nEngagements\n\n\n\nListe des engagements : pdf\nEngagement par structure : pdf \n\n\n\nInscription officiels\n\n\n\nLiens : Inscription \n\n\n\nRèglement\n\n\n\nCette compétition permet : \n\naux Juniors/seniors de se qualifier aux championnats Régionaux\n\nUne grille de qualification sera établie pour les jeunes \n\n\n\nProgramme\n\n\n\n1° Réunion : Dimanche 13 décembre  2020- OP : 08h00 – DE : 09h00 (*) \n200 4 Nages Dames – Messieurs\n100 Dos Dames – Messieurs\n200 Brasse Dames – Messieurs\n100 NL Dames  Messieurs\n200 Papillon Dames – Messieurs \n2° Réunion : Dimanche 13 décembre  2020- OP : 14h00 – DE : 15h00 (*) \n100 Papillon Dames – Messieurs\n200 Dos Dames – Messieurs\n100 Brasse Dames – Messieurs\n200 NL Dames – Messieurs \n(*) OP : Ouverture des Portes – DE : Début des Épreuves\n(**) Parcours ENF (challenge Avenirs) comptant pour le pass’compétition \n\n\n\nRécompenses\n\n\n\n3 Meilleures performances par catégories (juniors 1&2\, juniors 3&4 Seniors)  (8o\, 8a\, 8b) \n 
URL:https://natation13.org/event/journee-du-13-2/
CATEGORIES:Calendrier,Evènements Natation
ATTACH;FMTTYPE=image/png:https://natation13.org/wp-content/uploads/2018/01/nc_50.png
ORGANIZER;CN="CD13 Natation":MAILTO:ffn-cd13@wanadoo.fr
END:VEVENT
END:VCALENDAR