BEGIN:VCALENDAR
VERSION:2.0
PRODID:-//Natation 13 - ECPv6.15.18//NONSGML v1.0//EN
CALSCALE:GREGORIAN
METHOD:PUBLISH
X-ORIGINAL-URL:https://natation13.org
X-WR-CALDESC:Évènements pour Natation 13
REFRESH-INTERVAL;VALUE=DURATION:PT1H
X-Robots-Tag:noindex
X-PUBLISHED-TTL:PT1H
BEGIN:VTIMEZONE
TZID:Europe/Paris
BEGIN:DAYLIGHT
TZOFFSETFROM:+0100
TZOFFSETTO:+0200
TZNAME:CEST
DTSTART:20190331T010000
END:DAYLIGHT
BEGIN:STANDARD
TZOFFSETFROM:+0200
TZOFFSETTO:+0100
TZNAME:CET
DTSTART:20191027T010000
END:STANDARD
BEGIN:DAYLIGHT
TZOFFSETFROM:+0100
TZOFFSETTO:+0200
TZNAME:CEST
DTSTART:20200329T010000
END:DAYLIGHT
BEGIN:STANDARD
TZOFFSETFROM:+0200
TZOFFSETTO:+0100
TZNAME:CET
DTSTART:20201025T010000
END:STANDARD
BEGIN:DAYLIGHT
TZOFFSETFROM:+0100
TZOFFSETTO:+0200
TZNAME:CEST
DTSTART:20210328T010000
END:DAYLIGHT
BEGIN:STANDARD
TZOFFSETFROM:+0200
TZOFFSETTO:+0100
TZNAME:CET
DTSTART:20211031T010000
END:STANDARD
END:VTIMEZONE
BEGIN:VEVENT
DTSTART;TZID=Europe/Paris:20200614T140000
DTEND;TZID=Europe/Paris:20200614T180000
DTSTAMP:20260426T054929
CREATED:20190919T121439Z
LAST-MODIFIED:20191002T075544Z
UID:1817-1592143200-1592157600@natation13.org
SUMMARY:FINALE COUPE DEPT. AVENIRS
DESCRIPTION:Finale de la Coupe départementale Avenirs \n\n\n\nDate : Samedi 13 ou Dimanche 14 juin 2020\nNb poules : 1\n\n\nNb réunions : 1\nLieux :  Salon\n\n\nBassin : 25 m\nCat : Avenirs (F10-\, G11-)\n\n\nNb lignes :   ?\nGenre : Animation\n\n\nDate limite engt :\nLundi 08 juin 2020\nTarifs : 3\,00 € par nageur\n\n\n\n\n\n\nEngagements\n\n\n\nListe des engagements : pdf\nEngagement par structure : pdf \n\n\n\nInscription officiels\n\n\n\nLiens : pdf \n\n\n\nRèglement\n\n\n\nCompétition réservée aux nageurs classés (les Avenirs 1 devront avoir nagé 50NL\, le 100 4 Nages et le 200NL et pour les Avenirs 2 50NL\, 200 4 Nages et 400 NL) lors de la Coupe Départementale Avenirs n’ayant pas été qualifié à la finale régionale \n\n\n\nProgramme\n\n\n\n1° Réunion : Samedi 13 ou Dimanche 14 juin 2020 – OP : 14h00 – DE : 14h45 (*) \n200 NL\n100 4 Nages Avenirs 1 filles et garçons\n200 4 Nages Avenirs 2 filles et garçons\nAustralienne \n(*) OP : Ouverture des Portes – DE : Début des Épreuves \n\n\n\nRécompenses\n\n\n\nrécompense au 3er au cumul des 2 nages par année d’âge (6o\,6a \,6b)\nrécompense aux 3 premiers de l’australienne (2o\,2a\,2b)
URL:https://natation13.org/event/finale-coupe-dept-avenirs/
CATEGORIES:Calendrier,Evènements Natation
ATTACH;FMTTYPE=image/png:https://natation13.org/wp-content/uploads/2017/12/natation_100.png
ORGANIZER;CN="CD13 Natation":MAILTO:ffn-cd13@wanadoo.fr
END:VEVENT
END:VCALENDAR