BEGIN:VCALENDAR
VERSION:2.0
PRODID:-//Natation 13 - ECPv6.15.18//NONSGML v1.0//EN
CALSCALE:GREGORIAN
METHOD:PUBLISH
X-WR-CALNAME:Natation 13
X-ORIGINAL-URL:https://natation13.org
X-WR-CALDESC:Évènements pour Natation 13
REFRESH-INTERVAL;VALUE=DURATION:PT1H
X-Robots-Tag:noindex
X-PUBLISHED-TTL:PT1H
BEGIN:VTIMEZONE
TZID:Europe/Paris
BEGIN:DAYLIGHT
TZOFFSETFROM:+0100
TZOFFSETTO:+0200
TZNAME:CEST
DTSTART:20250330T010000
END:DAYLIGHT
BEGIN:STANDARD
TZOFFSETFROM:+0200
TZOFFSETTO:+0100
TZNAME:CET
DTSTART:20251026T010000
END:STANDARD
BEGIN:DAYLIGHT
TZOFFSETFROM:+0100
TZOFFSETTO:+0200
TZNAME:CEST
DTSTART:20260329T010000
END:DAYLIGHT
BEGIN:STANDARD
TZOFFSETFROM:+0200
TZOFFSETTO:+0100
TZNAME:CET
DTSTART:20261025T010000
END:STANDARD
BEGIN:DAYLIGHT
TZOFFSETFROM:+0100
TZOFFSETTO:+0200
TZNAME:CEST
DTSTART:20270328T010000
END:DAYLIGHT
BEGIN:STANDARD
TZOFFSETFROM:+0200
TZOFFSETTO:+0100
TZNAME:CET
DTSTART:20271031T010000
END:STANDARD
END:VTIMEZONE
BEGIN:VEVENT
DTSTART;VALUE=DATE:20260425
DTEND;VALUE=DATE:20260427
DTSTAMP:20260425T022912
CREATED:20260120T112318Z
LAST-MODIFIED:20260120T112435Z
UID:8103-1777075200-1777247999@natation13.org
SUMMARY:Inter ligues Masters synchro
DESCRIPTION:Plaquette d’information \nFormulaire repas \n 
URL:https://natation13.org/event/inter-ligues-masters/
LOCATION:Aix-les-Bains\, Aix-les-Bains\, France
CATEGORIES:Evènements Artistique
END:VEVENT
BEGIN:VEVENT
DTSTART;VALUE=DATE:20260425
DTEND;VALUE=DATE:20260427
DTSTAMP:20260425T022912
CREATED:20260318T120341Z
LAST-MODIFIED:20260318T131012Z
UID:8415-1777075200-1777247999@natation13.org
SUMMARY:Interligue Masters
DESCRIPTION:  \n  \nPlaquette interligue Masters \nELEMENTS CARD-INTERLIGUES MASTER-Aix les Bains-2026-xls \nformulaire repas interligue -1-
URL:https://natation13.org/event/interligue-masters/
LOCATION:Aix-les-Bains\, Aix-les-Bains\, France
CATEGORIES:Evènements Artistique
END:VEVENT
END:VCALENDAR